BEGIN:VCALENDAR
VERSION:2.0
PRODID:-//Reformierte Kirchgemeinde Heimberg - ECPv6.15.20//NONSGML v1.0//EN
CALSCALE:GREGORIAN
METHOD:PUBLISH
X-WR-CALNAME:Reformierte Kirchgemeinde Heimberg
X-ORIGINAL-URL:https://kirche-heimberg.ch
X-WR-CALDESC:Veranstaltungen für Reformierte Kirchgemeinde Heimberg
REFRESH-INTERVAL;VALUE=DURATION:PT1H
X-Robots-Tag:noindex
X-PUBLISHED-TTL:PT1H
BEGIN:VTIMEZONE
TZID:Europe/Zurich
BEGIN:DAYLIGHT
TZOFFSETFROM:+0100
TZOFFSETTO:+0200
TZNAME:CEST
DTSTART:20230326T010000
END:DAYLIGHT
BEGIN:STANDARD
TZOFFSETFROM:+0200
TZOFFSETTO:+0100
TZNAME:CET
DTSTART:20231029T010000
END:STANDARD
BEGIN:DAYLIGHT
TZOFFSETFROM:+0100
TZOFFSETTO:+0200
TZNAME:CEST
DTSTART:20240331T010000
END:DAYLIGHT
BEGIN:STANDARD
TZOFFSETFROM:+0200
TZOFFSETTO:+0100
TZNAME:CET
DTSTART:20241027T010000
END:STANDARD
BEGIN:DAYLIGHT
TZOFFSETFROM:+0100
TZOFFSETTO:+0200
TZNAME:CEST
DTSTART:20250330T010000
END:DAYLIGHT
BEGIN:STANDARD
TZOFFSETFROM:+0200
TZOFFSETTO:+0100
TZNAME:CET
DTSTART:20251026T010000
END:STANDARD
END:VTIMEZONE
BEGIN:VEVENT
DTSTART;TZID=Europe/Zurich:20240707T093000
DTEND;TZID=Europe/Zurich:20240707T110000
DTSTAMP:20260423T000934
CREATED:20240417T110246Z
LAST-MODIFIED:20240508T135658Z
UID:10000193-1720344600-1720350000@kirche-heimberg.ch
SUMMARY:Gottesdienst
DESCRIPTION:Gottesdienst \nmit Pfr. Michael Albe \nMusik: Raphael Becker\, Orgel
URL:https://kirche-heimberg.ch/event/gottesdienst/
LOCATION:Kirche Heimberg\, Schulstrasse 5\, Heimberg\, 3627\, Schweiz
CATEGORIES:Gottesdienst
END:VEVENT
BEGIN:VEVENT
DTSTART;TZID=Europe/Zurich:20240703T093000
DTEND;TZID=Europe/Zurich:20240703T103000
DTSTAMP:20260423T000934
CREATED:20231227T140111Z
LAST-MODIFIED:20240110T143300Z
UID:10000095-1719999000-1720002600@kirche-heimberg.ch
SUMMARY:Singe mit de Chlyne
DESCRIPTION:In der ersten halben Stunde singen\, tanzen und musizieren wir zusammen mit dem kleinen Maulwurf.\nIm Anschluss haben wir Zeit für ein feines Znüni und gemeinsames Spielen. \nEin Angebot für Kinder von 0 bis 6 Jahren und ihre Eltern\, Geschwister\, Grosseltern\, Gotte\, Götti … \nPfrn. Yvonne Witschi\, Tel. 033 437 74 27.
URL:https://kirche-heimberg.ch/event/singe-mit-de-chlyne-15/
LOCATION:Kirchgemeindehaus Kaliforni (KGH)\, Lerchenweg 14\, Heimberg\, 3613\, Schweiz
CATEGORIES:Chlyne,Kinder
END:VEVENT
BEGIN:VEVENT
DTSTART;TZID=Europe/Zurich:20240703T085000
DTEND;TZID=Europe/Zurich:20240703T170000
DTSTAMP:20260423T000934
CREATED:20240625T113856Z
LAST-MODIFIED:20240625T113856Z
UID:10000221-1719996600-1720026000@kirche-heimberg.ch
SUMMARY:Wanderung Simme
DESCRIPTION:Wanderung Simme Gruppe 3
URL:https://kirche-heimberg.ch/event/wanderung-simme/
LOCATION:Kirche Heimberg\, Schulstrasse 5\, Heimberg\, 3627\, Schweiz
CATEGORIES:Senioren-Wandergruppe
END:VEVENT
BEGIN:VEVENT
DTSTART;TZID=Europe/Zurich:20240703T084500
DTEND;TZID=Europe/Zurich:20240703T170000
DTSTAMP:20260423T000934
CREATED:20240625T113518Z
LAST-MODIFIED:20240625T113518Z
UID:10000219-1719996300-1720026000@kirche-heimberg.ch
SUMMARY:Wanderung Lötschental
DESCRIPTION:Wanderung Lötschental Gruppe 1
URL:https://kirche-heimberg.ch/event/wanderung-loetschental/
LOCATION:Kirche Heimberg\, Schulstrasse 5\, Heimberg\, 3627\, Schweiz
CATEGORIES:Senioren-Wandergruppe
END:VEVENT
BEGIN:VEVENT
DTSTART;TZID=Europe/Zurich:20240703T070500
DTEND;TZID=Europe/Zurich:20240703T170000
DTSTAMP:20260423T000934
CREATED:20240625T113648Z
LAST-MODIFIED:20240625T113717Z
UID:10000220-1719990300-1720026000@kirche-heimberg.ch
SUMMARY:Wanderung Kernswald
DESCRIPTION: Wanderung Kernswald Gruppe 2
URL:https://kirche-heimberg.ch/event/wanderung-kernswald/
LOCATION:Kirche Heimberg\, Schulstrasse 5\, Heimberg\, 3627\, Schweiz
CATEGORIES:Senioren-Wandergruppe
END:VEVENT
BEGIN:VEVENT
DTSTART;TZID=Europe/Zurich:20240702T200000
DTEND;TZID=Europe/Zurich:20240702T210000
DTSTAMP:20260423T000934
CREATED:20231227T141822Z
LAST-MODIFIED:20231227T141822Z
UID:10000124-1719950400-1719954000@kirche-heimberg.ch
SUMMARY:Andacht zu Gewalt und Krieg in der Welt
DESCRIPTION:mit Pfr. Michael Albe
URL:https://kirche-heimberg.ch/event/andacht-zu-gewalt-und-krieg-in-der-welt-8/
LOCATION:Kirche Heimberg\, Schulstrasse 5\, Heimberg\, 3627\, Schweiz
CATEGORIES:Gottesdienst
END:VEVENT
BEGIN:VEVENT
DTSTART;TZID=Europe/Zurich:20240630T190000
DTEND;TZID=Europe/Zurich:20240630T200000
DTSTAMP:20260423T000934
CREATED:20240417T093657Z
LAST-MODIFIED:20240508T135658Z
UID:10000185-1719774000-1719777600@kirche-heimberg.ch
SUMMARY:Abendgottesdienst
DESCRIPTION:Abendgottesdienst \nmit Pfr. Andreas Losch \nMusik: Ruth Blaser\, Orgel
URL:https://kirche-heimberg.ch/event/abendgottesdienst-7/
LOCATION:Kirche Heimberg\, Schulstrasse 5\, Heimberg\, 3627\, Schweiz
CATEGORIES:Gottesdienst
END:VEVENT
BEGIN:VEVENT
DTSTART;TZID=Europe/Zurich:20240624T190000
DTEND;TZID=Europe/Zurich:20240624T203000
DTSTAMP:20260423T000934
CREATED:20240305T113640Z
LAST-MODIFIED:20240823T085356Z
UID:10000176-1719255600-1719261000@kirche-heimberg.ch
SUMMARY:Sprachkaffee Deutsch
DESCRIPTION:Sie lernen Deutsch\, Ihnen fehlt aber die Möglichkeit\, die Sprache anzuwenden. Im Sprachkaffee bieten wir Ihnen die Gelegenheit\, Ihr Deutsch zu üben und zu verbessern. Bei Kaffee oder Tee sprechen wir in lockerer Atmosphäre über verschiedene Themen\, angepasst auf jedes Sprachniveau.\nSind Sie interessiert? Dann sind Sie herzlich eingeladen. \nDas Angebot ist gratis und kann ohne Anmeldung besucht werden. \nFragen: Susanne Geiser\, Tel. 079 769 40 60
URL:https://kirche-heimberg.ch/event/sprachkaffee-deutsch-10/
LOCATION:Pavillon bei der Kirche\, Schulstrasse 5\, Heimberg\, 3627\, Schweiz
CATEGORIES:Diverses,Erwachsene,Kirchgemeinde,Sprachkaffee
END:VEVENT
BEGIN:VEVENT
DTSTART;TZID=Europe/Zurich:20240623T190000
DTEND;TZID=Europe/Zurich:20240623T210000
DTSTAMP:20260423T000934
CREATED:20240424T141552Z
LAST-MODIFIED:20240615T061755Z
UID:10000215-1719169200-1719176400@kirche-heimberg.ch
SUMMARY:Sommerkonzert Kirchenchor
DESCRIPTION:Flyer Sommerkonzert 2024
URL:https://kirche-heimberg.ch/event/sommerkonzert-kirchenchor-2/
LOCATION:Kirche Heimberg\, Schulstrasse 5\, Heimberg\, 3627\, Schweiz
CATEGORIES:Kulturelles
ATTACH;FMTTYPE=image/png:https://kirche-heimberg.ch/wp-content/uploads/2024/04/Sommerkonzert24.png
END:VEVENT
BEGIN:VEVENT
DTSTART;TZID=Europe/Zurich:20240623T093000
DTEND;TZID=Europe/Zurich:20240623T110000
DTSTAMP:20260423T000934
CREATED:20240417T093133Z
LAST-MODIFIED:20240513T074956Z
UID:10000184-1719135000-1719140400@kirche-heimberg.ch
SUMMARY:Taufgottesdienst
DESCRIPTION:Taufgottesdienst unter freiem Himmel am Zulgspitz \nmit Pfr. Michael Albe \nMusik: Raphael Becker \nAnmeldung sind bis 31.Mai möglich bei: \nPfr. Michael Albe\, Tel.:076 766 25 42 oder michael.albe@kirche-heimberg.ch \nBei schlechtem Wetter findet der Gottesdienst im Kirchgemeindehaus Kaliforni statt. \n 
URL:https://kirche-heimberg.ch/event/taufgottesdienst/
LOCATION:Kirchgemeindehaus Kaliforni (KGH)\, Lerchenweg 14\, Heimberg\, 3613\, Schweiz
CATEGORIES:Gottesdienst
END:VEVENT
BEGIN:VEVENT
DTSTART;TZID=Europe/Zurich:20240622T170000
DTEND;TZID=Europe/Zurich:20240623T120000
DTSTAMP:20260423T000934
CREATED:20240422T120609Z
LAST-MODIFIED:20240422T120757Z
UID:10000212-1719075600-1719144000@kirche-heimberg.ch
SUMMARY:enterTrainings- Ausbildung für junge Leitende
DESCRIPTION:Samstag\, 22. Juni\, 17 Uhr bis Sonntag\, 23. Juni\, 12 Uhr im Kirchgemeindehaus Kaliforni. \n  \nenterTrainings Flyer \n 
URL:https://kirche-heimberg.ch/event/entertrainings-ausbildung-fuer-junge-leitende/
LOCATION:Kirche Heimberg\, Schulstrasse 5\, Heimberg\, 3627\, Schweiz
END:VEVENT
BEGIN:VEVENT
DTSTART;TZID=Europe/Zurich:20240621T160000
DTEND;TZID=Europe/Zurich:20240622T110000
DTSTAMP:20260423T000934
CREATED:20240422T115736Z
LAST-MODIFIED:20240422T115736Z
UID:10000211-1718985600-1719054000@kirche-heimberg.ch
SUMMARY:Kirchennacht für Kinder und Jugendliche
DESCRIPTION:Für Kinder und Jugendliche von 7 bis 12 Jahren. \nFreitag 21. Juni\, 16 Uhr bis Samstag\, 22 Juni\, 11 Uhr\, Kirchgemeindehaus Kaliforni. \nKirchennacht 2024
URL:https://kirche-heimberg.ch/event/kirchennacht-fuer-kinder-und-jugendliche/
LOCATION:Kirchgemeindehaus Kaliforni (KGH)\, Lerchenweg 14\, Heimberg\, 3613\, Schweiz
END:VEVENT
BEGIN:VEVENT
DTSTART;VALUE=DATE:20240620
DTEND;VALUE=DATE:20240621
DTSTAMP:20260423T000934
CREATED:20240517T091739Z
LAST-MODIFIED:20240615T061342Z
UID:10000217-1718841600-1718927999@kirche-heimberg.ch
SUMMARY:Tagesausflug Seleger Moor
DESCRIPTION:Anmeldung bis 6. Juni an Susanne Geiser \nTel. 079 769 40 60 \n 
URL:https://kirche-heimberg.ch/event/tagesausflug-seleger-moor/
LOCATION:Kirche Heimberg\, Schulstrasse 5\, Heimberg\, 3627\, Schweiz
CATEGORIES:Senioren,Senioren-Nachmittage
END:VEVENT
BEGIN:VEVENT
DTSTART;TZID=Europe/Zurich:20240619T093000
DTEND;TZID=Europe/Zurich:20240619T103000
DTSTAMP:20260423T000934
CREATED:20231227T140054Z
LAST-MODIFIED:20240110T143308Z
UID:10000094-1718789400-1718793000@kirche-heimberg.ch
SUMMARY:Singe mit de Chlyne
DESCRIPTION:In der ersten halben Stunde singen\, tanzen und musizieren wir zusammen mit dem kleinen Maulwurf.\nIm Anschluss haben wir Zeit für ein feines Znüni und gemeinsames Spielen. \nEin Angebot für Kinder von 0 bis 6 Jahren und ihre Eltern\, Geschwister\, Grosseltern\, Gotte\, Götti … \nPfrn. Yvonne Witschi\, Tel. 033 437 74 27.
URL:https://kirche-heimberg.ch/event/singe-mit-de-chlyne-14/
LOCATION:Pavillon bei der Kirche\, Schulstrasse 5\, Heimberg\, 3627\, Schweiz
CATEGORIES:Chlyne,Kinder
END:VEVENT
BEGIN:VEVENT
DTSTART;TZID=Europe/Zurich:20240616T093000
DTEND;TZID=Europe/Zurich:20240616T110000
DTSTAMP:20260423T000934
CREATED:20240405T133000Z
LAST-MODIFIED:20240508T135658Z
UID:10000181-1718530200-1718535600@kirche-heimberg.ch
SUMMARY:Morgengottesdienst
DESCRIPTION:mit Pfr. Andreas Losch\nmit Taufe\nMusik: Jugendmusik \n 
URL:https://kirche-heimberg.ch/event/morgengottesdienst-12/
LOCATION:Kirche Heimberg\, Schulstrasse 5\, Heimberg\, 3627\, Schweiz
CATEGORIES:Gottesdienst
END:VEVENT
BEGIN:VEVENT
DTSTART;TZID=Europe/Zurich:20240615T100000
DTEND;TZID=Europe/Zurich:20240615T104500
DTSTAMP:20260423T000934
CREATED:20231220T082259Z
LAST-MODIFIED:20240110T144249Z
UID:10000058-1718445600-1718448300@kirche-heimberg.ch
SUMMARY:Fyre mit de Chlyne
DESCRIPTION:We dr Esel verzeut …\nAb 9.30 Uhr gemütliches Ankommen bei Tee\, Kaffee und kleinen Leckereien. \nFeier mit biblischer Geschichte\, Liedern\, Kerzen und Gebet. \nEin Angebot für Kinder von 3 bis 7 Jahren und ihre Eltern\, Geschwister\, Grosseltern\, Gotte\, Götti … \nPfrn. Yvonne Witschi\, Tel. 033 437 74 27.
URL:https://kirche-heimberg.ch/event/fyre-mit-de-chlyne-3/
LOCATION:Kirchgemeindehaus Kaliforni (KGH)\, Lerchenweg 14\, Heimberg\, 3613\, Schweiz
CATEGORIES:Chlyne,Kinder
END:VEVENT
BEGIN:VEVENT
DTSTART;TZID=Europe/Zurich:20240614T100000
DTEND;TZID=Europe/Zurich:20240614T110000
DTSTAMP:20260423T000934
CREATED:20231227T141343Z
LAST-MODIFIED:20231227T141343Z
UID:10000113-1718359200-1718362800@kirche-heimberg.ch
SUMMARY:Altersheimpredigt
DESCRIPTION:mit Pfr. Michael Albe\nMusik: Flötengruppe
URL:https://kirche-heimberg.ch/event/altersheimpredigt-14/
LOCATION:Wohnheim Riedacker\, Riedackerstrasse 12\, 3627 Heimberg\, Schweiz
CATEGORIES:Gottesdienst
END:VEVENT
BEGIN:VEVENT
DTSTART;TZID=Europe/Zurich:20240613T190000
DTEND;TZID=Europe/Zurich:20240613T203000
DTSTAMP:20260423T000934
CREATED:20240412T115055Z
LAST-MODIFIED:20240527T204044Z
UID:10000182-1718305200-1718310600@kirche-heimberg.ch
SUMMARY:Unendliche Weiten? Nachhaltigkeit im Weltraum
DESCRIPTION:Denkt man an den Weltraum\, denkt man an unvorstellbare Grössen und unendliche Weiten. Dabei sind unsere wichtigsten Orbits schon ziemlich voll\, auch mit Schrott\, und der Platz ist begrenzt. Was aber\, wenn unsere Weltraumumgebung überfüllt und unbrauchbar würde?\nWie können wir nachhaltig in den Weltraum aufbrechen?\nUnsere Zeit auf der Erde ist schliesslich begrenzt. \nHinweis: die Veranstaltung wurde in die Aula verlegt. \nFlyer
URL:https://kirche-heimberg.ch/event/unendliche-weiten-nachhaltigkeit-im-weltraum/
LOCATION:Aula Heimberg\, Schulstrasse 14\, Heimberg\, 3627\, Schweiz
CATEGORIES:Erwachsene,Kulturelles
ATTACH;FMTTYPE=image/jpeg:https://kirche-heimberg.ch/wp-content/uploads/2024/04/earth-from-space-33.jpg
END:VEVENT
BEGIN:VEVENT
DTSTART;TZID=Europe/Zurich:20240613T120000
DTEND;TZID=Europe/Zurich:20240613T133000
DTSTAMP:20260423T000934
CREATED:20231227T142643Z
LAST-MODIFIED:20231227T142643Z
UID:10000135-1718280000-1718285400@kirche-heimberg.ch
SUMMARY:Mittagstisch
DESCRIPTION:Einmal im Monat andere Leute treffen\, gemeinsam essen\, neue Kontakte knüpfen und das Zusammensein pflegen. Das ist die Idee des Mittagstischs. Er findet jeweils am zweiten Donnerstag im Monat statt. \nEinfaches Tagesmenü aus der Transfair-Küche: Tagesteller\, Dessert inkl. Getränk.\nRichtpreis Fr. 10.- pro Person (vorschulpflichtige Kinder gratis\, bis 10 Jahre Fr. 6.-). \nAnmeldung bis am Dienstag um 9 Uhr bei: Rosmarie Ottmann\, Tel. 033 437 69 16 oder bei Susi Wisler\,\nTel. 033 437 95 41. \nFreundlich lädt ein:\nParitätische Arbeitsgruppe Kaliforni
URL:https://kirche-heimberg.ch/event/mittagstisch-9/
LOCATION:Kirchgemeindehaus Kaliforni (KGH)\, Lerchenweg 14\, Heimberg\, 3613\, Schweiz
CATEGORIES:Diverses,Gemeinsam essen,Kirchgemeinde
END:VEVENT
BEGIN:VEVENT
DTSTART;TZID=Europe/Zurich:20240610T190000
DTEND;TZID=Europe/Zurich:20240610T203000
DTSTAMP:20260423T000934
CREATED:20240305T113626Z
LAST-MODIFIED:20240823T085250Z
UID:10000175-1718046000-1718051400@kirche-heimberg.ch
SUMMARY:Sprachkaffee Deutsch
DESCRIPTION:Sie lernen Deutsch\, Ihnen fehlt aber die Möglichkeit\, die Sprache anzuwenden. Im Sprachkaffee bieten wir Ihnen die Gelegenheit\, Ihr Deutsch zu üben und zu verbessern. Bei Kaffee oder Tee sprechen wir in lockerer Atmosphäre über verschiedene Themen\, angepasst auf jedes Sprachniveau.\nSind Sie interessiert? Dann sind Sie herzlich eingeladen. \nDas Angebot ist gratis und kann ohne Anmeldung besucht werden. \nFragen: Susanne Geiser\, Tel. 079 769 40 60
URL:https://kirche-heimberg.ch/event/sprachkaffee-deutsch-9/
LOCATION:Pavillon bei der Kirche\, Schulstrasse 5\, Heimberg\, 3627\, Schweiz
CATEGORIES:Diverses,Erwachsene,Kirchgemeinde,Sprachkaffee
END:VEVENT
BEGIN:VEVENT
DTSTART;TZID=Europe/Zurich:20240609T093000
DTEND;TZID=Europe/Zurich:20240609T110000
DTSTAMP:20260423T000934
CREATED:20240405T132856Z
LAST-MODIFIED:20240405T133358Z
UID:10000180-1717925400-1717930800@kirche-heimberg.ch
SUMMARY:Morgengottesdienst
DESCRIPTION:mit Pfrn. Bettina Stephan (Steffisburg)\nMusik: Roland Finsterwalder\, Orgel \n 
URL:https://kirche-heimberg.ch/event/morgengottesdienst-11/
LOCATION:Kirchgemeindehaus Kaliforni (KGH)\, Lerchenweg 14\, Heimberg\, 3613\, Schweiz
CATEGORIES:Gottesdienst
END:VEVENT
BEGIN:VEVENT
DTSTART;TZID=Europe/Zurich:20240605T093000
DTEND;TZID=Europe/Zurich:20240605T103000
DTSTAMP:20260423T000934
CREATED:20231227T140031Z
LAST-MODIFIED:20240110T143317Z
UID:10000093-1717579800-1717583400@kirche-heimberg.ch
SUMMARY:Singe mit de Chlyne
DESCRIPTION:In der ersten halben Stunde singen\, tanzen und musizieren wir zusammen mit dem kleinen Maulwurf.\nIm Anschluss haben wir Zeit für ein feines Znüni und gemeinsames Spielen. \nEin Angebot für Kinder von 0 bis 6 Jahren und ihre Eltern\, Geschwister\, Grosseltern\, Gotte\, Götti … \nPfrn. Yvonne Witschi\, Tel. 033 437 74 27.
URL:https://kirche-heimberg.ch/event/singe-mit-de-chlyne-13/
LOCATION:Kirchgemeindehaus Kaliforni (KGH)\, Lerchenweg 14\, Heimberg\, 3613\, Schweiz
CATEGORIES:Chlyne,Kinder
END:VEVENT
BEGIN:VEVENT
DTSTART;TZID=Europe/Zurich:20240604T200000
DTEND;TZID=Europe/Zurich:20240604T210000
DTSTAMP:20260423T000934
CREATED:20231227T141808Z
LAST-MODIFIED:20231227T141808Z
UID:10000123-1717531200-1717534800@kirche-heimberg.ch
SUMMARY:Andacht zu Gewalt und Krieg in der Welt
DESCRIPTION:mit Pfr. Michael Albe
URL:https://kirche-heimberg.ch/event/andacht-zu-gewalt-und-krieg-in-der-welt-7/
LOCATION:Kirche Heimberg\, Schulstrasse 5\, Heimberg\, 3627\, Schweiz
CATEGORIES:Gottesdienst
END:VEVENT
BEGIN:VEVENT
DTSTART;TZID=Europe/Zurich:20240602T093000
DTEND;TZID=Europe/Zurich:20240602T110000
DTSTAMP:20260423T000934
CREATED:20240405T132335Z
LAST-MODIFIED:20240405T132335Z
UID:10000179-1717320600-1717326000@kirche-heimberg.ch
SUMMARY:Morgengottesdienst
DESCRIPTION:mit Pfr. Michael Albe\nMusik: Corinna Bühler\, Orgel
URL:https://kirche-heimberg.ch/event/morgengottesdienst-10/
LOCATION:Kirche Heimberg\, Schulstrasse 5\, Heimberg\, 3627\, Schweiz
CATEGORIES:Gottesdienst
END:VEVENT
BEGIN:VEVENT
DTSTART;TZID=Europe/Zurich:20240527T190000
DTEND;TZID=Europe/Zurich:20240527T203000
DTSTAMP:20260423T000934
CREATED:20240305T113611Z
LAST-MODIFIED:20240823T085250Z
UID:10000174-1716836400-1716841800@kirche-heimberg.ch
SUMMARY:Sprachkaffee Deutsch
DESCRIPTION:Sie lernen Deutsch\, Ihnen fehlt aber die Möglichkeit\, die Sprache anzuwenden. Im Sprachkaffee bieten wir Ihnen die Gelegenheit\, Ihr Deutsch zu üben und zu verbessern. Bei Kaffee oder Tee sprechen wir in lockerer Atmosphäre über verschiedene Themen\, angepasst auf jedes Sprachniveau.\nSind Sie interessiert? Dann sind Sie herzlich eingeladen. \nDas Angebot ist gratis und kann ohne Anmeldung besucht werden. \nFragen: Susanne Geiser\, Tel. 079 769 40 60
URL:https://kirche-heimberg.ch/event/sprachkaffee-deutsch-8/
LOCATION:Pavillon bei der Kirche\, Schulstrasse 5\, Heimberg\, 3627\, Schweiz
CATEGORIES:Diverses,Erwachsene,Kirchgemeinde,Sprachkaffee
END:VEVENT
BEGIN:VEVENT
DTSTART;TZID=Europe/Zurich:20240526T093000
DTEND;TZID=Europe/Zurich:20240526T110000
DTSTAMP:20260423T000934
CREATED:20240405T132017Z
LAST-MODIFIED:20240405T132211Z
UID:10000178-1716715800-1716721200@kirche-heimberg.ch
SUMMARY:Konfirmations-Gottesdienst
DESCRIPTION:mit Katechetin/Prädikantin Regula Berger\nMusik: Corinna Bühler\, Orgel
URL:https://kirche-heimberg.ch/event/konfirmation/
LOCATION:Kirche Heimberg\, Schulstrasse 5\, Heimberg\, 3627\, Schweiz
CATEGORIES:Gottesdienst
END:VEVENT
BEGIN:VEVENT
DTSTART;TZID=Europe/Zurich:20240522T093000
DTEND;TZID=Europe/Zurich:20240522T103000
DTSTAMP:20260423T000934
CREATED:20231227T135946Z
LAST-MODIFIED:20240110T143324Z
UID:10000092-1716370200-1716373800@kirche-heimberg.ch
SUMMARY:Singe mit de Chlyne
DESCRIPTION:In der ersten halben Stunde singen\, tanzen und musizieren wir zusammen mit dem kleinen Maulwurf.\nIm Anschluss haben wir Zeit für ein feines Znüni und gemeinsames Spielen. \nEin Angebot für Kinder von 0 bis 6 Jahren und ihre Eltern\, Geschwister\, Grosseltern\, Gotte\, Götti … \nPfrn. Yvonne Witschi\, Tel. 033 437 74 27.
URL:https://kirche-heimberg.ch/event/singe-mit-de-chlyne-12/
LOCATION:Pavillon bei der Kirche\, Schulstrasse 5\, Heimberg\, 3627\, Schweiz
CATEGORIES:Chlyne,Kinder
END:VEVENT
BEGIN:VEVENT
DTSTART;TZID=Europe/Zurich:20240522T080000
DTEND;TZID=Europe/Zurich:20240522T170000
DTSTAMP:20260423T000934
CREATED:20240507T124426Z
LAST-MODIFIED:20240507T124426Z
UID:10000216-1716364800-1716397200@kirche-heimberg.ch
SUMMARY:Senioren-Wandergruppe
DESCRIPTION:Wanderung Sonnenberg Gruppe 1 \nWanderung Escholzmatt – Schüpfheim Gruppe 2 \nWanderung Allmendingen – Rubigen Gruppe 3 \n 
URL:https://kirche-heimberg.ch/event/senioren-wandergruppe/
LOCATION:Auswärts
END:VEVENT
BEGIN:VEVENT
DTSTART;TZID=Europe/Zurich:20240521T100000
DTEND;TZID=Europe/Zurich:20240521T110000
DTSTAMP:20260423T000934
CREATED:20231227T140716Z
LAST-MODIFIED:20231227T140716Z
UID:10000105-1716285600-1716289200@kirche-heimberg.ch
SUMMARY:Altersheimpredigt
DESCRIPTION:mit Pfr. Michael Albe.\nMusik: Lee Stalder
URL:https://kirche-heimberg.ch/event/altersheimpredigt-6/
LOCATION:Alterszentrum Heimberg\, Auweg 67\, Heimberg\, 3627\, Schweiz
CATEGORIES:Gottesdienst
END:VEVENT
BEGIN:VEVENT
DTSTART;TZID=Europe/Zurich:20240519T093000
DTEND;TZID=Europe/Zurich:20240519T110000
DTSTAMP:20260423T000934
CREATED:20240405T131756Z
LAST-MODIFIED:20240405T131756Z
UID:10000177-1716111000-1716116400@kirche-heimberg.ch
SUMMARY:Pfingst-Gottesdienst
DESCRIPTION:mit Pfr. Andreas Losch\nMusik: Raphael Becker\, Orgel
URL:https://kirche-heimberg.ch/event/pfingst-gottesdienst/
LOCATION:Kirche Heimberg\, Schulstrasse 5\, Heimberg\, 3627\, Schweiz
CATEGORIES:Gottesdienst
END:VEVENT
END:VCALENDAR