BEGIN:VCALENDAR
VERSION:2.0
PRODID:-//Reformierte Kirchgemeinde Heimberg - ECPv6.15.20//NONSGML v1.0//EN
CALSCALE:GREGORIAN
METHOD:PUBLISH
X-WR-CALNAME:Reformierte Kirchgemeinde Heimberg
X-ORIGINAL-URL:https://kirche-heimberg.ch
X-WR-CALDESC:Veranstaltungen für Reformierte Kirchgemeinde Heimberg
REFRESH-INTERVAL;VALUE=DURATION:PT1H
X-Robots-Tag:noindex
X-PUBLISHED-TTL:PT1H
BEGIN:VTIMEZONE
TZID:Europe/Zurich
BEGIN:DAYLIGHT
TZOFFSETFROM:+0100
TZOFFSETTO:+0200
TZNAME:CEST
DTSTART:20220327T010000
END:DAYLIGHT
BEGIN:STANDARD
TZOFFSETFROM:+0200
TZOFFSETTO:+0100
TZNAME:CET
DTSTART:20221030T010000
END:STANDARD
BEGIN:DAYLIGHT
TZOFFSETFROM:+0100
TZOFFSETTO:+0200
TZNAME:CEST
DTSTART:20230326T010000
END:DAYLIGHT
BEGIN:STANDARD
TZOFFSETFROM:+0200
TZOFFSETTO:+0100
TZNAME:CET
DTSTART:20231029T010000
END:STANDARD
BEGIN:DAYLIGHT
TZOFFSETFROM:+0100
TZOFFSETTO:+0200
TZNAME:CEST
DTSTART:20240331T010000
END:DAYLIGHT
BEGIN:STANDARD
TZOFFSETFROM:+0200
TZOFFSETTO:+0100
TZNAME:CET
DTSTART:20241027T010000
END:STANDARD
END:VTIMEZONE
BEGIN:VEVENT
DTSTART;TZID=Europe/Zurich:20231218T090000
DTEND;TZID=Europe/Zurich:20231218T100000
DTSTAMP:20260423T053616
CREATED:20231126T211737Z
LAST-MODIFIED:20231126T211737Z
UID:10000046-1702890000-1702893600@kirche-heimberg.ch
SUMMARY:Friedenslicht
DESCRIPTION:Friedenslicht\nOffizielle Ankunft in der Schweiz: Sonntag\, 17. Dezember\, ab 17 Uhr. \nDas Friedenslicht kann zum zweiten Mal in Heimberg in der Kirche abgeholt werden: Montag\, 18.12.\, 9 bis 10 Uhr; Dienstag\, 19.12.\, 17 bis 18 Uhr und täglich vor der Eingangstür der Kirche. \nInformationen zum Friedenslicht: www.friedenslicht.ch \n 
URL:https://kirche-heimberg.ch/event/friedenslicht/
LOCATION:Kirche Heimberg\, Schulstrasse 5\, Heimberg\, 3627\, Schweiz
CATEGORIES:Spiritualität
END:VEVENT
BEGIN:VEVENT
DTSTART;TZID=Europe/Zurich:20231217T160000
DTEND;TZID=Europe/Zurich:20231217T180000
DTSTAMP:20260423T053616
CREATED:20231126T211557Z
LAST-MODIFIED:20231126T211557Z
UID:10000045-1702828800-1702836000@kirche-heimberg.ch
SUMMARY:Raum der Stille
DESCRIPTION:Für die persönliche Besinnung bei Kerzenlicht und festlicher Musik.
URL:https://kirche-heimberg.ch/event/raum-der-stille-2/
LOCATION:Kirchgemeindehaus Kaliforni (KGH)\, Lerchenweg 14\, Heimberg\, 3613\, Schweiz
CATEGORIES:Diverses,Spiritualität
END:VEVENT
BEGIN:VEVENT
DTSTART;TZID=Europe/Zurich:20231217T110000
DTEND;TZID=Europe/Zurich:20231217T170000
DTSTAMP:20260423T053616
CREATED:20231024T205714Z
LAST-MODIFIED:20231126T223136Z
UID:10000033-1702810800-1702832400@kirche-heimberg.ch
SUMMARY:Seniorennachmittag
DESCRIPTION:Seniorenweihnachtsfeier\nmit der Brassband „the Tubes“ und Pfr. Andreas Losch \nAnschliessend Mittagessen
URL:https://kirche-heimberg.ch/event/seniorennachmittag-3/
LOCATION:Aula Heimberg\, Schulstrasse 14\, Heimberg\, 3627\, Schweiz
CATEGORIES:Senioren,Senioren-Nachmittage
ATTACH;FMTTYPE=image/jpeg:https://kirche-heimberg.ch/wp-content/uploads/2023/10/Seniorennachmittage.jpg
END:VEVENT
BEGIN:VEVENT
DTSTART;TZID=Europe/Zurich:20231217T110000
DTEND;TZID=Europe/Zurich:20231217T133000
DTSTAMP:20260423T053616
CREATED:20231126T201933Z
LAST-MODIFIED:20231126T201933Z
UID:10000035-1702810800-1702819800@kirche-heimberg.ch
SUMMARY:Seniorenweihnachtsfeier
DESCRIPTION:mit Pfr. Andreas Losch\nMitwirkung: Brassband „The Tubes“\nAnschliessend Mittagessen
URL:https://kirche-heimberg.ch/event/seniorenweihnachtsfeier/
LOCATION:Aula Heimberg\, Schulstrasse 14\, Heimberg\, 3627\, Schweiz
CATEGORIES:Gottesdienst,Senioren
END:VEVENT
BEGIN:VEVENT
DTSTART;TZID=Europe/Zurich:20231214T120000
DTEND;TZID=Europe/Zurich:20231214T133000
DTSTAMP:20260423T053616
CREATED:20230428T071727Z
LAST-MODIFIED:20231126T211434Z
UID:10000014-1702555200-1702560600@kirche-heimberg.ch
SUMMARY:Mittagstisch
DESCRIPTION:Einmal im Monat andere Leute treffen\, gemeinsam essen\, neue Kontakte knüpfen und das Zusammensein pflegen. Das ist die Idee des Mittagstischs. Er findet jeweils am zweiten Donnerstag im Monat statt. \nEinfaches Tagesmenü aus der Transfair-Küche: Tagesteller\, Dessert inkl. Getränk.\nRichtpreis Fr. 10.- pro Person (vorschulpflichtige Kinder gratis\, bis 10 Jahre Fr. 6.-). \nAnmeldung bis am Dienstag um 9 Uhr bei: Rosmarie Ottmann\, Tel. 033 437 69 16 oder bei Susi Wisler\,\nTel. 033 437 95 41. \nFreundlich lädt ein:\nParitätische Arbeitsgruppe Kaliforni
URL:https://kirche-heimberg.ch/event/mittagstisch/
LOCATION:Kirchgemeindehaus Kaliforni (KGH)\, Lerchenweg 14\, Heimberg\, 3613\, Schweiz
CATEGORIES:Diverses,Gemeinsam essen,Kirchgemeinde
END:VEVENT
BEGIN:VEVENT
DTSTART;TZID=Europe/Zurich:20231211T090000
DTEND;TZID=Europe/Zurich:20231211T110000
DTSTAMP:20260423T053616
CREATED:20230816T183835Z
LAST-MODIFIED:20231126T203956Z
UID:10000022-1702285200-1702292400@kirche-heimberg.ch
SUMMARY:Froueträff
DESCRIPTION:Adventsfeier. Die Flötengruppe spielt.
URL:https://kirche-heimberg.ch/event/frouetraeff/
LOCATION:Kirchgemeindehaus Kaliforni (KGH)\, Lerchenweg 14\, Heimberg\, 3613\, Schweiz
CATEGORIES:Erwachsene,Kirchgemeinde
END:VEVENT
BEGIN:VEVENT
DTSTART;TZID=Europe/Zurich:20231210T170000
DTEND;TZID=Europe/Zurich:20231210T180000
DTSTAMP:20260423T053616
CREATED:20231126T203832Z
LAST-MODIFIED:20231126T203849Z
UID:10000044-1702227600-1702231200@kirche-heimberg.ch
SUMMARY:Adventskonzert Kirchenchor und Quintett
DESCRIPTION:Der Chor singt die „Kleine Weihnachtsmesse für die Kaiserin nach alten slowakischen Weisen“.\nLeitung: Osvaldo Ovejero. Eintritt frei – Kollekte.
URL:https://kirche-heimberg.ch/event/adventskonzert-kirchenchor-und-quintett/
LOCATION:Kirche Heimberg\, Schulstrasse 5\, Heimberg\, 3627\, Schweiz
CATEGORIES:Kirchgemeinde,Kulturelles
END:VEVENT
BEGIN:VEVENT
DTSTART;TZID=Europe/Zurich:20231210T160000
DTEND;TZID=Europe/Zurich:20231210T180000
DTSTAMP:20260423T053616
CREATED:20231126T203734Z
LAST-MODIFIED:20231126T203740Z
UID:10000043-1702224000-1702231200@kirche-heimberg.ch
SUMMARY:Raum der Stille
DESCRIPTION:Für die persönliche Besinnung bei Kerzenlicht und festlicher Musik.
URL:https://kirche-heimberg.ch/event/raum-der-stille/
LOCATION:Kirchgemeindehaus Kaliforni (KGH)\, Lerchenweg 14\, Heimberg\, 3613\, Schweiz
CATEGORIES:Diverses,Spiritualität
END:VEVENT
BEGIN:VEVENT
DTSTART;TZID=Europe/Zurich:20231209T100000
DTEND;TZID=Europe/Zurich:20231209T110000
DTSTAMP:20260423T053616
CREATED:20231126T202907Z
LAST-MODIFIED:20240110T144302Z
UID:10000042-1702116000-1702119600@kirche-heimberg.ch
SUMMARY:Fyre mit de Chlyne
DESCRIPTION:Maria und der Engel \nAb 9.30 Uhr gemütliches Ankommen bei Tee\, Kaffee und kleinen Leckereien. \nFeier mit biblischer Geschichte\, Liedern\, Kerzen und Gebet. \nEin Angebot für Kinder von 3 bis 7 Jahren und ihre Eltern\, Geschwister\, Grosseltern\, Gotte\, Götti … \nPfrn. Yvonne Witschi\, Tel. 033 437 74 27.
URL:https://kirche-heimberg.ch/event/fyre-mit-de-chlyne/
LOCATION:Kirche Heimberg\, Schulstrasse 5\, Heimberg\, 3627\, Schweiz
CATEGORIES:Chlyne,Kinder
END:VEVENT
BEGIN:VEVENT
DTSTART;TZID=Europe/Zurich:20231208T080000
DTEND;TZID=Europe/Zurich:20231208T170000
DTSTAMP:20260423T053616
CREATED:20231126T202755Z
LAST-MODIFIED:20231126T202755Z
UID:10000041-1702022400-1702054800@kirche-heimberg.ch
SUMMARY:Kinderznacht mit Basteln
DESCRIPTION:Für 7- bis 12-Jährige \nGemeinsam essen wir und basteln anschliessend etwas für Weihnachten. \nAnmeldung bis 4. Dezember bei: Regula Berger\, Tel. 079 383 95 52 oder regula.berger@kirche-heimberg.ch \n 
URL:https://kirche-heimberg.ch/event/kinderznacht-mit-basteln/
LOCATION:Pavillon bei der Kirche\, Schulstrasse 5\, Heimberg\, 3627\, Schweiz
CATEGORIES:Kinder
END:VEVENT
BEGIN:VEVENT
DTSTART;TZID=Europe/Zurich:20231205T200000
DTEND;TZID=Europe/Zurich:20231205T210000
DTSTAMP:20260423T053616
CREATED:20230423T192305Z
LAST-MODIFIED:20231129T100804Z
UID:10000004-1701806400-1701810000@kirche-heimberg.ch
SUMMARY:Andacht zu Gewalt und Krieg in der Welt
DESCRIPTION:mit Pfr. Michael Albe
URL:https://kirche-heimberg.ch/event/andacht-zum-krieg-in-der-ukraine/
LOCATION:Kirche Heimberg\, Schulstrasse 5\, Heimberg\, 3627\, Schweiz
CATEGORIES:Gottesdienst
END:VEVENT
BEGIN:VEVENT
DTSTART;TZID=Europe/Zurich:20231205T140000
DTEND;TZID=Europe/Zurich:20231205T160000
DTSTAMP:20260423T053616
CREATED:20230920T045824Z
LAST-MODIFIED:20231126T202654Z
UID:10000024-1701784800-1701792000@kirche-heimberg.ch
SUMMARY:Café-Treff-Punkt
DESCRIPTION:Zusammensein\, ungezwungen Gespräche führen und sich austauschen. \nDer Café-Treff-Punkt steht allen offen.\nFreiwilliger Unkostenbeitrag.
URL:https://kirche-heimberg.ch/event/cafe-treff-punkt-4/
LOCATION:Pavillon bei der Kirche\, Schulstrasse 5\, Heimberg\, 3627\, Schweiz
CATEGORIES:Diverses,Kirchgemeinde
END:VEVENT
BEGIN:VEVENT
DTSTART;TZID=Europe/Zurich:20231203T170000
DTEND;TZID=Europe/Zurich:20231203T180000
DTSTAMP:20260423T053616
CREATED:20231126T202025Z
LAST-MODIFIED:20231129T100721Z
UID:10000036-1701622800-1701626400@kirche-heimberg.ch
SUMMARY:Gottesdienst und Eröffnung "Raum der Stille"
DESCRIPTION:mit Pfr. Michael Albe
URL:https://kirche-heimberg.ch/event/gottesdienst-und-eroeffnung-raum-der-stille/
LOCATION:Kirchgemeindehaus Kaliforni (KGH)\, Lerchenweg 14\, Heimberg\, 3613\, Schweiz
CATEGORIES:Gottesdienst
END:VEVENT
BEGIN:VEVENT
DTSTART;TZID=Europe/Zurich:20231126T093000
DTEND;TZID=Europe/Zurich:20231126T103000
DTSTAMP:20260423T053616
CREATED:20230421T151514Z
LAST-MODIFIED:20231024T205451Z
UID:10000001-1700991000-1700994600@kirche-heimberg.ch
SUMMARY:Ewigkeitssonntag
DESCRIPTION:mit Abendmahl\nmit Pfr. Michael Albe und Pfr. Andreas Losch\nDer Kirchenchor singt.
URL:https://kirche-heimberg.ch/event/abendgottesdienst/
LOCATION:Kirche Heimberg\, Schulstrasse 5\, Heimberg\, 3627\, Schweiz
CATEGORIES:Gottesdienst
ATTACH;FMTTYPE=image/jpeg:https://kirche-heimberg.ch/wp-content/uploads/2023/04/altar_gottesdienste.jpg
END:VEVENT
BEGIN:VEVENT
DTSTART;TZID=Europe/Zurich:20231119T093000
DTEND;TZID=Europe/Zurich:20231119T103000
DTSTAMP:20260423T053616
CREATED:20230423T192629Z
LAST-MODIFIED:20231024T205406Z
UID:10000007-1700386200-1700389800@kirche-heimberg.ch
SUMMARY:Morgengottesdienst
DESCRIPTION:mit Pfr. Andreas Losch\nAnschliessend Kirchenkaffee
URL:https://kirche-heimberg.ch/event/morgengottesdienst-2/
LOCATION:Kirche Heimberg\, Schulstrasse 5\, Heimberg\, 3627\, Schweiz
CATEGORIES:Gottesdienst
ATTACH;FMTTYPE=image/jpeg:https://kirche-heimberg.ch/wp-content/uploads/2023/04/altar_gottesdienste.jpg
END:VEVENT
BEGIN:VEVENT
DTSTART;TZID=Europe/Zurich:20231114T100000
DTEND;TZID=Europe/Zurich:20231114T110000
DTSTAMP:20260423T053616
CREATED:20230423T192519Z
LAST-MODIFIED:20231024T205345Z
UID:10000006-1699956000-1699959600@kirche-heimberg.ch
SUMMARY:Alterheimspredigt
DESCRIPTION:mit Pfr. Michael Albe.\nDie Flötengruppe spielt.
URL:https://kirche-heimberg.ch/event/alterheimspredigt/
LOCATION:Alterszentrum Heimberg\, Auweg 67\, Heimberg\, 3627\, Schweiz
CATEGORIES:Gottesdienst
END:VEVENT
BEGIN:VEVENT
DTSTART;TZID=Europe/Zurich:20231112T093000
DTEND;TZID=Europe/Zurich:20231112T103000
DTSTAMP:20260423T053616
CREATED:20231024T203803Z
LAST-MODIFIED:20231024T205300Z
UID:10000028-1699781400-1699785000@kirche-heimberg.ch
SUMMARY:KUW-Gottesdienst
DESCRIPTION:mit Abendmahl\nmit Katechetin Regula Berger und Schüler/-innen der 3. Klasse
URL:https://kirche-heimberg.ch/event/kuw-gottesdienst/
LOCATION:Kirche Heimberg\, Schulstrasse 5\, Heimberg\, 3627\, Schweiz
CATEGORIES:Gottesdienst
END:VEVENT
BEGIN:VEVENT
DTSTART;TZID=Europe/Zurich:20231110T093000
DTEND;TZID=Europe/Zurich:20231110T103000
DTSTAMP:20260423T053616
CREATED:20231024T204005Z
LAST-MODIFIED:20231024T205201Z
UID:10000031-1699608600-1699612200@kirche-heimberg.ch
SUMMARY:Alterheimspredigt
DESCRIPTION:mit Pfr. Michael Albe\nMusik: Flötengruppe
URL:https://kirche-heimberg.ch/event/alterheimspredigt-2/
LOCATION:Kirche Heimberg\, Schulstrasse 5\, Heimberg\, 3627\, Schweiz
CATEGORIES:Gottesdienst
END:VEVENT
BEGIN:VEVENT
DTSTART;TZID=Europe/Zurich:20231109T120000
DTEND;TZID=Europe/Zurich:20231109T120000
DTSTAMP:20260423T053616
CREATED:20230920T045917Z
LAST-MODIFIED:20231022T202923Z
UID:10000026-1699531200-1699531200@kirche-heimberg.ch
SUMMARY:Mittagstisch
DESCRIPTION:Einmal im Monat andere Leute treffen\, gemeinsam essen\, neue Kontakte knüpfen und das Zusammensein pflegen. Das ist die Idee des Mittagstischs. Er findet jeweils am zweiten Donnerstag im Monat statt. \nEinfaches Tagesmenü aus der Transfair-Küche: Tagesteller\, Dessert inkl. Getränk.\nRichtpreis Fr. 10.- pro Person (vorschulpflichtige Kinder gratis\, bis 10 Jahre Fr. 6.-). \nAnmeldung bis am Dienstag um 9 Uhr bei: Rosmarie Ottmann\, Tel. 033 437 69 16 oder bei Susi Wisler\,\nTel. 033 437 95 41. \nFreundlich lädt ein:\nParitätische Arbeitsgruppe Kaliforni \n 
URL:https://kirche-heimberg.ch/event/mittagstisch-3/
LOCATION:Kirchgemeindehaus Kaliforni (KGH)\, Lerchenweg 14\, Heimberg\, 3613\, Schweiz
CATEGORIES:Diverses,Gemeinsam essen,Kirchgemeinde,Senioren
END:VEVENT
BEGIN:VEVENT
DTSTART;TZID=Europe/Zurich:20231107T093000
DTEND;TZID=Europe/Zurich:20231107T103000
DTSTAMP:20260423T053616
CREATED:20231024T203930Z
LAST-MODIFIED:20231024T205244Z
UID:10000030-1699349400-1699353000@kirche-heimberg.ch
SUMMARY:Andacht zum Krieg in der Ukraine
DESCRIPTION:mit Pfr. Michael Albe
URL:https://kirche-heimberg.ch/event/andacht-zum-krieg-in-der-ukraine-2/
LOCATION:Kirche Heimberg\, Schulstrasse 5\, Heimberg\, 3627\, Schweiz
CATEGORIES:Gottesdienst
END:VEVENT
BEGIN:VEVENT
DTSTART;TZID=Europe/Zurich:20231105T093000
DTEND;TZID=Europe/Zurich:20231105T103000
DTSTAMP:20260423T053616
CREATED:20231024T203853Z
LAST-MODIFIED:20231024T205228Z
UID:10000029-1699176600-1699180200@kirche-heimberg.ch
SUMMARY:Reformationssonntag
DESCRIPTION:mit Pfr. Andreas Losch\nMusikalische Begleitung: Jugendblasband „am Kreisel“.\nAnschliessend Kirchenkaffee
URL:https://kirche-heimberg.ch/event/reformationssonntag/
LOCATION:Kirche Heimberg\, Schulstrasse 5\, Heimberg\, 3627\, Schweiz
CATEGORIES:Gottesdienst
END:VEVENT
BEGIN:VEVENT
DTSTART;TZID=Europe/Zurich:20231103T190000
DTEND;TZID=Europe/Zurich:20231103T203000
DTSTAMP:20260423T053616
CREATED:20231024T205920Z
LAST-MODIFIED:20231024T205920Z
UID:10000034-1699038000-1699043400@kirche-heimberg.ch
SUMMARY:Bibel für Anfänger - drei Abende um die Bibel (neu) zu entdecken
DESCRIPTION:Wir fangen ganz am Anfang der Bibel an. Was sagt sie über Gott und die Welt\, was über uns Menschen? Wie passt das mit unserem heutigen Wissen zusammen? Fragen aller Art sind willkommen. \nWeitere Daten: 10. und 17.11.2023 \nAnmeldung bei: Pfr. Andreas Losch\, Tel. 033 437 74 58 oder andreas.losch@kirche-heimberg.ch
URL:https://kirche-heimberg.ch/event/bibel-fuer-anfaenger-drei-abende-um-die-bibel-neu-zu-entdecken/
LOCATION:Pavillon bei der Kirche\, Schulstrasse 5\, Heimberg\, 3627\, Schweiz
CATEGORIES:Erwachsene,Senioren
END:VEVENT
BEGIN:VEVENT
DTSTART;TZID=Europe/Zurich:20231101T093000
DTEND;TZID=Europe/Zurich:20231101T103000
DTSTAMP:20260423T053616
CREATED:20230816T121735Z
LAST-MODIFIED:20240110T144315Z
UID:10000017-1698831000-1698834600@kirche-heimberg.ch
SUMMARY:Singe mit de Chlyne
DESCRIPTION:Wir treffen uns zum Singen\, Tanzen und Lachen. Danach gibt es bei einem gemeinsamen Znüni Zeit für einen gemütlichen Austausch bei Kaffee oder Tee und für die Kleinen Zeit zum Spielen. \nEin Angebot für Kinder bis 5-jährig mit ihren Eltern\, Grosseltern\, Gotten oder Göttis. \n  \n\nKirchgemeindehaus Kaliforni\nHeimberg
URL:https://kirche-heimberg.ch/event/singe-mit-de-chlyne-2/
LOCATION:Kirchgemeindehaus Kaliforni (KGH)\, Lerchenweg 14\, Heimberg\, 3613\, Schweiz
CATEGORIES:Chlyne,Kinder
ATTACH;FMTTYPE=image/jpeg:https://kirche-heimberg.ch/wp-content/uploads/2023/08/286563941.jpg
END:VEVENT
BEGIN:VEVENT
DTSTART;TZID=Europe/Zurich:20231029T093000
DTEND;TZID=Europe/Zurich:20231029T103000
DTSTAMP:20260423T053616
CREATED:20231024T204030Z
LAST-MODIFIED:20231024T205112Z
UID:10000032-1698571800-1698575400@kirche-heimberg.ch
SUMMARY:KUW-Gottesdienst
DESCRIPTION:mit Abendmahl\nmit Katechetin Regula Berger und Schüler/-innen der 3. Klasse \nAnschliessend Kirchenkaffee
URL:https://kirche-heimberg.ch/event/kuw-gottesdienst-2/
LOCATION:Kirche Heimberg\, Schulstrasse 5\, Heimberg\, 3627\, Schweiz
CATEGORIES:Gottesdienst
END:VEVENT
BEGIN:VEVENT
DTSTART;TZID=Europe/Zurich:20231024T140000
DTEND;TZID=Europe/Zurich:20231024T160000
DTSTAMP:20260423T053616
CREATED:20230816T122530Z
LAST-MODIFIED:20230920T045349Z
UID:10000019-1698156000-1698163200@kirche-heimberg.ch
SUMMARY:Café-Treff-Punkt
DESCRIPTION:Zusammensein\, ungezwungen Gespräche führen und sich austauschen. \nDer Café-Treff-Punkt steht allen offen.\nFreiwilliger Unkostenbeitrag. \n  \n\nPavillon bei der Kirche\nHeimberg
URL:https://kirche-heimberg.ch/event/cafe-treff-punkt-2/
LOCATION:Pavillon bei der Kirche\, Schulstrasse 5\, Heimberg\, 3627\, Schweiz
CATEGORIES:Kirchgemeinde
END:VEVENT
BEGIN:VEVENT
DTSTART;TZID=Europe/Zurich:20231018T093000
DTEND;TZID=Europe/Zurich:20231018T093000
DTSTAMP:20260423T053616
CREATED:20230816T183832Z
LAST-MODIFIED:20240110T144309Z
UID:10000021-1697621400-1697621400@kirche-heimberg.ch
SUMMARY:Singe mit de Chlyne
DESCRIPTION:Wir treffen uns zum Singen\, Tanzen und Lachen. Danach gibt es bei einem gemeinsamen Znüni Zeit für einen gemütlichen Austausch bei Kaffee oder Tee und für die Kleinen Zeit zum Spielen. \nEin Angebot für Kinder bis 5-jährig mit ihren Eltern\, Grosseltern\, Gotten oder Göttis. \n  \n\nKirchgemeindehaus Kaliforni\nHeimberg
URL:https://kirche-heimberg.ch/event/singe-mit-de-chlyne-3/
LOCATION:Kirchgemeindehaus Kaliforni (KGH)\, Lerchenweg 14\, Heimberg\, 3613\, Schweiz
CATEGORIES:Chlyne,Kinder
END:VEVENT
BEGIN:VEVENT
DTSTART;TZID=Europe/Zurich:20231017T140000
DTEND;TZID=Europe/Zurich:20231017T140000
DTSTAMP:20260423T053616
CREATED:20230816T185142Z
LAST-MODIFIED:20231023T053854Z
UID:10000027-1697551200-1697551200@kirche-heimberg.ch
SUMMARY:Seniorennachmittag
DESCRIPTION:Suppe mit … Komfort oder Wurst?\nBernhard Winkler\, Hüttenwart der Fründenhütte\, erzählt
URL:https://kirche-heimberg.ch/event/seniorennachmittag-2/
LOCATION:Aula Heimberg\, Schulstrasse 14\, Heimberg\, 3627\, Schweiz
CATEGORIES:Kirchgemeinde,Senioren,Senioren-Nachmittage
END:VEVENT
BEGIN:VEVENT
DTSTART;TZID=Europe/Zurich:20231012T120000
DTEND;TZID=Europe/Zurich:20231012T120000
DTSTAMP:20260423T053616
CREATED:20230816T183620Z
LAST-MODIFIED:20231022T202934Z
UID:10000025-1697112000-1697112000@kirche-heimberg.ch
SUMMARY:Mittagstisch
DESCRIPTION:Einmal im Monat andere Leute treffen\, gemeinsam essen\, neue Kontakte knüpfen und das Zusammensein pflegen. Das ist die Idee des Mittagstischs. Er findet jeweils am zweiten Donnerstag im Monat statt. \nEinfaches Tagesmenü aus der Transfair-Küche: Tagesteller\, Dessert inkl. Getränk.\nRichtpreis Fr. 10.- pro Person (vorschulpflichtige Kinder gratis\, bis 10 Jahre Fr. 6.-). \nAnmeldung bis am Dienstag um 9 Uhr bei: Rosmarie Ottmann\, Tel. 033 437 69 16 oder bei Susi Wisler\,\nTel. 033 437 95 41. \nFreundlich lädt ein:\nParitätische Arbeitsgruppe Kaliforni \n 
URL:https://kirche-heimberg.ch/event/mittagstisch-2/
LOCATION:Kirchgemeindehaus Kaliforni (KGH)\, Lerchenweg 14\, Heimberg\, 3613\, Schweiz
CATEGORIES:Diverses,Gemeinsam essen,Kirchgemeinde,Senioren
END:VEVENT
BEGIN:VEVENT
DTSTART;TZID=Europe/Zurich:20231010T140000
DTEND;TZID=Europe/Zurich:20231010T160000
DTSTAMP:20260423T053616
CREATED:20230816T183157Z
LAST-MODIFIED:20230920T045331Z
UID:10000020-1696946400-1696953600@kirche-heimberg.ch
SUMMARY:Café-Treff-Punkt
DESCRIPTION:Zusammensein\, ungezwungen Gespräche führen und sich austauschen. \nDer Café-Treff-Punkt steht allen offen.\nFreiwilliger Unkostenbeitrag. \n  \n\nPavillon bei der Kirche\nHeimberg
URL:https://kirche-heimberg.ch/event/cafe-treff-punkt-3/
LOCATION:Pavillon bei der Kirche\, Schulstrasse 5\, Heimberg\, 3627\, Schweiz
CATEGORIES:Diverses
END:VEVENT
BEGIN:VEVENT
DTSTART;VALUE=DATE:20231009
DTEND;VALUE=DATE:20231012
DTSTAMP:20260423T053616
CREATED:20230920T045714Z
LAST-MODIFIED:20231010T193034Z
UID:10000023-1696809600-1697068799@kirche-heimberg.ch
SUMMARY:Abenteuerlager Belp
DESCRIPTION:für Kinder der 2. bis 6. Klassen \nFlyer
URL:https://kirche-heimberg.ch/event/abenteuerlager-belp/
LOCATION:Belp Lagerhaus „Hüsi“\, Jägerheimweg 286\, Belp\, 3123\, Schweiz
CATEGORIES:Jugend,Kinder
ATTACH;FMTTYPE=image/jpeg:https://kirche-heimberg.ch/wp-content/uploads/2023/08/207280112.jpg
END:VEVENT
END:VCALENDAR