BEGIN:VCALENDAR
VERSION:2.0
PRODID:-//Reformierte Kirchgemeinde Heimberg - ECPv6.15.20//NONSGML v1.0//EN
CALSCALE:GREGORIAN
METHOD:PUBLISH
X-WR-CALNAME:Reformierte Kirchgemeinde Heimberg
X-ORIGINAL-URL:https://kirche-heimberg.ch
X-WR-CALDESC:Veranstaltungen für Reformierte Kirchgemeinde Heimberg
REFRESH-INTERVAL;VALUE=DURATION:PT1H
X-Robots-Tag:noindex
X-PUBLISHED-TTL:PT1H
BEGIN:VTIMEZONE
TZID:Europe/Zurich
BEGIN:DAYLIGHT
TZOFFSETFROM:+0100
TZOFFSETTO:+0200
TZNAME:CEST
DTSTART:20220327T010000
END:DAYLIGHT
BEGIN:STANDARD
TZOFFSETFROM:+0200
TZOFFSETTO:+0100
TZNAME:CET
DTSTART:20221030T010000
END:STANDARD
BEGIN:DAYLIGHT
TZOFFSETFROM:+0100
TZOFFSETTO:+0200
TZNAME:CEST
DTSTART:20230326T010000
END:DAYLIGHT
BEGIN:STANDARD
TZOFFSETFROM:+0200
TZOFFSETTO:+0100
TZNAME:CET
DTSTART:20231029T010000
END:STANDARD
BEGIN:DAYLIGHT
TZOFFSETFROM:+0100
TZOFFSETTO:+0200
TZNAME:CEST
DTSTART:20240331T010000
END:DAYLIGHT
BEGIN:STANDARD
TZOFFSETFROM:+0200
TZOFFSETTO:+0100
TZNAME:CET
DTSTART:20241027T010000
END:STANDARD
BEGIN:DAYLIGHT
TZOFFSETFROM:+0100
TZOFFSETTO:+0200
TZNAME:CEST
DTSTART:20250330T010000
END:DAYLIGHT
BEGIN:STANDARD
TZOFFSETFROM:+0200
TZOFFSETTO:+0100
TZNAME:CET
DTSTART:20251026T010000
END:STANDARD
END:VTIMEZONE
BEGIN:VEVENT
DTSTART;TZID=Europe/Zurich:20240218T093000
DTEND;TZID=Europe/Zurich:20240218T103000
DTSTAMP:20260423T005319
CREATED:20240116T125020Z
LAST-MODIFIED:20240128T095301Z
UID:10000147-1708248600-1708252200@kirche-heimberg.ch
SUMMARY:Morgengottesdienst
DESCRIPTION:mit Pfr. Andreas Losch\nMusik: Klezmer PauWau\nAnschliessend Apéro \nMusik zwischen Melancholie und Fröhlichkeit als berührende Sprache der Seele. \nFlyer
URL:https://kirche-heimberg.ch/event/morgengottesdienst-4/
LOCATION:Kirche Heimberg\, Schulstrasse 5\, Heimberg\, 3627\, Schweiz
CATEGORIES:Gottesdienst,Kulturelles
ATTACH;FMTTYPE=image/jpeg:https://kirche-heimberg.ch/wp-content/uploads/2024/01/Pauwau.jpg
END:VEVENT
BEGIN:VEVENT
DTSTART;TZID=Europe/Zurich:20240216T170000
DTEND;TZID=Europe/Zurich:20240216T200000
DTSTAMP:20260423T005319
CREATED:20240123T164500Z
LAST-MODIFIED:20240123T164500Z
UID:10000168-1708102800-1708113600@kirche-heimberg.ch
SUMMARY:Kinderznacht mit Film
DESCRIPTION:Für 7- bis 12-Jährige \nGemeinsam essen wir und sehen uns anschliessend einen Film an. \nAnmeldung bis 12. Februar bei: Regula Berger\, Tel. 079 383 95 52 oder regula.berger@kirche-heimberg.ch \n 
URL:https://kirche-heimberg.ch/event/kinderznacht-mit-film-2/
LOCATION:Pavillon bei der Kirche\, Schulstrasse 5\, Heimberg\, 3627\, Schweiz
CATEGORIES:Kinder
END:VEVENT
BEGIN:VEVENT
DTSTART;TZID=Europe/Zurich:20240214T153000
DTEND;TZID=Europe/Zurich:20240214T163000
DTSTAMP:20260423T005319
CREATED:20231227T134558Z
LAST-MODIFIED:20240110T145103Z
UID:10000080-1707924600-1707928200@kirche-heimberg.ch
SUMMARY:Gschichte-Karussell
DESCRIPTION:Gemeinsam hören\, sehen und erleben wir eine Bilderbuchgeschichte. Mal abenteuerlich\, mal lustig und garantiert abwechslungsreich.\nIm Anschluss haben wir Zeit\, etwas Passendes zur Geschichte zu basteln und ein feines Zvieri zu geniessen. \nEin Angebot für Kinder von 3 bis 7 Jahren und ihre Eltern\, Geschwister\, Grosseltern\, Gotte\, Götti … \nPfrn. Yvonne Witschi\, Tel. 033 437 74 27.
URL:https://kirche-heimberg.ch/event/gschichte-karussell/
LOCATION:Kirchgemeindehaus Kaliforni (KGH)\, Lerchenweg 14\, Heimberg\, 3613\, Schweiz
CATEGORIES:Chlyne,Kinder
END:VEVENT
BEGIN:VEVENT
DTSTART;TZID=Europe/Zurich:20240211T093000
DTEND;TZID=Europe/Zurich:20240211T103000
DTSTAMP:20260423T005319
CREATED:20240116T124251Z
LAST-MODIFIED:20240116T124502Z
UID:10000146-1707643800-1707647400@kirche-heimberg.ch
SUMMARY:Morgengottesdienst
DESCRIPTION:mit Pfrn. Renate Zürcher (Steffisburg)\nMusik: Katrin Huggler\, Flöte\nAnschliessend Kirchenkaffe \n 
URL:https://kirche-heimberg.ch/event/kirchensonntag/
LOCATION:Kirchgemeindehaus Kaliforni (KGH)\, Lerchenweg 14\, Heimberg\, 3613\, Schweiz
CATEGORIES:Gottesdienst
END:VEVENT
BEGIN:VEVENT
DTSTART;TZID=Europe/Zurich:20240209T100000
DTEND;TZID=Europe/Zurich:20240209T110000
DTSTAMP:20260423T005319
CREATED:20231227T141249Z
LAST-MODIFIED:20231229T164309Z
UID:10000109-1707472800-1707476400@kirche-heimberg.ch
SUMMARY:Altersheimpredigt
DESCRIPTION:mit Pfr. Michael Albe\nMusik: Flötengruppe
URL:https://kirche-heimberg.ch/event/altersheimpredigt-10/
LOCATION:Wohnheim Riedacker\, Riedackerstrasse 12\, 3627 Heimberg\, Schweiz
CATEGORIES:Gottesdienst
END:VEVENT
BEGIN:VEVENT
DTSTART;TZID=Europe/Zurich:20240208T120000
DTEND;TZID=Europe/Zurich:20240208T133000
DTSTAMP:20260423T005319
CREATED:20231227T142549Z
LAST-MODIFIED:20231227T142549Z
UID:10000131-1707393600-1707399000@kirche-heimberg.ch
SUMMARY:Mittagstisch
DESCRIPTION:Einmal im Monat andere Leute treffen\, gemeinsam essen\, neue Kontakte knüpfen und das Zusammensein pflegen. Das ist die Idee des Mittagstischs. Er findet jeweils am zweiten Donnerstag im Monat statt. \nEinfaches Tagesmenü aus der Transfair-Küche: Tagesteller\, Dessert inkl. Getränk.\nRichtpreis Fr. 10.- pro Person (vorschulpflichtige Kinder gratis\, bis 10 Jahre Fr. 6.-). \nAnmeldung bis am Dienstag um 9 Uhr bei: Rosmarie Ottmann\, Tel. 033 437 69 16 oder bei Susi Wisler\,\nTel. 033 437 95 41. \nFreundlich lädt ein:\nParitätische Arbeitsgruppe Kaliforni
URL:https://kirche-heimberg.ch/event/mittagstisch-5/
LOCATION:Kirchgemeindehaus Kaliforni (KGH)\, Lerchenweg 14\, Heimberg\, 3613\, Schweiz
CATEGORIES:Diverses,Gemeinsam essen,Kirchgemeinde
END:VEVENT
BEGIN:VEVENT
DTSTART;TZID=Europe/Zurich:20240207T093000
DTEND;TZID=Europe/Zurich:20240207T103000
DTSTAMP:20260423T005319
CREATED:20231227T135719Z
LAST-MODIFIED:20240110T144218Z
UID:10000087-1707298200-1707301800@kirche-heimberg.ch
SUMMARY:Singe mit de Chlyne
DESCRIPTION:In der ersten halben Stunde singen\, tanzen und musizieren wir zusammen mit dem kleinen Maulwurf.\nIm Anschluss haben wir Zeit für ein feines Znüni und gemeinsames Spielen. \nEin Angebot für Kinder von 0 bis 6 Jahren und ihre Eltern\, Geschwister\, Grosseltern\, Gotte\, Götti … \nPfrn. Yvonne Witschi\, Tel. 033 437 74 27.
URL:https://kirche-heimberg.ch/event/singe-mit-de-chlyne-7/
LOCATION:Kirchgemeindehaus Kaliforni (KGH)\, Lerchenweg 14\, Heimberg\, 3613\, Schweiz
CATEGORIES:Chlyne,Kinder
END:VEVENT
BEGIN:VEVENT
DTSTART;TZID=Europe/Zurich:20240206T200000
DTEND;TZID=Europe/Zurich:20240206T210000
DTSTAMP:20260423T005319
CREATED:20231227T124138Z
LAST-MODIFIED:20240110T082355Z
UID:10000070-1707249600-1707253200@kirche-heimberg.ch
SUMMARY:Andacht zu Gewalt und Krieg in der Welt
DESCRIPTION:mit Pfr. Michael Albe \nAchtung Ortswechsel!
URL:https://kirche-heimberg.ch/event/andacht-zu-gewalt-und-krieg-in-der-welt-2/
LOCATION:Kirchgemeindehaus Kaliforni (KGH)\, Lerchenweg 14\, Heimberg\, 3613\, Schweiz
CATEGORIES:Gottesdienst
END:VEVENT
BEGIN:VEVENT
DTSTART;TZID=Europe/Zurich:20240206T190000
DTEND;TZID=Europe/Zurich:20240206T203000
DTSTAMP:20260423T005319
CREATED:20231227T145433Z
LAST-MODIFIED:20240111T201129Z
UID:10000142-1707246000-1707251400@kirche-heimberg.ch
SUMMARY:Am Glauben zweifeln - im Zweifel glauben
DESCRIPTION:Grundfragen des Glaubens. Fünf Abende in der Passions- und Osterzeit mit Pfr. Michael Albe. \nThemen:\n06. Februar:  Spuren des Religiösen inkl. Beteilung Andacht zu Gewalt und Krieg in der Welt\n27. Februar:  Beten zwischen Verstummen und Reden\n12. März:       Schuld und Vergebung\n28. März:      Leben mit Tod und Sterben\n16. April:       Auferstehung zum Leben \nFlyer Glaubenskurs
URL:https://kirche-heimberg.ch/event/am-glauben-zweifeln-im-zweifel-glauben/
LOCATION:Kirchgemeindehaus Kaliforni (KGH)\, Lerchenweg 14\, Heimberg\, 3613\, Schweiz
CATEGORIES:Erwachsene,Glaubenskurs,Kirchgemeinde
ATTACH;FMTTYPE=image/png:https://kirche-heimberg.ch/wp-content/uploads/2024/01/Glaubenskurs.png
END:VEVENT
BEGIN:VEVENT
DTSTART;TZID=Europe/Zurich:20240206T140000
DTEND;TZID=Europe/Zurich:20240206T160000
DTSTAMP:20260423T005319
CREATED:20231126T212508Z
LAST-MODIFIED:20240110T080830Z
UID:10000052-1707228000-1707235200@kirche-heimberg.ch
SUMMARY:Seniorennachmittag
DESCRIPTION:Seniorentheater\nmit Senioren-Theatergruppe Heimberg \nDieser Anlass ist für die Seniorennachmittage der Kirchgemeinde reserviert und ist nicht öffentlich.
URL:https://kirche-heimberg.ch/event/seniorennachmittag-6/
LOCATION:Aula Heimberg\, Schulstrasse 14\, Heimberg\, 3627\, Schweiz
CATEGORIES:Senioren,Senioren-Nachmittage
END:VEVENT
BEGIN:VEVENT
DTSTART;TZID=Europe/Zurich:20240205T190000
DTEND;TZID=Europe/Zurich:20240205T203000
DTSTAMP:20260423T005319
CREATED:20231227T144134Z
LAST-MODIFIED:20240823T085250Z
UID:10000138-1707159600-1707165000@kirche-heimberg.ch
SUMMARY:Sprachkaffee Deutsch
DESCRIPTION:Sie lernen Deutsch\, Ihnen fehlt aber die Möglichkeit\, die Sprache anzuwenden. Im Sprachkaffee bieten wir Ihnen die Gelegenheit\, Ihr Deutsch zu üben und zu verbessern. Bei Kaffee oder Tee sprechen wir in lockerer Atmosphäre über verschiedene Themen\, angepasst auf jedes Sprachniveau.\nSind Sie interessiert? Dann sind Sie herzlich eingeladen. \nDas Angebot ist gratis und kann ohne Anmeldung besucht werden. \nFragen: Susanne Geiser\, Tel. 079 769 40 60
URL:https://kirche-heimberg.ch/event/sprachkaffee-deutsch-3/
LOCATION:Pavillon bei der Kirche\, Schulstrasse 5\, Heimberg\, 3627\, Schweiz
CATEGORIES:Diverses,Erwachsene,Kirchgemeinde,Sprachkaffee
END:VEVENT
BEGIN:VEVENT
DTSTART;TZID=Europe/Zurich:20240204T093000
DTEND;TZID=Europe/Zurich:20240204T103000
DTSTAMP:20260423T005319
CREATED:20231227T124105Z
LAST-MODIFIED:20231227T130950Z
UID:10000069-1707039000-1707042600@kirche-heimberg.ch
SUMMARY:Kirchensonntag
DESCRIPTION:zum Thema „Hoffnung – Kraftquelle in unsicheren Zeiten“.\nMusik: Raphael Becker\, Orgel und Kirchenchor.\nSeparates Kinderprogramm
URL:https://kirche-heimberg.ch/event/kirchensonntag-2/
LOCATION:Kirche Heimberg\, Schulstrasse 5\, Heimberg\, 3627\, Schweiz
CATEGORIES:Gottesdienst
END:VEVENT
BEGIN:VEVENT
DTSTART;TZID=Europe/Zurich:20240128T093000
DTEND;TZID=Europe/Zurich:20240128T110000
DTSTAMP:20260423T005319
CREATED:20231227T123715Z
LAST-MODIFIED:20240111T200848Z
UID:10000067-1706434200-1706439600@kirche-heimberg.ch
SUMMARY:Gottesdienst für Chly u Gross
DESCRIPTION:mit Pfrn. Yvonne Witschi. Thema: „Wie sieht ein Walfisch von innen aus? Und wie riecht es da?“.\nAbgabe der gläsernen Tauftauben.\nKrabbelbereich für die ganz Kleinen.\nAnschliessend Apéro \nFlyer Familiengottesdienst
URL:https://kirche-heimberg.ch/event/gottesdienst-fuer-chly-u-gross/
LOCATION:Kirche Heimberg\, Schulstrasse 5\, Heimberg\, 3627\, Schweiz
CATEGORIES:Chlyne,Gottesdienst
ATTACH;FMTTYPE=image/png:https://kirche-heimberg.ch/wp-content/uploads/2024/01/GDChlyGross.png
END:VEVENT
BEGIN:VEVENT
DTSTART;TZID=Europe/Zurich:20240124T093000
DTEND;TZID=Europe/Zurich:20240124T103000
DTSTAMP:20260423T005319
CREATED:20231227T135439Z
LAST-MODIFIED:20240110T144236Z
UID:10000084-1706088600-1706092200@kirche-heimberg.ch
SUMMARY:Singe mit de Chlyne
DESCRIPTION:In der ersten halben Stunde singen\, tanzen und musizieren wir zusammen mit dem kleinen Maulwurf.\nIm Anschluss haben wir Zeit für ein feines Znüni und gemeinsames Spielen. \nEin Angebot für Kinder von 0 bis 6 Jahren und ihre Eltern\, Geschwister\, Grosseltern\, Gotte\, Götti … \nPfrn. Yvonne Witschi\, Tel. 033 437 74 27.
URL:https://kirche-heimberg.ch/event/singe-mit-de-chlyne-5/
LOCATION:Pavillon bei der Kirche\, Schulstrasse 5\, Heimberg\, 3627\, Schweiz
CATEGORIES:Chlyne,Kinder
END:VEVENT
BEGIN:VEVENT
DTSTART;TZID=Europe/Zurich:20240123T140000
DTEND;TZID=Europe/Zurich:20240123T160000
DTSTAMP:20260423T005319
CREATED:20231126T212411Z
LAST-MODIFIED:20240103T134439Z
UID:10000051-1706018400-1706025600@kirche-heimberg.ch
SUMMARY:Seniorennachmittag
DESCRIPTION:Rückblick auf die Seniorenferien am Bodensee\nmit Niklaus Beyeler
URL:https://kirche-heimberg.ch/event/seniorennachmittag-5/
LOCATION:Aula Heimberg\, Schulstrasse 14\, Heimberg\, 3627\, Schweiz
CATEGORIES:Senioren,Senioren-Nachmittage
END:VEVENT
BEGIN:VEVENT
DTSTART;TZID=Europe/Zurich:20240122T190000
DTEND;TZID=Europe/Zurich:20240122T203000
DTSTAMP:20260423T005319
CREATED:20231227T144120Z
LAST-MODIFIED:20240823T085250Z
UID:10000137-1705950000-1705955400@kirche-heimberg.ch
SUMMARY:Sprachkaffee Deutsch
DESCRIPTION:Sie lernen Deutsch\, Ihnen fehlt aber die Möglichkeit\, die Sprache anzuwenden. Im Sprachkaffee bieten wir Ihnen die Gelegenheit\, Ihr Deutsch zu üben und zu verbessern. Bei Kaffee oder Tee sprechen wir in lockerer Atmosphäre über verschiedene Themen\, angepasst auf jedes Sprachniveau.\nSind Sie interessiert? Dann sind Sie herzlich eingeladen. \nDas Angebot ist gratis und kann ohne Anmeldung besucht werden. \nFragen: Susanne Geiser\, Tel. 079 769 40 60
URL:https://kirche-heimberg.ch/event/sprachkaffee-deutsch-2/
LOCATION:Pavillon bei der Kirche\, Schulstrasse 5\, Heimberg\, 3627\, Schweiz
CATEGORIES:Diverses,Erwachsene,Kirchgemeinde,Sprachkaffee
END:VEVENT
BEGIN:VEVENT
DTSTART;TZID=Europe/Zurich:20240121T170000
DTEND;TZID=Europe/Zurich:20240121T180000
DTSTAMP:20260423T005319
CREATED:20231227T123413Z
LAST-MODIFIED:20231227T130850Z
UID:10000066-1705856400-1705860000@kirche-heimberg.ch
SUMMARY:Abendgottesdienst
DESCRIPTION:mit Pfr. Andreas Losch.\nMitwirkung: Flötengruppe
URL:https://kirche-heimberg.ch/event/abendgottesdienst-2/
LOCATION:Kirche Heimberg\, Schulstrasse 5\, Heimberg\, 3627\, Schweiz
CATEGORIES:Gottesdienst
END:VEVENT
BEGIN:VEVENT
DTSTART;TZID=Europe/Zurich:20240119T170000
DTEND;TZID=Europe/Zurich:20240119T200000
DTSTAMP:20260423T005319
CREATED:20231227T144419Z
LAST-MODIFIED:20231227T144419Z
UID:10000139-1705683600-1705694400@kirche-heimberg.ch
SUMMARY:Kinderznacht mit Film
DESCRIPTION:Für 7- bis 12-Jährige \nGemeinsam essen wir und sehen uns anschliessend einen Film an. \nAnmeldung bis 15. Januar bei: Regula Berger\, Tel. 079 383 95 52 oder regula.berger@kirche-heimberg.ch \n 
URL:https://kirche-heimberg.ch/event/kinderznacht-mit-film/
LOCATION:Pavillon bei der Kirche\, Schulstrasse 5\, Heimberg\, 3627\, Schweiz
CATEGORIES:Kinder
END:VEVENT
BEGIN:VEVENT
DTSTART;TZID=Europe/Zurich:20240118T121500
DTEND;TZID=Europe/Zurich:20240118T140000
DTSTAMP:20260423T005319
CREATED:20231126T212333Z
LAST-MODIFIED:20231126T212333Z
UID:10000050-1705580100-1705586400@kirche-heimberg.ch
SUMMARY:Suppenzmittag für Jung und Alt
DESCRIPTION:Anstelle des Suppenzmittags im Rahmen der Seniorennachmittage lädt die Kirchgemeinde während der Wintermonate Jung und Alt zu einer feinen Suppe in der Kirche ein. \nDie Suppe ist gratis – Kollekte jeweils zugunsten eines Hilfswerks. \nAnmeldung bis Mittwochmittag bei: Susanne Geiser\, Leiterin Altersarbeit\, Tel. 079 769 40 60\, susanne.geiser@kirche-heimberg.ch
URL:https://kirche-heimberg.ch/event/suppenzmittag-fuer-jung-und-alt/
LOCATION:Kirche Heimberg\, Schulstrasse 5\, Heimberg\, 3627\, Schweiz
CATEGORIES:Diverses,Gemeinsam essen
END:VEVENT
BEGIN:VEVENT
DTSTART;TZID=Europe/Zurich:20240114T093000
DTEND;TZID=Europe/Zurich:20240114T103000
DTSTAMP:20260423T005319
CREATED:20231227T122919Z
LAST-MODIFIED:20231227T122919Z
UID:10000065-1705224600-1705228200@kirche-heimberg.ch
SUMMARY:Morgengottesdienst
DESCRIPTION:mit Pfrn. Annemarie Beer (Steffisburg)
URL:https://kirche-heimberg.ch/event/morgengottesdienst-3/
LOCATION:Kirchgemeindehaus Kaliforni (KGH)\, Lerchenweg 14\, Heimberg\, 3613\, Schweiz
CATEGORIES:Gottesdienst
END:VEVENT
BEGIN:VEVENT
DTSTART;TZID=Europe/Zurich:20240112T100000
DTEND;TZID=Europe/Zurich:20240112T110000
DTSTAMP:20260423T005319
CREATED:20231227T131642Z
LAST-MODIFIED:20231229T164159Z
UID:10000072-1705053600-1705057200@kirche-heimberg.ch
SUMMARY:Altersheimpredigt
DESCRIPTION:mit Pfr. Michael Albe\nMusik: Flötengruppe
URL:https://kirche-heimberg.ch/event/altersheimpredigt-3/
LOCATION:Wohnheim Riedacker\, Riedackerstrasse 12\, 3627 Heimberg\, Schweiz
CATEGORIES:Gottesdienst
END:VEVENT
BEGIN:VEVENT
DTSTART;TZID=Europe/Zurich:20240111T120000
DTEND;TZID=Europe/Zurich:20240111T133000
DTSTAMP:20260423T005319
CREATED:20231227T142536Z
LAST-MODIFIED:20231227T142536Z
UID:10000130-1704974400-1704979800@kirche-heimberg.ch
SUMMARY:Mittagstisch
DESCRIPTION:Einmal im Monat andere Leute treffen\, gemeinsam essen\, neue Kontakte knüpfen und das Zusammensein pflegen. Das ist die Idee des Mittagstischs. Er findet jeweils am zweiten Donnerstag im Monat statt. \nEinfaches Tagesmenü aus der Transfair-Küche: Tagesteller\, Dessert inkl. Getränk.\nRichtpreis Fr. 10.- pro Person (vorschulpflichtige Kinder gratis\, bis 10 Jahre Fr. 6.-). \nAnmeldung bis am Dienstag um 9 Uhr bei: Rosmarie Ottmann\, Tel. 033 437 69 16 oder bei Susi Wisler\,\nTel. 033 437 95 41. \nFreundlich lädt ein:\nParitätische Arbeitsgruppe Kaliforni
URL:https://kirche-heimberg.ch/event/mittagstisch-4/
LOCATION:Kirchgemeindehaus Kaliforni (KGH)\, Lerchenweg 14\, Heimberg\, 3613\, Schweiz
CATEGORIES:Diverses,Gemeinsam essen,Kirchgemeinde
END:VEVENT
BEGIN:VEVENT
DTSTART;TZID=Europe/Zurich:20240110T093000
DTEND;TZID=Europe/Zurich:20240110T103000
DTSTAMP:20260423T005319
CREATED:20231227T135416Z
LAST-MODIFIED:20240110T142338Z
UID:10000083-1704879000-1704882600@kirche-heimberg.ch
SUMMARY:Singe mit de Chlyne
DESCRIPTION:In der ersten halben Stunde singen\, tanzen und musizieren wir zusammen mit dem kleinen Maulwurf.\nIm Anschluss haben wir Zeit für ein feines Znüni und gemeinsames Spielen. \nEin Angebot für Kinder von 0 bis 6 Jahren und ihre Eltern\, Geschwister\, Grosseltern\, Gotte\, Götti … \nPfrn. Yvonne Witschi\, Tel. 033 437 74 27.
URL:https://kirche-heimberg.ch/event/singe-mit-de-chlyne-4/
LOCATION:Kirchgemeindehaus Kaliforni (KGH)\, Lerchenweg 14\, Heimberg\, 3613\, Schweiz
CATEGORIES:Chlyne,Kinder
END:VEVENT
BEGIN:VEVENT
DTSTART;TZID=Europe/Zurich:20240109T200000
DTEND;TZID=Europe/Zurich:20240109T210000
DTSTAMP:20260423T005319
CREATED:20231227T122406Z
LAST-MODIFIED:20231227T122406Z
UID:10000064-1704830400-1704834000@kirche-heimberg.ch
SUMMARY:Andacht zu Gewalt und Krieg in der Welt
DESCRIPTION:mit Pfr. Michael Albe
URL:https://kirche-heimberg.ch/event/andacht-zu-gewalt-und-krieg-in-der-welt/
LOCATION:Kirche Heimberg\, Schulstrasse 5\, Heimberg\, 3627\, Schweiz
CATEGORIES:Gottesdienst
END:VEVENT
BEGIN:VEVENT
DTSTART;TZID=Europe/Zurich:20240109T140000
DTEND;TZID=Europe/Zurich:20240109T160000
DTSTAMP:20260423T005319
CREATED:20231126T212127Z
LAST-MODIFIED:20240103T134508Z
UID:10000049-1704808800-1704816000@kirche-heimberg.ch
SUMMARY:Seniorennachmittag
DESCRIPTION:Mein Jahr im Heiligen Land\nmit Pfr. Andreas Losch
URL:https://kirche-heimberg.ch/event/seniorennachmittag-4/
LOCATION:Kirchgemeindehaus Kaliforni (KGH)\, Lerchenweg 14\, Heimberg\, 3613\, Schweiz
CATEGORIES:Senioren,Senioren-Nachmittage
END:VEVENT
BEGIN:VEVENT
DTSTART;TZID=Europe/Zurich:20240109T100000
DTEND;TZID=Europe/Zurich:20240109T110000
DTSTAMP:20260423T005319
CREATED:20231227T131545Z
LAST-MODIFIED:20231229T163956Z
UID:10000071-1704794400-1704798000@kirche-heimberg.ch
SUMMARY:Altersheimpredigt
DESCRIPTION:mit Pfr. Michael Albe.\nMusik: Lee Stalder
URL:https://kirche-heimberg.ch/event/altersheimpredigt-2/
LOCATION:Alterszentrum Heimberg\, Auweg 67\, Heimberg\, 3627\, Schweiz
CATEGORIES:Gottesdienst
END:VEVENT
BEGIN:VEVENT
DTSTART;TZID=Europe/Zurich:20240108T190000
DTEND;TZID=Europe/Zurich:20240108T203000
DTSTAMP:20260423T005319
CREATED:20231227T143613Z
LAST-MODIFIED:20240823T085250Z
UID:10000136-1704740400-1704745800@kirche-heimberg.ch
SUMMARY:Sprachkaffee Deutsch
DESCRIPTION:Sie lernen Deutsch\, Ihnen fehlt aber die Möglichkeit\, die Sprache anzuwenden. Im Sprachkaffee bieten wir Ihnen die Gelegenheit\, Ihr Deutsch zu üben und zu verbessern. Bei Kaffee oder Tee sprechen wir in lockerer Atmosphäre über verschiedene Themen\, angepasst auf jedes Sprachniveau.\nSind Sie interessiert? Dann sind Sie herzlich eingeladen. \nDas Angebot ist gratis und kann ohne Anmeldung besucht werden. \nFragen: Susanne Geiser\, Tel. 079 769 40 60 \n 
URL:https://kirche-heimberg.ch/event/sprachkaffee-deutsch/
LOCATION:Pavillon bei der Kirche\, Schulstrasse 5\, Heimberg\, 3627\, Schweiz
CATEGORIES:Diverses,Erwachsene,Kirchgemeinde,Sprachkaffee
END:VEVENT
BEGIN:VEVENT
DTSTART;TZID=Europe/Zurich:20240107T093000
DTEND;TZID=Europe/Zurich:20240107T140000
DTSTAMP:20260423T005319
CREATED:20231227T122141Z
LAST-MODIFIED:20240103T125553Z
UID:10000062-1704619800-1704636000@kirche-heimberg.ch
SUMMARY:Amtseinsetzungsfeier
DESCRIPTION:von Pfrn. Yvonne Witschi durch Pfrn. Mirja Zimmermann (Sumiswald).\nMusik: Kirchenchor und Raphael Becker\, Orgel.\nKinderhütedienst während des Gottesdienstes. \nAnschliessend Apéro und Mittagessen in der Aula.
URL:https://kirche-heimberg.ch/event/amtseinsetzungsfeier/
LOCATION:Kirche Heimberg\, Schulstrasse 5\, Heimberg\, 3627\, Schweiz
CATEGORIES:Gottesdienst
END:VEVENT
BEGIN:VEVENT
DTSTART;TZID=Europe/Zurich:20231231T093000
DTEND;TZID=Europe/Zurich:20231231T103000
DTSTAMP:20260423T005319
CREATED:20231126T202604Z
LAST-MODIFIED:20231126T222132Z
UID:10000040-1704015000-1704018600@kirche-heimberg.ch
SUMMARY:Silvester
DESCRIPTION:mit Pfr. Andreas Losch\nMusik: Raphael Becker\, Orgel
URL:https://kirche-heimberg.ch/event/silvester/
LOCATION:Kirche Heimberg\, Schulstrasse 5\, Heimberg\, 3627\, Schweiz
CATEGORIES:Gottesdienst
END:VEVENT
BEGIN:VEVENT
DTSTART;TZID=Europe/Zurich:20231225T093000
DTEND;TZID=Europe/Zurich:20231225T103000
DTSTAMP:20260423T005319
CREATED:20231126T202303Z
LAST-MODIFIED:20231126T222305Z
UID:10000039-1703496600-1703500200@kirche-heimberg.ch
SUMMARY:Weihnachtsgottesdienst
DESCRIPTION:mit Pfr. Michael Albe\nGottesdienst mit Abendmahl. Musik: R. Blaser\, Orgel\nAnschliessend Kirchenkaffee
URL:https://kirche-heimberg.ch/event/weihnachtsgottesdienst/
LOCATION:Kirchgemeindehaus Kaliforni (KGH)\, Lerchenweg 14\, Heimberg\, 3613\, Schweiz
CATEGORIES:Gottesdienst
END:VEVENT
END:VCALENDAR