BEGIN:VCALENDAR
VERSION:2.0
PRODID:-//Reformierte Kirchgemeinde Heimberg - ECPv6.15.20//NONSGML v1.0//EN
CALSCALE:GREGORIAN
METHOD:PUBLISH
X-ORIGINAL-URL:https://kirche-heimberg.ch
X-WR-CALDESC:Veranstaltungen für Reformierte Kirchgemeinde Heimberg
REFRESH-INTERVAL;VALUE=DURATION:PT1H
X-Robots-Tag:noindex
X-PUBLISHED-TTL:PT1H
BEGIN:VTIMEZONE
TZID:Europe/Zurich
BEGIN:DAYLIGHT
TZOFFSETFROM:+0100
TZOFFSETTO:+0200
TZNAME:CEST
DTSTART:20230326T010000
END:DAYLIGHT
BEGIN:STANDARD
TZOFFSETFROM:+0200
TZOFFSETTO:+0100
TZNAME:CET
DTSTART:20231029T010000
END:STANDARD
BEGIN:DAYLIGHT
TZOFFSETFROM:+0100
TZOFFSETTO:+0200
TZNAME:CEST
DTSTART:20240331T010000
END:DAYLIGHT
BEGIN:STANDARD
TZOFFSETFROM:+0200
TZOFFSETTO:+0100
TZNAME:CET
DTSTART:20241027T010000
END:STANDARD
BEGIN:DAYLIGHT
TZOFFSETFROM:+0100
TZOFFSETTO:+0200
TZNAME:CEST
DTSTART:20250330T010000
END:DAYLIGHT
BEGIN:STANDARD
TZOFFSETFROM:+0200
TZOFFSETTO:+0100
TZNAME:CET
DTSTART:20251026T010000
END:STANDARD
END:VTIMEZONE
BEGIN:VEVENT
DTSTART;TZID=Europe/Zurich:20241119T193000
DTEND;TZID=Europe/Zurich:20241119T210000
DTSTAMP:20260423T004038
CREATED:20241110T150858Z
LAST-MODIFIED:20241110T151253Z
UID:10000261-1732044600-1732050000@kirche-heimberg.ch
SUMMARY:Die Kraft im Ritual - Wie eine Abdankungsfeier Sinn macht und tröstet.   
DESCRIPTION:Bei dem Vortragsabend wird die Bedeutung der kirchlichen Rituale und Symbole im Umfeld von Sterben und Tod dargestellt und erklärt und es werden Bezüge zu humanwissenschaftlichen Erkenntnissen (Psychologie\, Soziale Arbeit\, Pädagogik\, Soziologie\, Pflege…) hergestellt. \nZiel des Abends ist es\, eine Orientierung darüber zu geben\, was bei einer christlichen Beisetzung und Abdankungsfeier geschieht und welche Bedeutung das jeweilige Ritual\, Symbol oder Handlung hat. \n  \nDienstag\, 19. November\, 19.30 – 21.00 Uhr\, Kirche \nAuskunft: Michael Albe\, Tel. 033 437 19 45
URL:https://kirche-heimberg.ch/event/die-kraft-im-ritual-wie-eine-abdankungsfeier-sinn-macht-und-troestet/
LOCATION:Kirche Heimberg\, Schulstrasse 5\, Heimberg\, 3627\, Schweiz
CATEGORIES:Diverses,Erwachsene
ATTACH;FMTTYPE=image/jpeg:https://kirche-heimberg.ch/wp-content/uploads/2024/11/IMG_20230818_203959-scaled.jpg
END:VEVENT
BEGIN:VEVENT
DTSTART;TZID=Europe/Zurich:20241122T170000
DTEND;TZID=Europe/Zurich:20241122T200000
DTSTAMP:20260423T004038
CREATED:20241112T103453Z
LAST-MODIFIED:20241112T103453Z
UID:10000263-1732294800-1732305600@kirche-heimberg.ch
SUMMARY:Kinderznacht 7- bis 12-Jährige
DESCRIPTION:  \nKinderznacht 7- bis 12-Jährige \nFreitag\, 22. November\, 17 Uhr\, Pavillon. Auskunft und Anmeldung bei: Regula Berger\, Tel. 079 383 95 52
URL:https://kirche-heimberg.ch/event/kinderznacht-7-bis-12-jaehrige/
LOCATION:Pavillon bei der Kirche\, Schulstrasse 5\, Heimberg\, 3627\, Schweiz
CATEGORIES:Jugend,Kinder
END:VEVENT
BEGIN:VEVENT
DTSTART;TZID=Europe/Zurich:20241124T093000
DTEND;TZID=Europe/Zurich:20241124T110000
DTSTAMP:20260423T004038
CREATED:20240417T101221Z
LAST-MODIFIED:20240820T131233Z
UID:10000192-1732440600-1732446000@kirche-heimberg.ch
SUMMARY:Ewigkeitssonntag Abendmahl
DESCRIPTION:Ewigkeitssonntag Abendmahl \nmit Pfr. Michael Albe und Pfr. Andreas Losch \nMusik: Corinna Bühler\, Orgel; Kirchenchor
URL:https://kirche-heimberg.ch/event/ewigkeitssonntag-abendmahl/
LOCATION:Kirche Heimberg\, Schulstrasse 5\, Heimberg\, 3627\, Schweiz
CATEGORIES:Gottesdienst
END:VEVENT
BEGIN:VEVENT
DTSTART;TZID=Europe/Zurich:20241125T190000
DTEND;TZID=Europe/Zurich:20241125T203000
DTSTAMP:20260423T004038
CREATED:20240826T081615Z
LAST-MODIFIED:20240826T081615Z
UID:10000234-1732561200-1732566600@kirche-heimberg.ch
SUMMARY:Sprachkaffee Deutsch
DESCRIPTION:Sie lernen Deutsch\, Ihnen fehlt aber die Möglichkeit\, die Sprache anzuwenden. Im Sprachkaffee bieten wir Ihnen die Gelegenheit\, Ihr Deutsch zu üben und zu verbessern. Bei Kaffee oder Tee sprechen wir in lockerer Atmosphäre über verschiedene Themen\, angepasst auf jedes Sprachniveau.\nSind Sie interessiert? Dann sind Sie herzlich eingeladen. \nDas Angebot ist gratis und kann ohne Anmeldung besucht werden. \nFragen: Susanne Geiser\, Tel. 079 769 40 60
URL:https://kirche-heimberg.ch/event/sprachkaffee-deutsch-15/
LOCATION:Pavillon bei der Kirche\, Schulstrasse 5\, Heimberg\, 3627\, Schweiz
CATEGORIES:Diverses,Erwachsene,Kirchgemeinde,Sprachkaffee
END:VEVENT
BEGIN:VEVENT
DTSTART;TZID=Europe/Zurich:20241126T140000
DTEND;TZID=Europe/Zurich:20241126T170000
DTSTAMP:20260423T004038
CREATED:20241105T152342Z
LAST-MODIFIED:20241112T103055Z
UID:10000260-1732629600-1732640400@kirche-heimberg.ch
SUMMARY:Einladung zur Jahrezusammenkunft
DESCRIPTION:Jahresschluss WAGR \nZum Abschluss des Wander- und Spazierjahres laden wir zu einem Nachmittag im\nKirchgemeindehaus Oberdorf\, Pfarrhausweg 20\, 3612 Steffisburg ein.
URL:https://kirche-heimberg.ch/event/einladung-zur-jahrezusammenkunft/
LOCATION:Auswärts
CATEGORIES:Erwachsene,Senioren-Nachmittage,Senioren-Wandergruppe
END:VEVENT
BEGIN:VEVENT
DTSTART;TZID=Europe/Zurich:20241126T140000
DTEND;TZID=Europe/Zurich:20241126T170000
DTSTAMP:20260423T004038
CREATED:20241111T112044Z
LAST-MODIFIED:20241111T112401Z
UID:10000262-1732629600-1732640400@kirche-heimberg.ch
SUMMARY:Adventsfeier Senioren
DESCRIPTION:Adventsfeier \n14 Uhr Kirchgemeindehaus Kaliforni
URL:https://kirche-heimberg.ch/event/adventsfeier-senioren/
LOCATION:Kirchgemeindehaus Kaliforni (KGH)\, Lerchenweg 14\, Heimberg\, 3613\, Schweiz
CATEGORIES:Senioren,Senioren-Nachmittage
END:VEVENT
BEGIN:VEVENT
DTSTART;TZID=Europe/Zurich:20241126T200000
DTEND;TZID=Europe/Zurich:20241126T220000
DTSTAMP:20260423T004038
CREATED:20241016T110633Z
LAST-MODIFIED:20241016T110633Z
UID:10000243-1732651200-1732658400@kirche-heimberg.ch
SUMMARY:Kirchgemeindeversammlung
DESCRIPTION:KGV 26.11.2024 \nOrdentliche Kirchgemeindeversammlung\nDienstag\, 26. November 2024\, 20 Uhr\, Kirche Heimberg \n  \n  \n 
URL:https://kirche-heimberg.ch/event/kirchgemeindeversammlung/
LOCATION:Kirche Heimberg\, Schulstrasse 5\, Heimberg\, 3627\, Schweiz
CATEGORIES:Erwachsene,Kirchgemeinde
END:VEVENT
BEGIN:VEVENT
DTSTART;TZID=Europe/Zurich:20241127T093000
DTEND;TZID=Europe/Zurich:20241127T103000
DTSTAMP:20260423T004038
CREATED:20231227T140340Z
LAST-MODIFIED:20240110T143212Z
UID:10000102-1732699800-1732703400@kirche-heimberg.ch
SUMMARY:Singe mit de Chlyne
DESCRIPTION:In der ersten halben Stunde singen\, tanzen und musizieren wir zusammen mit dem kleinen Maulwurf.\nIm Anschluss haben wir Zeit für ein feines Znüni und gemeinsames Spielen. \nEin Angebot für Kinder von 0 bis 6 Jahren und ihre Eltern\, Geschwister\, Grosseltern\, Gotte\, Götti … \nPfrn. Yvonne Witschi\, Tel. 033 437 74 27.
URL:https://kirche-heimberg.ch/event/singe-mit-de-chlyne-22/
LOCATION:Pavillon bei der Kirche\, Schulstrasse 5\, Heimberg\, 3627\, Schweiz
CATEGORIES:Chlyne,Kinder
END:VEVENT
BEGIN:VEVENT
DTSTART;TZID=Europe/Zurich:20241127T133000
DTEND;TZID=Europe/Zurich:20241127T170000
DTSTAMP:20260423T004038
CREATED:20241104T130921Z
LAST-MODIFIED:20241104T130921Z
UID:10000245-1732714200-1732726800@kirche-heimberg.ch
SUMMARY:Kerzenziehen
DESCRIPTION:KinderKirche – Kerzenziehen \nMittwoch\, 27. November\, bei der Kirche \n13.30 bis 15.30 Uhr für 7- bis 9-Jährige \n15.30 bis 17 Uhr für 10- bis 13-Jährige \nWarm anziehen\, wir sind draussen. Im Pavillon gibt es warme Getränke und etwas zum Knabbern. \nAuskunft: Regula Berger\, Tel. 079 383 95 52.
URL:https://kirche-heimberg.ch/event/kerzenziehen/
LOCATION:Kirche Heimberg\, Schulstrasse 5\, Heimberg\, 3627\, Schweiz
CATEGORIES:Jugend,Kinder,Kirchgemeinde
END:VEVENT
BEGIN:VEVENT
DTSTART;TZID=Europe/Zurich:20241129T080000
DTEND;TZID=Europe/Zurich:20241129T170000
DTSTAMP:20260423T004038
CREATED:20241016T063527Z
LAST-MODIFIED:20241025T075710Z
UID:10000241-1732867200-1732899600@kirche-heimberg.ch
SUMMARY:Adventsmärit
DESCRIPTION:Adventsmärit \nFreitag\, 29. November\, 15 bis 21 Uhr\, Schulstrasse\n \nRaclettestand und Kaffeestube (ab 17 Uhr) \nKerzenziehen\, Krippenausstellung in der Kirche\nKurzandacht mit Musik in der Kirche (19 Uhr) \nMit den Einnahmen der Kirchgemeinde aus dem Verkauf am Adventsmärit wird das Hilfsprojekt «Licht in Lateinamerika» unterstützt.
URL:https://kirche-heimberg.ch/event/adventsmaerit/
LOCATION:Kirche Heimberg\, Schulstrasse 5\, Heimberg\, 3627\, Schweiz
CATEGORIES:Chlyne,Erwachsene,Gemeinsam essen,Jugend,Kinder,Kirchgemeinde,Kulturelles
ATTACH;FMTTYPE=image/png:https://kirche-heimberg.ch/wp-content/uploads/2024/10/Screenshot-2024-10-25-095418.png
END:VEVENT
BEGIN:VEVENT
DTSTART;TZID=Europe/Zurich:20241201T080000
DTEND;TZID=Europe/Zurich:20241201T170000
DTSTAMP:20260423T004038
CREATED:20241125T063904Z
LAST-MODIFIED:20241125T063904Z
UID:10000269-1733040000-1733072400@kirche-heimberg.ch
SUMMARY:Raum der Stille
DESCRIPTION:Raum der Stille 2024
URL:https://kirche-heimberg.ch/event/raum-der-stille-4/
LOCATION:Kirchgemeindehaus Kaliforni (KGH)\, Lerchenweg 14\, Heimberg\, 3613\, Schweiz
CATEGORIES:Erwachsene,Kirchgemeinde
END:VEVENT
BEGIN:VEVENT
DTSTART;TZID=Europe/Zurich:20241201T170000
DTEND;TZID=Europe/Zurich:20241201T180000
DTSTAMP:20260423T004038
CREATED:20240417T114121Z
LAST-MODIFIED:20240508T135526Z
UID:10000204-1733072400-1733076000@kirche-heimberg.ch
SUMMARY:Abendgottesdienst
DESCRIPTION:mit Pfr. Michael Albe \nMusik:Corinna Bühler\, Orgel
URL:https://kirche-heimberg.ch/event/abendgottesdienst-10/
LOCATION:Kirchgemeindehaus Kaliforni (KGH)\, Lerchenweg 14\, Heimberg\, 3613\, Schweiz
CATEGORIES:Gottesdienst
END:VEVENT
BEGIN:VEVENT
DTSTART;TZID=Europe/Zurich:20241203T130000
DTEND;TZID=Europe/Zurich:20241203T170000
DTSTAMP:20260423T004038
CREATED:20241113T101552Z
LAST-MODIFIED:20241113T101552Z
UID:10000267-1733230800-1733245200@kirche-heimberg.ch
SUMMARY:Café-Treff-Punkt
DESCRIPTION:Dienstag\, 3. Dezember\,  13 bis 17  Uhr\, Pavillon bei der Kirche. \nAuskunft: Beat Nyffeler\, Tel. 033 438 01 48.
URL:https://kirche-heimberg.ch/event/cafe-treff-punkt-6/
LOCATION:Kirche Heimberg\, Schulstrasse 5\, Heimberg\, 3627\, Schweiz
CATEGORIES:Erwachsene,Gemeinsam essen,Kirchgemeinde
END:VEVENT
BEGIN:VEVENT
DTSTART;TZID=Europe/Zurich:20241204T080000
DTEND;TZID=Europe/Zurich:20241204T170000
DTSTAMP:20260423T004038
CREATED:20241105T151026Z
LAST-MODIFIED:20241105T151525Z
UID:10000259-1733299200-1733331600@kirche-heimberg.ch
SUMMARY:Seniorenwandergruppe
DESCRIPTION: Winterwanderung Gruppe  \nEinladung zur Winterwanderung vom Mittwoch\, 04. Dezember 2024\nVerschiebedatum oder bei grosser Nachfrage Freitag\, 06. Dezember 2024 \nab Montagmorgen\, 18. Nov. bis Donnerstagmittag\, 21. Nov. 2024\nunter www.refsteffisburg.ch/kalender → Datum der Wanderung →\nPfeil anklicken → Formular ausfüllen oder unter Tel. 033 439 80 28\nBestätigungsanzeige erscheint am Ende der Anmeldung.
URL:https://kirche-heimberg.ch/event/seniorenwandergruppe/
LOCATION:Kirche Heimberg\, Schulstrasse 5\, Heimberg\, 3627\, Schweiz
CATEGORIES:Senioren,Senioren-Wandergruppe
END:VEVENT
BEGIN:VEVENT
DTSTART;TZID=Europe/Zurich:20241207T100000
DTEND;TZID=Europe/Zurich:20241207T104500
DTSTAMP:20260423T004038
CREATED:20231220T082727Z
LAST-MODIFIED:20240110T143846Z
UID:10000059-1733565600-1733568300@kirche-heimberg.ch
SUMMARY:Fyre mit de Chlyne
DESCRIPTION:We dr Esel verzeut …\nAb 9.30 Uhr gemütliches Ankommen bei Tee\, Kaffee und kleinen Leckereien. \nFeier mit biblischer Geschichte\, Liedern\, Kerzen und Gebet. \nEin Angebot für Kinder von 3 bis 7 Jahren und ihre Eltern\, Geschwister\, Grosseltern\, Gotte\, Götti … \nPfrn. Yvonne Witschi\, Tel. 033 437 74 27.
URL:https://kirche-heimberg.ch/event/fyre-mit-de-chlyne-4/
LOCATION:Kirche Heimberg\, Schulstrasse 5\, Heimberg\, 3627\, Schweiz
CATEGORIES:Chlyne,Kinder
END:VEVENT
BEGIN:VEVENT
DTSTART;TZID=Europe/Zurich:20241208T080000
DTEND;TZID=Europe/Zurich:20241208T170000
DTSTAMP:20260423T004038
CREATED:20241125T123113Z
LAST-MODIFIED:20241125T123113Z
UID:10000270-1733644800-1733677200@kirche-heimberg.ch
SUMMARY:Raum der Stille
DESCRIPTION:Möchten Sie sich einen Moment von der Hektik der Adventsund Weihnachtszeit abwenden und bei Kerzenlicht und\nfestlicher Musik einige Augenblicke der Stille erleben? \nSonntag\, 08. Dezember 2024 1600 – 1800 Uhr \nSonntag\, 14. Dezember 2024 1600 – 1800 Uhr\nSonntag\, 22. Dezember 2024 1600 – 1800 Uhr\nWeihnacht\, 25. Dezember 2024 0930 Uhr\nWeihnachtsgottesdienst mit Abendmahl
URL:https://kirche-heimberg.ch/event/raum-der-stille-5/2024-12-08/1/
LOCATION:Kirchgemeindehaus Kaliforni (KGH)\, Lerchenweg 14\, Heimberg\, 3613\, Schweiz
CATEGORIES:Erwachsene
END:VEVENT
BEGIN:VEVENT
DTSTART;TZID=Europe/Zurich:20241208T093000
DTEND;TZID=Europe/Zurich:20241208T110000
DTSTAMP:20260423T004038
CREATED:20240417T114447Z
LAST-MODIFIED:20241024T122802Z
UID:10000205-1733650200-1733655600@kirche-heimberg.ch
SUMMARY:Gottesdienst
DESCRIPTION:mit Pfr. Michael Albe \nMusik: Raphael Becker\, Orgel
URL:https://kirche-heimberg.ch/event/gottesdienst-9/
LOCATION:Kirchgemeindehaus Kaliforni (KGH)\, Lerchenweg 14\, Heimberg\, 3613\, Schweiz
CATEGORIES:Gottesdienst
END:VEVENT
BEGIN:VEVENT
DTSTART;TZID=Europe/Zurich:20241208T160000
DTEND;TZID=Europe/Zurich:20241208T180000
DTSTAMP:20260423T004038
CREATED:20241125T123113Z
LAST-MODIFIED:20241125T123113Z
UID:10000271-1733673600-1733680800@kirche-heimberg.ch
SUMMARY:Raum der Stille
DESCRIPTION:Möchten Sie sich einen Moment von der Hektik der Adventsund Weihnachtszeit abwenden und bei Kerzenlicht und\nfestlicher Musik einige Augenblicke der Stille erleben? \nSonntag\, 08. Dezember 2024 1600 – 1800 Uhr \nSonntag\, 14. Dezember 2024 1600 – 1800 Uhr\nSonntag\, 22. Dezember 2024 1600 – 1800 Uhr\nWeihnacht\, 25. Dezember 2024 0930 Uhr\nWeihnachtsgottesdienst mit Abendmahl
URL:https://kirche-heimberg.ch/event/raum-der-stille-5/2024-12-08/2/
LOCATION:Kirchgemeindehaus Kaliforni (KGH)\, Lerchenweg 14\, Heimberg\, 3613\, Schweiz
CATEGORIES:Erwachsene
END:VEVENT
BEGIN:VEVENT
DTSTART;TZID=Europe/Zurich:20241208T170000
DTEND;TZID=Europe/Zurich:20241208T190000
DTSTAMP:20260423T004038
CREATED:20241029T145125Z
LAST-MODIFIED:20241106T102610Z
UID:10000244-1733677200-1733684400@kirche-heimberg.ch
SUMMARY:Adventskonzert 2024
DESCRIPTION:VATER UNSER MESSE \nLorenz Maierhofer und Adventliche Lieder \nmit dem Kirchenchor Heimberg \n Flyer Adventskonzert 2024 def_ \n 
URL:https://kirche-heimberg.ch/event/adventskonzert-2024/
LOCATION:Kirche Heimberg\, Schulstrasse 5\, Heimberg\, 3627\, Schweiz
CATEGORIES:Erwachsene,Kirchgemeinde
END:VEVENT
BEGIN:VEVENT
DTSTART;TZID=Europe/Zurich:20241209T190000
DTEND;TZID=Europe/Zurich:20241209T203000
DTSTAMP:20260423T004038
CREATED:20240826T081636Z
LAST-MODIFIED:20240826T081636Z
UID:10000235-1733770800-1733776200@kirche-heimberg.ch
SUMMARY:Sprachkaffee Deutsch
DESCRIPTION:Sie lernen Deutsch\, Ihnen fehlt aber die Möglichkeit\, die Sprache anzuwenden. Im Sprachkaffee bieten wir Ihnen die Gelegenheit\, Ihr Deutsch zu üben und zu verbessern. Bei Kaffee oder Tee sprechen wir in lockerer Atmosphäre über verschiedene Themen\, angepasst auf jedes Sprachniveau.\nSind Sie interessiert? Dann sind Sie herzlich eingeladen. \nDas Angebot ist gratis und kann ohne Anmeldung besucht werden. \nFragen: Susanne Geiser\, Tel. 079 769 40 60
URL:https://kirche-heimberg.ch/event/sprachkaffee-deutsch-16/
LOCATION:Pavillon bei der Kirche\, Schulstrasse 5\, Heimberg\, 3627\, Schweiz
CATEGORIES:Diverses,Erwachsene,Kirchgemeinde,Sprachkaffee
END:VEVENT
BEGIN:VEVENT
DTSTART;TZID=Europe/Zurich:20241210T200000
DTEND;TZID=Europe/Zurich:20241210T210000
DTSTAMP:20260423T004038
CREATED:20231227T141922Z
LAST-MODIFIED:20231227T141922Z
UID:10000128-1733860800-1733864400@kirche-heimberg.ch
SUMMARY:Andacht zu Gewalt und Krieg in der Welt
DESCRIPTION:mit Pfr. Michael Albe
URL:https://kirche-heimberg.ch/event/andacht-zu-gewalt-und-krieg-in-der-welt-12/
LOCATION:Kirche Heimberg\, Schulstrasse 5\, Heimberg\, 3627\, Schweiz
CATEGORIES:Gottesdienst
END:VEVENT
BEGIN:VEVENT
DTSTART;TZID=Europe/Zurich:20241210T200000
DTEND;TZID=Europe/Zurich:20241210T220000
DTSTAMP:20260423T004038
CREATED:20241113T094527Z
LAST-MODIFIED:20241113T094527Z
UID:10000265-1733860800-1733868000@kirche-heimberg.ch
SUMMARY:Andacht zu Gewalt und Krieg in der Welt
DESCRIPTION:10. Dezember 20 Uhr in der Kirche mit Pfr. Michael Albe \n  \n 
URL:https://kirche-heimberg.ch/event/andacht-zu-gewalt-und-krieg-in-der-welt-3/
LOCATION:Kirche Heimberg\, Schulstrasse 5\, Heimberg\, 3627\, Schweiz
CATEGORIES:Erwachsene,Kirchgemeinde
END:VEVENT
BEGIN:VEVENT
DTSTART;TZID=Europe/Zurich:20241211T093000
DTEND;TZID=Europe/Zurich:20241211T103000
DTSTAMP:20260423T004038
CREATED:20231227T140401Z
LAST-MODIFIED:20240110T142638Z
UID:10000103-1733909400-1733913000@kirche-heimberg.ch
SUMMARY:Singe mit de Chlyne
DESCRIPTION:In der ersten halben Stunde singen\, tanzen und musizieren wir zusammen mit dem kleinen Maulwurf.\nIm Anschluss haben wir Zeit für ein feines Znüni und gemeinsames Spielen. \nEin Angebot für Kinder von 0 bis 6 Jahren und ihre Eltern\, Geschwister\, Grosseltern\, Gotte\, Götti … \nPfrn. Yvonne Witschi\, Tel. 033 437 74 27.
URL:https://kirche-heimberg.ch/event/singe-mit-de-chlyne-23/
LOCATION:Kirchgemeindehaus Kaliforni (KGH)\, Lerchenweg 14\, Heimberg\, 3613\, Schweiz
CATEGORIES:Chlyne,Kinder
END:VEVENT
BEGIN:VEVENT
DTSTART;TZID=Europe/Zurich:20241212T120000
DTEND;TZID=Europe/Zurich:20241212T140000
DTSTAMP:20260423T004038
CREATED:20241113T084233Z
LAST-MODIFIED:20241113T084355Z
UID:10000264-1734004800-1734012000@kirche-heimberg.ch
SUMMARY:Mittagstisch Kaliforni
DESCRIPTION:Mittagstisch Kaliforni  \nDonnerstag\, 12. Dezember ab 12 Uhr\, Kirchgemeindehaus Kaliforni. Einfaches Tagesmenü. Richtpreis Fr. 10.– pro Person\, vorschulpflichtige Kinder gratis\, bis 10 Jahre Fr. 6.–. \nAnmeldung bis Dienstag\, 9 Uhr bei Rosmarie Ottmann\, Tel. 033 437 69 16 oder Susi Wisler\, Tel. 033 437 95 41. \nAuskunft: Rosmarie Ottmann\, Tel. 033 437 69 16.
URL:https://kirche-heimberg.ch/event/mittagstisch-kaliforni/
LOCATION:Kirchgemeindehaus Kaliforni (KGH)\, Lerchenweg 14\, Heimberg\, 3613\, Schweiz
CATEGORIES:Gemeinsam essen
END:VEVENT
BEGIN:VEVENT
DTSTART;TZID=Europe/Zurich:20241215T110000
DTEND;TZID=Europe/Zurich:20241215T140000
DTSTAMP:20260423T004038
CREATED:20240417T115045Z
LAST-MODIFIED:20241201T192028Z
UID:10000206-1734260400-1734271200@kirche-heimberg.ch
SUMMARY:3. Advent Seniorenweihnachten
DESCRIPTION:mit Pfr. Andreas Losch \n3. Advent Seniorenweihnacht \nMusik: Trachtengruppe und Corinna Bühler\, Klavier
URL:https://kirche-heimberg.ch/event/3-advent-seniorenweihnachten/
LOCATION:Aula Heimberg\, Schulstrasse 14\, Heimberg\, 3627\, Schweiz
CATEGORIES:Gottesdienst
END:VEVENT
BEGIN:VEVENT
DTSTART;TZID=Europe/Zurich:20241216T193000
DTEND;TZID=Europe/Zurich:20241216T213000
DTSTAMP:20260423T004038
CREATED:20241105T092631Z
LAST-MODIFIED:20241105T092631Z
UID:10000248-1734377400-1734384600@kirche-heimberg.ch
SUMMARY:Kirchen-Kino-Kaliforni
DESCRIPTION:Lust auf Kino und den gemütlichen Austausch über Filme und Themen? \nIn der Regel am dritten Montag im Monat kommen wir Kirchgemeindehaus Kaliforni zum Filmabend zusammen. Ausnahmen bilden der 10. Februar (2. Montag) und der 28. April (4. Montag). Im Juli und August wird kein Kinoabend angeboten. \nWeitere Informationen zur Organisation und zu Themen erhalten Sie bei Michael Albe. Rufen sie mich gerne an (Tel.: 033 437 19 45) oder schreiben Sie (michael.albe@kirche-heimberg.ch).
URL:https://kirche-heimberg.ch/event/kirchen-kino-kaliforni/2024-12-16/
LOCATION:Kirchgemeindehaus Kaliforni (KGH)\, Lerchenweg 14\, Heimberg\, 3613\, Schweiz
CATEGORIES:Kirchenkino
ATTACH;FMTTYPE=image/jpeg:https://kirche-heimberg.ch/wp-content/uploads/2024/11/Kirchenkino-24-25.jpg
ORGANIZER;CN="Kirchgemeinde Heimberg":MAILTO:albe@kirche-heimberg.ch
END:VEVENT
BEGIN:VEVENT
DTSTART;TZID=Europe/Zurich:20241217T130000
DTEND;TZID=Europe/Zurich:20241217T170000
DTSTAMP:20260423T004038
CREATED:20241113T102316Z
LAST-MODIFIED:20241113T102316Z
UID:10000268-1734440400-1734454800@kirche-heimberg.ch
SUMMARY:Café-Treff-Punkt
DESCRIPTION:Dienstag\, 17. Dezember\, 13 bis 17 Uhr\, Pavillon bei der Kirche. \nAuskunft: Beat Nyffeler\, Tel. 033 438 01 48.
URL:https://kirche-heimberg.ch/event/cafe-treff-punkt-7/
LOCATION:Pavillon bei der Kirche\, Schulstrasse 5\, Heimberg\, 3627\, Schweiz
CATEGORIES:Erwachsene,Gemeinsam essen,Kirchgemeinde
END:VEVENT
BEGIN:VEVENT
DTSTART;TZID=Europe/Zurich:20241222T170000
DTEND;TZID=Europe/Zurich:20241222T190000
DTSTAMP:20260423T004038
CREATED:20240417T115525Z
LAST-MODIFIED:20241128T095951Z
UID:10000207-1734886800-1734894000@kirche-heimberg.ch
SUMMARY:4. Advent Weihnachten für Alle
DESCRIPTION:Familiengottesdienst \nmit Pfrn. Yvonne Witschi \nmit Punsch \nMusik: Flötengruppe \n  \nFlyer
URL:https://kirche-heimberg.ch/event/4-advent-weihnachten-fuer-alle/
LOCATION:Kirche Heimberg\, Schulstrasse 5\, Heimberg\, 3627\, Schweiz
CATEGORIES:Gottesdienst
ATTACH;FMTTYPE=image/png:https://kirche-heimberg.ch/wp-content/uploads/2024/11/Bild-Website.png
END:VEVENT
BEGIN:VEVENT
DTSTART;TZID=Europe/Zurich:20241224T223000
DTEND;TZID=Europe/Zurich:20241224T233000
DTSTAMP:20260423T004038
CREATED:20240417T115831Z
LAST-MODIFIED:20241214T062151Z
UID:10000208-1735079400-1735083000@kirche-heimberg.ch
SUMMARY:Heiliger Abend
DESCRIPTION:mit Pfr. Michael Albe \nMusik: Corinna Bühler\, Orgel und Maira Lou Nett\, Gesang
URL:https://kirche-heimberg.ch/event/heiliger-abend/
LOCATION:Kirche Heimberg\, Schulstrasse 5\, Heimberg\, 3627\, Schweiz
CATEGORIES:Gottesdienst
END:VEVENT
BEGIN:VEVENT
DTSTART;TZID=Europe/Zurich:20241225T093000
DTEND;TZID=Europe/Zurich:20241225T110000
DTSTAMP:20260423T004038
CREATED:20240417T120039Z
LAST-MODIFIED:20241214T062056Z
UID:10000209-1735119000-1735124400@kirche-heimberg.ch
SUMMARY:Weihnachten mit Abendmahl
DESCRIPTION:mit Pfr. Andreas Losch \nMusik: Ruth Blaser\, Orgel; Manuela Blaser\, Geige; Dorothee Reusser\, Flöte
URL:https://kirche-heimberg.ch/event/weihnachten-mit-abendmahl/
LOCATION:Kirchgemeindehaus Kaliforni (KGH)\, Lerchenweg 14\, Heimberg\, 3613\, Schweiz
CATEGORIES:Gottesdienst
END:VEVENT
END:VCALENDAR