BEGIN:VCALENDAR
VERSION:2.0
PRODID:-//Reformierte Kirchgemeinde Heimberg - ECPv6.15.20//NONSGML v1.0//EN
CALSCALE:GREGORIAN
METHOD:PUBLISH
X-ORIGINAL-URL:https://kirche-heimberg.ch
X-WR-CALDESC:Veranstaltungen für Reformierte Kirchgemeinde Heimberg
REFRESH-INTERVAL;VALUE=DURATION:PT1H
X-Robots-Tag:noindex
X-PUBLISHED-TTL:PT1H
BEGIN:VTIMEZONE
TZID:Europe/Zurich
BEGIN:DAYLIGHT
TZOFFSETFROM:+0100
TZOFFSETTO:+0200
TZNAME:CEST
DTSTART:20230326T010000
END:DAYLIGHT
BEGIN:STANDARD
TZOFFSETFROM:+0200
TZOFFSETTO:+0100
TZNAME:CET
DTSTART:20231029T010000
END:STANDARD
BEGIN:DAYLIGHT
TZOFFSETFROM:+0100
TZOFFSETTO:+0200
TZNAME:CEST
DTSTART:20240331T010000
END:DAYLIGHT
BEGIN:STANDARD
TZOFFSETFROM:+0200
TZOFFSETTO:+0100
TZNAME:CET
DTSTART:20241027T010000
END:STANDARD
BEGIN:DAYLIGHT
TZOFFSETFROM:+0100
TZOFFSETTO:+0200
TZNAME:CEST
DTSTART:20250330T010000
END:DAYLIGHT
BEGIN:STANDARD
TZOFFSETFROM:+0200
TZOFFSETTO:+0100
TZNAME:CET
DTSTART:20251026T010000
END:STANDARD
BEGIN:DAYLIGHT
TZOFFSETFROM:+0100
TZOFFSETTO:+0200
TZNAME:CEST
DTSTART:20260329T010000
END:DAYLIGHT
BEGIN:STANDARD
TZOFFSETFROM:+0200
TZOFFSETTO:+0100
TZNAME:CET
DTSTART:20261025T010000
END:STANDARD
END:VTIMEZONE
BEGIN:VEVENT
DTSTART;TZID=Europe/Zurich:20241217T130000
DTEND;TZID=Europe/Zurich:20241217T170000
DTSTAMP:20260422T235235
CREATED:20241113T102316Z
LAST-MODIFIED:20241113T102316Z
UID:10000268-1734440400-1734454800@kirche-heimberg.ch
SUMMARY:Café-Treff-Punkt
DESCRIPTION:Dienstag\, 17. Dezember\, 13 bis 17 Uhr\, Pavillon bei der Kirche. \nAuskunft: Beat Nyffeler\, Tel. 033 438 01 48.
URL:https://kirche-heimberg.ch/event/cafe-treff-punkt-7/
LOCATION:Pavillon bei der Kirche\, Schulstrasse 5\, Heimberg\, 3627\, Schweiz
CATEGORIES:Erwachsene,Gemeinsam essen,Kirchgemeinde
END:VEVENT
BEGIN:VEVENT
DTSTART;TZID=Europe/Zurich:20241222T170000
DTEND;TZID=Europe/Zurich:20241222T190000
DTSTAMP:20260422T235235
CREATED:20240417T115525Z
LAST-MODIFIED:20241128T095951Z
UID:10000207-1734886800-1734894000@kirche-heimberg.ch
SUMMARY:4. Advent Weihnachten für Alle
DESCRIPTION:Familiengottesdienst \nmit Pfrn. Yvonne Witschi \nmit Punsch \nMusik: Flötengruppe \n  \nFlyer
URL:https://kirche-heimberg.ch/event/4-advent-weihnachten-fuer-alle/
LOCATION:Kirche Heimberg\, Schulstrasse 5\, Heimberg\, 3627\, Schweiz
CATEGORIES:Gottesdienst
ATTACH;FMTTYPE=image/png:https://kirche-heimberg.ch/wp-content/uploads/2024/11/Bild-Website.png
END:VEVENT
BEGIN:VEVENT
DTSTART;TZID=Europe/Zurich:20241224T223000
DTEND;TZID=Europe/Zurich:20241224T233000
DTSTAMP:20260422T235235
CREATED:20240417T115831Z
LAST-MODIFIED:20241214T062151Z
UID:10000208-1735079400-1735083000@kirche-heimberg.ch
SUMMARY:Heiliger Abend
DESCRIPTION:mit Pfr. Michael Albe \nMusik: Corinna Bühler\, Orgel und Maira Lou Nett\, Gesang
URL:https://kirche-heimberg.ch/event/heiliger-abend/
LOCATION:Kirche Heimberg\, Schulstrasse 5\, Heimberg\, 3627\, Schweiz
CATEGORIES:Gottesdienst
END:VEVENT
BEGIN:VEVENT
DTSTART;TZID=Europe/Zurich:20241225T093000
DTEND;TZID=Europe/Zurich:20241225T110000
DTSTAMP:20260422T235235
CREATED:20240417T120039Z
LAST-MODIFIED:20241214T062056Z
UID:10000209-1735119000-1735124400@kirche-heimberg.ch
SUMMARY:Weihnachten mit Abendmahl
DESCRIPTION:mit Pfr. Andreas Losch \nMusik: Ruth Blaser\, Orgel; Manuela Blaser\, Geige; Dorothee Reusser\, Flöte
URL:https://kirche-heimberg.ch/event/weihnachten-mit-abendmahl/
LOCATION:Kirchgemeindehaus Kaliforni (KGH)\, Lerchenweg 14\, Heimberg\, 3613\, Schweiz
CATEGORIES:Gottesdienst
END:VEVENT
BEGIN:VEVENT
DTSTART;TZID=Europe/Zurich:20241229T093000
DTEND;TZID=Europe/Zurich:20241229T110000
DTSTAMP:20260422T235235
CREATED:20240417T120701Z
LAST-MODIFIED:20240508T135310Z
UID:10000210-1735464600-1735470000@kirche-heimberg.ch
SUMMARY:Gottesdienst
DESCRIPTION:mit Pfr. Andreas Losch \nMusik: Corinna Bühler\, Orgel
URL:https://kirche-heimberg.ch/event/gottesdienst-10/
LOCATION:Kirche Heimberg\, Schulstrasse 5\, Heimberg\, 3627\, Schweiz
CATEGORIES:Gottesdienst
END:VEVENT
BEGIN:VEVENT
DTSTART;TZID=Europe/Zurich:20250101T093000
DTEND;TZID=Europe/Zurich:20250101T110000
DTSTAMP:20260422T235235
CREATED:20241223T100921Z
LAST-MODIFIED:20241223T100921Z
UID:10000273-1735723800-1735729200@kirche-heimberg.ch
SUMMARY:Gottesdienst
DESCRIPTION:Gottesdienst mit Pfr.  Michael Albe \nMusik: Ruth Blaser
URL:https://kirche-heimberg.ch/event/gottesdienst-11/
LOCATION:Kirche Heimberg\, Schulstrasse 5\, Heimberg\, 3627\, Schweiz
CATEGORIES:Gottesdienst
END:VEVENT
BEGIN:VEVENT
DTSTART;TZID=Europe/Zurich:20250105T093000
DTEND;TZID=Europe/Zurich:20250105T110000
DTSTAMP:20260422T235235
CREATED:20241223T101346Z
LAST-MODIFIED:20241223T101346Z
UID:10000274-1736069400-1736074800@kirche-heimberg.ch
SUMMARY:Gottesdienst
DESCRIPTION:Gottesdienst mit Pfr. Michael Albe \nMusik: Corinna Bühler
URL:https://kirche-heimberg.ch/event/gottesdienst-12/
LOCATION:Kirche Heimberg\, Schulstrasse 5\, Heimberg\, 3627\, Schweiz
CATEGORIES:Gottesdienst
END:VEVENT
BEGIN:VEVENT
DTSTART;TZID=Europe/Zurich:20250107T140000
DTEND;TZID=Europe/Zurich:20250107T160000
DTSTAMP:20260422T235235
CREATED:20241223T105730Z
LAST-MODIFIED:20241223T105730Z
UID:10000285-1736258400-1736265600@kirche-heimberg.ch
SUMMARY:Seniorennachmittage
DESCRIPTION:Dienstag\, 7. Januar\, 14 Uhr\, Kirchgemeindehaus Kaliforni \n«Die bäumige Schweiz» mit Robert Schneiter.
URL:https://kirche-heimberg.ch/event/seniorennachmittage/
LOCATION:Kirchgemeindehaus Kaliforni (KGH)\, Lerchenweg 14\, Heimberg\, 3613\, Schweiz
CATEGORIES:Kirchgemeinde,Senioren,Senioren-Nachmittage
END:VEVENT
BEGIN:VEVENT
DTSTART;TZID=Europe/Zurich:20250109T120000
DTEND;TZID=Europe/Zurich:20250109T133000
DTSTAMP:20260422T235235
CREATED:20241223T103804Z
LAST-MODIFIED:20241223T103804Z
UID:10000279-1736424000-1736429400@kirche-heimberg.ch
SUMMARY:Mittagstisch
DESCRIPTION:Einmal im Monat andere Leute treffen\, gemeinsam essen\, neue Kontakte knüpfen und das Zusammensein pflegen. Das ist die Idee des Mittagstischs. Er findet jeweils am zweiten Donnerstag im Monat statt. \nEinfaches Tagesmenü aus der Transfair-Küche: Tagesteller\, Dessert inkl. Getränk.\nRichtpreis Fr. 10.- pro Person (vorschulpflichtige Kinder gratis\, bis 10 Jahre Fr. 6.-). \nAnmeldung bis am Dienstag um 9 Uhr bei: Rosmarie Ottmann\, Tel. 033 437 69 16 oder bei Susi Wisler\,\nTel. 033 437 95 41. \nFreundlich lädt ein:\nParitätische Arbeitsgruppe Kaliforni
URL:https://kirche-heimberg.ch/event/mittagstisch-10/
LOCATION:Kirchgemeindehaus Kaliforni (KGH)\, Lerchenweg 14\, Heimberg\, 3613\, Schweiz
CATEGORIES:Gemeinsam essen
END:VEVENT
BEGIN:VEVENT
DTSTART;TZID=Europe/Zurich:20250112T093000
DTEND;TZID=Europe/Zurich:20250112T110000
DTSTAMP:20260422T235235
CREATED:20241223T101716Z
LAST-MODIFIED:20241223T101716Z
UID:10000275-1736674200-1736679600@kirche-heimberg.ch
SUMMARY:Gottesdienst
DESCRIPTION:Gottesdienst mit Pfr. Michael Albe \nMusik: Raphael Becker
URL:https://kirche-heimberg.ch/event/gottesdienst-13/
LOCATION:Kirchgemeindehaus Kaliforni (KGH)\, Lerchenweg 14\, Heimberg\, 3613\, Schweiz
CATEGORIES:Gottesdienst
END:VEVENT
BEGIN:VEVENT
DTSTART;TZID=Europe/Zurich:20250114T140000
DTEND;TZID=Europe/Zurich:20250114T170000
DTSTAMP:20260422T235235
CREATED:20241223T110948Z
LAST-MODIFIED:20241223T111012Z
UID:10000288-1736863200-1736874000@kirche-heimberg.ch
SUMMARY:Café-Treff-Punkt
DESCRIPTION:Zusammensein\, ungezwungen Gespräche führen und sich austauschen. \nDer Café-Treff-Punkt steht allen offen.\nFreiwilliger Unkostenbeitrag. \nNächstes Treffen: 14. Januar und 28. Januar um 14 Uhr
URL:https://kirche-heimberg.ch/event/cafe-treff-punkt-8/
LOCATION:Pavillon bei der Kirche\, Schulstrasse 5\, Heimberg\, 3627\, Schweiz
CATEGORIES:Erwachsene,Senioren
END:VEVENT
BEGIN:VEVENT
DTSTART;TZID=Europe/Zurich:20250114T140000
DTEND;TZID=Europe/Zurich:20250114T170000
DTSTAMP:20260422T235235
CREATED:20241223T111151Z
LAST-MODIFIED:20241223T111151Z
UID:10000287-1736863200-1736874000@kirche-heimberg.ch
SUMMARY:Café-Treff-Punkt
DESCRIPTION:Zusammensein\, ungezwungen Gespräche führen und sich austauschen. \nDer Café-Treff-Punkt steht allen offen.\nFreiwilliger Unkostenbeitrag. \nNächstes Treffen: 14. Januar und 28. Januar um 14 Uhr
URL:https://kirche-heimberg.ch/event/cafe-treff-punkt-8-2/
LOCATION:Pavillon bei der Kirche\, Schulstrasse 5\, Heimberg\, 3627\, Schweiz
CATEGORIES:Erwachsene,Senioren
END:VEVENT
BEGIN:VEVENT
DTSTART;TZID=Europe/Zurich:20250114T200000
DTEND;TZID=Europe/Zurich:20250114T210000
DTSTAMP:20260422T235235
CREATED:20241230T121030Z
LAST-MODIFIED:20241230T121030Z
UID:10000289-1736884800-1736888400@kirche-heimberg.ch
SUMMARY:Andacht zu Gewalt und Krieg in der Welt
DESCRIPTION:Dienstag\, 14. Januar\, 20 Uhr\, Kirche\, mit Pfr. Michael Albe.
URL:https://kirche-heimberg.ch/event/andacht-zu-gewalt-und-krieg-in-der-welt-13/
LOCATION:Kirche Heimberg\, Schulstrasse 5\, Heimberg\, 3627\, Schweiz
CATEGORIES:Gottesdienst
END:VEVENT
BEGIN:VEVENT
DTSTART;TZID=Europe/Zurich:20250119T093000
DTEND;TZID=Europe/Zurich:20250119T110000
DTSTAMP:20260422T235235
CREATED:20241223T101915Z
LAST-MODIFIED:20241223T101915Z
UID:10000276-1737279000-1737284400@kirche-heimberg.ch
SUMMARY:Gottesdienst Bibelübergabe KUW II
DESCRIPTION:Gottesdienst mit Kat. Regula Berger \nMusik: Corinna Bühler
URL:https://kirche-heimberg.ch/event/gottesdienst-bibeluebergabe-kuw-ii/
LOCATION:Kirche Heimberg\, Schulstrasse 5\, Heimberg\, 3627\, Schweiz
CATEGORIES:Gottesdienst,Jugend,Kinder,KUW
END:VEVENT
BEGIN:VEVENT
DTSTART;TZID=Europe/Zurich:20250119T170000
DTEND;TZID=Europe/Zurich:20250119T183000
DTSTAMP:20260422T235235
CREATED:20241223T102546Z
LAST-MODIFIED:20250114T142426Z
UID:10000277-1737306000-1737311400@kirche-heimberg.ch
SUMMARY:Abendgottesdienst mit Konfirmanden
DESCRIPTION:Gottesdienst mit Kat. Regula Berger \nMusik:Ruth Blaser \nAnschliessend Apéro
URL:https://kirche-heimberg.ch/event/abendgottesdienst-mit-konfirmanden/
LOCATION:Kirche Heimberg\, Schulstrasse 5\, Heimberg\, 3627\, Schweiz
CATEGORIES:Gottesdienst,Jugend
END:VEVENT
BEGIN:VEVENT
DTSTART;TZID=Europe/Zurich:20250120T193000
DTEND;TZID=Europe/Zurich:20250120T213000
DTSTAMP:20260422T235235
CREATED:20241105T092631Z
LAST-MODIFIED:20241105T092631Z
UID:10000249-1737401400-1737408600@kirche-heimberg.ch
SUMMARY:Kirchen-Kino-Kaliforni
DESCRIPTION:Lust auf Kino und den gemütlichen Austausch über Filme und Themen? \nIn der Regel am dritten Montag im Monat kommen wir Kirchgemeindehaus Kaliforni zum Filmabend zusammen. Ausnahmen bilden der 10. Februar (2. Montag) und der 28. April (4. Montag). Im Juli und August wird kein Kinoabend angeboten. \nWeitere Informationen zur Organisation und zu Themen erhalten Sie bei Michael Albe. Rufen sie mich gerne an (Tel.: 033 437 19 45) oder schreiben Sie (michael.albe@kirche-heimberg.ch).
URL:https://kirche-heimberg.ch/event/kirchen-kino-kaliforni/2025-01-20/
LOCATION:Kirchgemeindehaus Kaliforni (KGH)\, Lerchenweg 14\, Heimberg\, 3613\, Schweiz
CATEGORIES:Kirchenkino
ATTACH;FMTTYPE=image/jpeg:https://kirche-heimberg.ch/wp-content/uploads/2024/11/Kirchenkino-24-25.jpg
ORGANIZER;CN="Kirchgemeinde Heimberg":MAILTO:albe@kirche-heimberg.ch
END:VEVENT
BEGIN:VEVENT
DTSTART;TZID=Europe/Zurich:20250121T140000
DTEND;TZID=Europe/Zurich:20250121T160000
DTSTAMP:20260422T235235
CREATED:20241223T105940Z
LAST-MODIFIED:20241223T105940Z
UID:10000286-1737468000-1737475200@kirche-heimberg.ch
SUMMARY:Seniorennachmittag
DESCRIPTION:Dienstag\, 21. Januar\, 14 Uhr\, Aula \n«Rückblick auf die Seniorenferien in Vorarlberg» mit Niklaus Beyeler
URL:https://kirche-heimberg.ch/event/seniorennachmittag-13/
LOCATION:Aula Heimberg\, Schulstrasse 14\, Heimberg\, 3627\, Schweiz
CATEGORIES:Senioren,Senioren-Nachmittage
END:VEVENT
BEGIN:VEVENT
DTSTART;TZID=Europe/Zurich:20250126T093000
DTEND;TZID=Europe/Zurich:20250126T110000
DTSTAMP:20260422T235235
CREATED:20241223T102614Z
LAST-MODIFIED:20250122T121919Z
UID:10000278-1737883800-1737889200@kirche-heimberg.ch
SUMMARY:Familiengottesdienst
DESCRIPTION:Gottesdienst mit Pfrn. Yvonne Witschi \nMusik: Corinna Bühler \nAnschliessend Apéro \nGottesdienst Tauben 2025
URL:https://kirche-heimberg.ch/event/familiengottesdienst-m/
LOCATION:Kirche Heimberg\, Schulstrasse 5\, Heimberg\, 3627\, Schweiz
CATEGORIES:Gemeinsam essen,Gottesdienst,Jugend,Kinder,Kirchgemeinde
ATTACH;FMTTYPE=image/png:https://kirche-heimberg.ch/wp-content/uploads/2025/01/Gottesdienst-Tauben-2025.png
END:VEVENT
BEGIN:VEVENT
DTSTART;TZID=Europe/Zurich:20250202T093000
DTEND;TZID=Europe/Zurich:20250202T113000
DTSTAMP:20260422T235235
CREATED:20250120T092717Z
LAST-MODIFIED:20250120T092717Z
UID:10000291-1738488600-1738495800@kirche-heimberg.ch
SUMMARY:Kirchensonntag
DESCRIPTION:Kirchensonntag   2. Februar  9.30 Uhr Kirche\, Ehrenamtliche \nmit Kinderprogramm Thema \nMitwirkung: Kirchenchor und Corinna Bühler\, Orgel
URL:https://kirche-heimberg.ch/event/kirchensonntag-3/
LOCATION:Kirche Heimberg\, Schulstrasse 5\, Heimberg\, 3627\, Schweiz
CATEGORIES:Erwachsene,Gottesdienst,Kinder
END:VEVENT
BEGIN:VEVENT
DTSTART;TZID=Europe/Zurich:20250204T200000
DTEND;TZID=Europe/Zurich:20250204T213000
DTSTAMP:20260422T235235
CREATED:20250120T141240Z
LAST-MODIFIED:20250129T130611Z
UID:10000300-1738699200-1738704600@kirche-heimberg.ch
SUMMARY:«Taizé» Andacht
DESCRIPTION:Dienstag\, 4. Februar\, 20 Uhr Kaliforni\, mit Pfr. Michael Albe \n  \n  \n 
URL:https://kirche-heimberg.ch/event/taize-andacht/
LOCATION:Kirchgemeindehaus Kaliforni (KGH)\, Lerchenweg 14\, Heimberg\, 3613\, Schweiz
CATEGORIES:Gottesdienst
ATTACH;FMTTYPE=image/jpeg:https://kirche-heimberg.ch/wp-content/uploads/2025/01/Taize-Gottesdienst.jpg
END:VEVENT
BEGIN:VEVENT
DTSTART;TZID=Europe/Zurich:20250205T093000
DTEND;TZID=Europe/Zurich:20250205T103000
DTSTAMP:20260422T235235
CREATED:20250120T143540Z
LAST-MODIFIED:20250203T063733Z
UID:10000302-1738747800-1738751400@kirche-heimberg.ch
SUMMARY:Singe mit de Chlyne – 0 bis 6 Jahre
DESCRIPTION:Mittwoch\, 5. Februar\, im Kirchgemeindehaus Kaliforni; Mittwoch\, 5. März\, im Kirchgemeindehaus Kaliforni. \nWir treffen uns um 9.30 Uhr zum Singen\, Tanzen und Lachen. Danach gibt es bei einem gemeinsamen Znüni Zeit für einen gemütlichen Austausch bei Kaffee oder Tee und für die Kleinen Zeit zum Spielen. Kinder bis 6 Jahre und ihre Eltern\, Geschwister\, Grosseltern\, Gotten und Göttis sind herzlich eingeladen. \nAuskunft: Pfrn. Yvonne Witschi\, Tel. 033 437 74 27.
URL:https://kirche-heimberg.ch/event/singe-mit-de-chlyne-0-bis-6-jahre/
LOCATION:Kirchgemeindehaus Kaliforni (KGH)\, Lerchenweg 14\, Heimberg\, 3613\, Schweiz
CATEGORIES:Chlyne,Kinder
END:VEVENT
BEGIN:VEVENT
DTSTART;TZID=Europe/Zurich:20250205T193000
DTEND;TZID=Europe/Zurich:20250205T220000
DTSTAMP:20260422T235235
CREATED:20250120T114354Z
LAST-MODIFIED:20250120T114354Z
UID:10000294-1738783800-1738792800@kirche-heimberg.ch
SUMMARY:Kirchenchor
DESCRIPTION:Mitwirkung am Kirchensonntag: 2. Februar\, 9.30 Uhr\, Kirche \nProben in der Kirche: Mittwoch\, 5.\, 12. Februar\, 19.30 Uhr \nHauptversammlung: Mittwoch\, 26. Februar\, 19.00 Uhr\, Kaliforni \nNeue Sängerinnen und Sänger sind herzlich willkommen\, auch Schnuppern ist möglich! \nAuskunft: Rosmarie Zosso\, Tel. 033 437 36 74.
URL:https://kirche-heimberg.ch/event/kirchenchor-3/
LOCATION:Kirche Heimberg\, Schulstrasse 5\, Heimberg\, 3627\, Schweiz
CATEGORIES:Kirchgemeinde
END:VEVENT
BEGIN:VEVENT
DTSTART;TZID=Europe/Zurich:20250207T093000
DTEND;TZID=Europe/Zurich:20250207T110000
DTSTAMP:20260422T235235
CREATED:20250120T140859Z
LAST-MODIFIED:20250120T140859Z
UID:10000299-1738920600-1738926000@kirche-heimberg.ch
SUMMARY:Altersheimpredigt
DESCRIPTION:  \nFreitag\, 7. Februar 9.30 Uhr Wohnheim Riedacker\, mit Pfr. Michael Albe \nMusik: Die Flötengruppe spielt
URL:https://kirche-heimberg.ch/event/altersheimpredigt-4/
LOCATION:Kirche Heimberg\, Schulstrasse 5\, Heimberg\, 3627\, Schweiz
CATEGORIES:Erwachsene,Kirchgemeinde,Senioren
END:VEVENT
BEGIN:VEVENT
DTSTART;TZID=Europe/Zurich:20250209T093000
DTEND;TZID=Europe/Zurich:20250209T110000
DTSTAMP:20260422T235235
CREATED:20250120T134922Z
LAST-MODIFIED:20250120T135319Z
UID:10000296-1739093400-1739098800@kirche-heimberg.ch
SUMMARY:Gottesdienst im Kirchgemeindehaus Kaliforni
DESCRIPTION:Gottesdienst im Kirchgemeindehaus Kaliforni\nPfrn. Bettina Stephan durch Steffisburg\nMusik: Vital Frey\, Orgel
URL:https://kirche-heimberg.ch/event/gottesdienst-im-kirchgemeindehaus-kaliforni/
LOCATION:Kirchgemeindehaus Kaliforni (KGH)\, Lerchenweg 14\, Heimberg\, 3613\, Schweiz
CATEGORIES:Gottesdienst
END:VEVENT
BEGIN:VEVENT
DTSTART;TZID=Europe/Zurich:20250210T193000
DTEND;TZID=Europe/Zurich:20250210T213000
DTSTAMP:20260422T235235
CREATED:20241105T092631Z
LAST-MODIFIED:20241105T092631Z
UID:10000250-1739215800-1739223000@kirche-heimberg.ch
SUMMARY:Kirchen-Kino-Kaliforni
DESCRIPTION:Lust auf Kino und den gemütlichen Austausch über Filme und Themen? \nIn der Regel am dritten Montag im Monat kommen wir Kirchgemeindehaus Kaliforni zum Filmabend zusammen. Ausnahmen bilden der 10. Februar (2. Montag) und der 28. April (4. Montag). Im Juli und August wird kein Kinoabend angeboten. \nWeitere Informationen zur Organisation und zu Themen erhalten Sie bei Michael Albe. Rufen sie mich gerne an (Tel.: 033 437 19 45) oder schreiben Sie (michael.albe@kirche-heimberg.ch).
URL:https://kirche-heimberg.ch/event/kirchen-kino-kaliforni/2025-02-10/
LOCATION:Kirchgemeindehaus Kaliforni (KGH)\, Lerchenweg 14\, Heimberg\, 3613\, Schweiz
CATEGORIES:Kirchenkino
ATTACH;FMTTYPE=image/jpeg:https://kirche-heimberg.ch/wp-content/uploads/2024/11/Kirchenkino-24-25.jpg
ORGANIZER;CN="Kirchgemeinde Heimberg":MAILTO:albe@kirche-heimberg.ch
END:VEVENT
BEGIN:VEVENT
DTSTART;TZID=Europe/Zurich:20250212T153000
DTEND;TZID=Europe/Zurich:20250212T163000
DTSTAMP:20260422T235235
CREATED:20250120T143315Z
LAST-MODIFIED:20250205T145328Z
UID:10000301-1739374200-1739377800@kirche-heimberg.ch
SUMMARY:Gschichtekarussell – 3 bis 7 Jahre
DESCRIPTION:Mittwoch\, 12. Februar\, 15.30 Uhr\, Pavillon\nGemeinsam hören wir die «Das kleine Häwas» Im Anschluss haben wir Zeit\, etwas Passendes zu basteln und ein feines Zvieri zu geniessen. Kinder von 3 bis 7 Jahre und ihre Eltern\, Geschwister\, Grosseltern\, Gotten und Göttis sind herzlich eingeladen.\nAuskunft: Pfrn. Yvonne Witschi\, Tel. 033 437 74 27.
URL:https://kirche-heimberg.ch/event/gschichtekarussell-3-bis-7-jahre/
LOCATION:Pavillon bei der Kirche\, Schulstrasse 5\, Heimberg\, 3627\, Schweiz
CATEGORIES:Kinder
ATTACH;FMTTYPE=image/jpeg:https://kirche-heimberg.ch/wp-content/uploads/2025/02/Titelbild-Das-kleine-Haewas.jpg
END:VEVENT
BEGIN:VEVENT
DTSTART;TZID=Europe/Zurich:20250212T193000
DTEND;TZID=Europe/Zurich:20250212T210000
DTSTAMP:20260422T235235
CREATED:20250131T065455Z
LAST-MODIFIED:20250131T065455Z
UID:10000309-1739388600-1739394000@kirche-heimberg.ch
SUMMARY:Kirchenchor
DESCRIPTION:Mi\, 12. Februar\, 19.30 bis 21.00 \nKirchenchor Probe Kirche Heimberg
URL:https://kirche-heimberg.ch/event/kirchenchor/
LOCATION:Kirche Heimberg\, Schulstrasse 5\, Heimberg\, 3627\, Schweiz
CATEGORIES:Kirchgemeinde
END:VEVENT
BEGIN:VEVENT
DTSTART;TZID=Europe/Zurich:20250213T120000
DTEND;TZID=Europe/Zurich:20250213T133000
DTSTAMP:20260422T235235
CREATED:20241223T104201Z
LAST-MODIFIED:20241223T104201Z
UID:10000280-1739448000-1739453400@kirche-heimberg.ch
SUMMARY:Mittagstisch
DESCRIPTION:Einmal im Monat andere Leute treffen\, gemeinsam essen\, neue Kontakte knüpfen und das Zusammensein pflegen. Das ist die Idee des Mittagstischs. Er findet jeweils am zweiten Donnerstag im Monat statt. \nEinfaches Tagesmenü aus der Transfair-Küche: Tagesteller\, Dessert inkl. Getränk.\nRichtpreis Fr. 10.- pro Person (vorschulpflichtige Kinder gratis\, bis 10 Jahre Fr. 6.-). \nAnmeldung bis am Dienstag um 9 Uhr bei: Rosmarie Ottmann\, Tel. 033 437 69 16 oder bei Susi Wisler\,\nTel. 033 437 95 41. \nFreundlich lädt ein:\nParitätische Arbeitsgruppe Kaliforni
URL:https://kirche-heimberg.ch/event/mittagstisch-11/
LOCATION:Kirchgemeindehaus Kaliforni (KGH)\, Lerchenweg 14\, Heimberg\, 3613\, Schweiz
CATEGORIES:Gemeinsam essen
END:VEVENT
BEGIN:VEVENT
DTSTART;TZID=Europe/Zurich:20250215T090000
DTEND;TZID=Europe/Zurich:20250215T123000
DTSTAMP:20260422T235235
CREATED:20240731T093417Z
LAST-MODIFIED:20241120T090007Z
UID:10000223-1739610000-1739622600@kirche-heimberg.ch
SUMMARY:Ein Gespräch zwischen Himmel und Erde
DESCRIPTION:Die Bibel ganz ursprünglich verstehen \nMartin Buber und Franz Rosenzweig haben zusammen die Hebräische Bibel\, unser Altes Testament\, ins Deutsche übersetzt. Sie haben dabei Worte gewählt\, die es ermöglichen\, auch im Deutschen dem Charakter der ursprünglichen Sprache der Bibel nachzuspüren. Wir werden uns mit beiden jüdischen Denkern und ihrem Vorgehen bei dieser «Verdeutschung»\, wie sie ihr Vorhaben genannt haben\, beschäftigen. \nFlyer
URL:https://kirche-heimberg.ch/event/ein-gespraech-zwischen-himmel-und-erde/
LOCATION:Pavillon bei der Kirche\, Schulstrasse 5\, Heimberg\, 3627\, Schweiz
CATEGORIES:Erwachsene
ATTACH;FMTTYPE=image/png:https://kirche-heimberg.ch/wp-content/uploads/2024/07/Screenshot-2024-07-31-113144.png
END:VEVENT
BEGIN:VEVENT
DTSTART;TZID=Europe/Zurich:20250216T080000
DTEND;TZID=Europe/Zurich:20250221T170000
DTSTAMP:20260422T235235
CREATED:20241217T125735Z
LAST-MODIFIED:20241217T125735Z
UID:10000272-1739692800-1740157200@kirche-heimberg.ch
SUMMARY:Winterlager ab der 4. Klasse
DESCRIPTION:16. bis 21. Februar 2025\nHasliberg\nEin Angebot für Kinder und Jugendliche ab der 4. Klasse \nWinterlager_Flyer_2025
URL:https://kirche-heimberg.ch/event/winterlager-ab-der-4-klasse/
LOCATION:Kirche Heimberg\, Schulstrasse 5\, Heimberg\, 3627\, Schweiz
CATEGORIES:Jugend,Kinder
END:VEVENT
END:VCALENDAR