BEGIN:VCALENDAR
VERSION:2.0
PRODID:-//Reformierte Kirchgemeinde Heimberg - ECPv6.15.20//NONSGML v1.0//EN
CALSCALE:GREGORIAN
METHOD:PUBLISH
X-WR-CALNAME:Reformierte Kirchgemeinde Heimberg
X-ORIGINAL-URL:https://kirche-heimberg.ch
X-WR-CALDESC:Veranstaltungen für Reformierte Kirchgemeinde Heimberg
REFRESH-INTERVAL;VALUE=DURATION:PT1H
X-Robots-Tag:noindex
X-PUBLISHED-TTL:PT1H
BEGIN:VTIMEZONE
TZID:Europe/Zurich
BEGIN:DAYLIGHT
TZOFFSETFROM:+0100
TZOFFSETTO:+0200
TZNAME:CEST
DTSTART:20230326T010000
END:DAYLIGHT
BEGIN:STANDARD
TZOFFSETFROM:+0200
TZOFFSETTO:+0100
TZNAME:CET
DTSTART:20231029T010000
END:STANDARD
BEGIN:DAYLIGHT
TZOFFSETFROM:+0100
TZOFFSETTO:+0200
TZNAME:CEST
DTSTART:20240331T010000
END:DAYLIGHT
BEGIN:STANDARD
TZOFFSETFROM:+0200
TZOFFSETTO:+0100
TZNAME:CET
DTSTART:20241027T010000
END:STANDARD
BEGIN:DAYLIGHT
TZOFFSETFROM:+0100
TZOFFSETTO:+0200
TZNAME:CEST
DTSTART:20250330T010000
END:DAYLIGHT
BEGIN:STANDARD
TZOFFSETFROM:+0200
TZOFFSETTO:+0100
TZNAME:CET
DTSTART:20251026T010000
END:STANDARD
END:VTIMEZONE
BEGIN:VEVENT
DTSTART;TZID=Europe/Zurich:20241119T150000
DTEND;TZID=Europe/Zurich:20241119T200000
DTSTAMP:20260422T031500
CREATED:20240925T173740Z
LAST-MODIFIED:20240925T174811Z
UID:10000238-1732028400-1732046400@kirche-heimberg.ch
SUMMARY:Aufruf zur Krippenausstellung am Adventsmärit 2024
DESCRIPTION:Zum diesjährigen Adventsmärit am 29. November 2024 möchten wir gerne wieder eine Krippenausstellung mit Krippen aus dem Dorf in der Kirche organisieren.    \nAus diesem Grund werden private Krippenfiguren gesucht\, welche im Chor der Kirche auf stimmungsvolle Weise ausgestellt werden sollen.   \nWann:  19. November 2024\, 15-20 Uhr\, in der Kirche  \nHaben auch Sie eine Krippe\, welche Sie uns zur Verfügung stellen möchten?    \nEgal wie gross oder klein oder aus welchem Kulturkries sie stammt! Bitte melden Sie sich bei Michael Albe per Mail (michael.albe@kirche-heimberg.ch) oder telefonisch (033 437 19 45) und geben sie auch an\, wie hoch ihre Figuren sind und welche Fläche die ganze Krippe ungefähr einnimmt. Die Figuren sollten in einer gut beschrifteten Verpackung bis am Freitag 10. November 2023 ins Sekretariat der Kirchgemeinde gebracht werden. Falls dies nicht möglich ist\, können Sie uns gerne anrufen\, so dass wir den Transport organisieren. Am Märittag können die Krippen dann ab 20.15 Uhr wieder direkt aus der Kirche abgeholt werden (oder zu einem späteren Zeitpunkt im Sekretariat).   \nSelbstverständlich werden die Figuren während der Ausstellung durchgehend beaufsichtigt sein. Wir freuen uns auf ihre Krippe und/oder Ihren Besuch am 29. November. 
URL:https://kirche-heimberg.ch/event/aufruf-zur-krippenausstellung-am-adventsmaerit-2024/
LOCATION:Kirche Heimberg\, Schulstrasse 5\, Heimberg\, 3627\, Schweiz
CATEGORIES:Erwachsene,Kirchgemeinde,Kulturelles
END:VEVENT
BEGIN:VEVENT
DTSTART;TZID=Europe/Zurich:20241119T130000
DTEND;TZID=Europe/Zurich:20241119T170000
DTSTAMP:20260422T031500
CREATED:20241113T094925Z
LAST-MODIFIED:20241113T094925Z
UID:10000266-1732021200-1732035600@kirche-heimberg.ch
SUMMARY:Café-Treff-Punkt
DESCRIPTION:Dienstag\, 19. November 13 bis 17 Uhr\, Pavillon bei der Kirche. \nAuskunft: Beat Nyffeler\, Tel. 033 438 01 48.
URL:https://kirche-heimberg.ch/event/cafe-treff-punkt-5/
LOCATION:Kirche Heimberg\, Schulstrasse 5\, Heimberg\, 3627\, Schweiz
END:VEVENT
BEGIN:VEVENT
DTSTART;TZID=Europe/Zurich:20241118T193000
DTEND;TZID=Europe/Zurich:20241118T213000
DTSTAMP:20260422T031500
CREATED:20241105T092631Z
LAST-MODIFIED:20241105T092631Z
UID:10000247-1731958200-1731965400@kirche-heimberg.ch
SUMMARY:Kirchen-Kino-Kaliforni
DESCRIPTION:Lust auf Kino und den gemütlichen Austausch über Filme und Themen? \nIn der Regel am dritten Montag im Monat kommen wir Kirchgemeindehaus Kaliforni zum Filmabend zusammen. Ausnahmen bilden der 10. Februar (2. Montag) und der 28. April (4. Montag). Im Juli und August wird kein Kinoabend angeboten. \nWeitere Informationen zur Organisation und zu Themen erhalten Sie bei Michael Albe. Rufen sie mich gerne an (Tel.: 033 437 19 45) oder schreiben Sie (michael.albe@kirche-heimberg.ch).
URL:https://kirche-heimberg.ch/event/kirchen-kino-kaliforni/2024-11-18/
LOCATION:Kirchgemeindehaus Kaliforni (KGH)\, Lerchenweg 14\, Heimberg\, 3613\, Schweiz
CATEGORIES:Kirchenkino
ATTACH;FMTTYPE=image/jpeg:https://kirche-heimberg.ch/wp-content/uploads/2024/11/Kirchenkino-24-25.jpg
ORGANIZER;CN="Kirchgemeinde Heimberg":MAILTO:albe@kirche-heimberg.ch
END:VEVENT
BEGIN:VEVENT
DTSTART;TZID=Europe/Zurich:20241117T093000
DTEND;TZID=Europe/Zurich:20241117T110000
DTSTAMP:20260422T031500
CREATED:20240417T113708Z
LAST-MODIFIED:20241113T151522Z
UID:10000203-1731835800-1731841200@kirche-heimberg.ch
SUMMARY:Gottesdienst - mit Radioaufnahme
DESCRIPTION:Lukas 4\, 14-21 „Das Gnadenjahr des Herrn“ \nmit Michael Albe\, Beat Nyffeler\, Hansueli Haldimann \nMusik: Corinna Bühler\, Orgel \n  \nDer Gottesdienst wird von Radio BeO aufgenommen und am 12. Januar  in der Rubrik „BeO Gottesdienst“ gesendet werden. \nFür die Aufnahme freuen wir uns auf eine gut gefüllte Kirche und einen kräftigen Gesang in Heimberg.
URL:https://kirche-heimberg.ch/event/gottesdienst-8/
LOCATION:Kirche Heimberg\, Schulstrasse 5\, Heimberg\, 3627\, Schweiz
CATEGORIES:Gottesdienst
ATTACH;FMTTYPE=image/jpeg:https://kirche-heimberg.ch/wp-content/uploads/2024/04/radio-e1731508635463.jpg
END:VEVENT
BEGIN:VEVENT
DTSTART;TZID=Europe/Zurich:20241113T093000
DTEND;TZID=Europe/Zurich:20241113T103000
DTSTAMP:20260422T031500
CREATED:20231227T140322Z
LAST-MODIFIED:20240110T143218Z
UID:10000101-1731490200-1731493800@kirche-heimberg.ch
SUMMARY:Singe mit de Chlyne
DESCRIPTION:In der ersten halben Stunde singen\, tanzen und musizieren wir zusammen mit dem kleinen Maulwurf.\nIm Anschluss haben wir Zeit für ein feines Znüni und gemeinsames Spielen. \nEin Angebot für Kinder von 0 bis 6 Jahren und ihre Eltern\, Geschwister\, Grosseltern\, Gotte\, Götti … \nPfrn. Yvonne Witschi\, Tel. 033 437 74 27.
URL:https://kirche-heimberg.ch/event/singe-mit-de-chlyne-21/
LOCATION:Kirchgemeindehaus Kaliforni (KGH)\, Lerchenweg 14\, Heimberg\, 3613\, Schweiz
CATEGORIES:Chlyne,Kinder
END:VEVENT
BEGIN:VEVENT
DTSTART;TZID=Europe/Zurich:20241112T100000
DTEND;TZID=Europe/Zurich:20241112T110000
DTSTAMP:20260422T031500
CREATED:20231227T140759Z
LAST-MODIFIED:20231227T140759Z
UID:10000108-1731405600-1731409200@kirche-heimberg.ch
SUMMARY:Altersheimpredigt
DESCRIPTION:mit Pfr. Michael Albe.\nMusik: Lee Stalder
URL:https://kirche-heimberg.ch/event/altersheimpredigt-9/
LOCATION:Alterszentrum Heimberg\, Auweg 67\, Heimberg\, 3627\, Schweiz
CATEGORIES:Gottesdienst
END:VEVENT
BEGIN:VEVENT
DTSTART;TZID=Europe/Zurich:20241111T190000
DTEND;TZID=Europe/Zurich:20241111T203000
DTSTAMP:20260422T031500
CREATED:20240826T081300Z
LAST-MODIFIED:20240826T081449Z
UID:10000232-1731351600-1731357000@kirche-heimberg.ch
SUMMARY:Sprachkaffee Deutsch
DESCRIPTION:Sie lernen Deutsch\, Ihnen fehlt aber die Möglichkeit\, die Sprache anzuwenden. Im Sprachkaffee bieten wir Ihnen die Gelegenheit\, Ihr Deutsch zu üben und zu verbessern. Bei Kaffee oder Tee sprechen wir in lockerer Atmosphäre über verschiedene Themen\, angepasst auf jedes Sprachniveau.\nSind Sie interessiert? Dann sind Sie herzlich eingeladen. \nDas Angebot ist gratis und kann ohne Anmeldung besucht werden. \nFragen: Susanne Geiser\, Tel. 079 769 40 60
URL:https://kirche-heimberg.ch/event/sprachkaffee-deutsch-13/
LOCATION:Pavillon bei der Kirche\, Schulstrasse 5\, Heimberg\, 3627\, Schweiz
CATEGORIES:Diverses,Erwachsene,Kirchgemeinde,Sprachkaffee
END:VEVENT
BEGIN:VEVENT
DTSTART;TZID=Europe/Zurich:20241110T093000
DTEND;TZID=Europe/Zurich:20241110T110000
DTSTAMP:20260422T031500
CREATED:20240417T113254Z
LAST-MODIFIED:20241014T122533Z
UID:10000202-1731231000-1731236400@kirche-heimberg.ch
SUMMARY:KUW I- Abendmahl
DESCRIPTION:mit Regula Berger mit Schüler/innen der 3.Klasse mit Abendmahl \nMusik: Corinna Bühler\, Orgel
URL:https://kirche-heimberg.ch/event/kuw-i-abendmahl-2/
LOCATION:Kirchgemeindehaus Kaliforni (KGH)\, Lerchenweg 14\, Heimberg\, 3613\, Schweiz
CATEGORIES:Gottesdienst
END:VEVENT
BEGIN:VEVENT
DTSTART;TZID=Europe/Zurich:20241108T100000
DTEND;TZID=Europe/Zurich:20241108T110000
DTSTAMP:20260422T031500
CREATED:20231227T141503Z
LAST-MODIFIED:20231227T141503Z
UID:10000118-1731060000-1731063600@kirche-heimberg.ch
SUMMARY:Altersheimpredigt
DESCRIPTION:mit Pfr. Michael Albe\nMusik: Flötengruppe
URL:https://kirche-heimberg.ch/event/altersheimpredigt-19/
LOCATION:Wohnheim Riedacker\, Riedackerstrasse 12\, 3627 Heimberg\, Schweiz
CATEGORIES:Gottesdienst
END:VEVENT
BEGIN:VEVENT
DTSTART;TZID=Europe/Zurich:20241105T200000
DTEND;TZID=Europe/Zurich:20241105T210000
DTSTAMP:20260422T031500
CREATED:20231227T141908Z
LAST-MODIFIED:20231227T141908Z
UID:10000127-1730836800-1730840400@kirche-heimberg.ch
SUMMARY:Andacht zu Gewalt und Krieg in der Welt
DESCRIPTION:mit Pfr. Michael Albe
URL:https://kirche-heimberg.ch/event/andacht-zu-gewalt-und-krieg-in-der-welt-11/
LOCATION:Kirche Heimberg\, Schulstrasse 5\, Heimberg\, 3627\, Schweiz
CATEGORIES:Gottesdienst
END:VEVENT
BEGIN:VEVENT
DTSTART;TZID=Europe/Zurich:20241103T093000
DTEND;TZID=Europe/Zurich:20241103T110000
DTSTAMP:20260422T031500
CREATED:20240417T112711Z
LAST-MODIFIED:20240508T135526Z
UID:10000201-1730626200-1730631600@kirche-heimberg.ch
SUMMARY:Reformationssonntag
DESCRIPTION:mit Pfr. Michael Albe \nMusik: Jugendmusik \n 
URL:https://kirche-heimberg.ch/event/kuw-i-abendmahl/
LOCATION:Kirche Heimberg\, Schulstrasse 5\, Heimberg\, 3627\, Schweiz
CATEGORIES:Gottesdienst
END:VEVENT
BEGIN:VEVENT
DTSTART;TZID=Europe/Zurich:20241030T093000
DTEND;TZID=Europe/Zurich:20241030T103000
DTSTAMP:20260422T031500
CREATED:20231227T140251Z
LAST-MODIFIED:20240110T143225Z
UID:10000100-1730280600-1730284200@kirche-heimberg.ch
SUMMARY:Singe mit de Chlyne
DESCRIPTION:In der ersten halben Stunde singen\, tanzen und musizieren wir zusammen mit dem kleinen Maulwurf.\nIm Anschluss haben wir Zeit für ein feines Znüni und gemeinsames Spielen. \nEin Angebot für Kinder von 0 bis 6 Jahren und ihre Eltern\, Geschwister\, Grosseltern\, Gotte\, Götti … \nPfrn. Yvonne Witschi\, Tel. 033 437 74 27.
URL:https://kirche-heimberg.ch/event/singe-mit-de-chlyne-20/
LOCATION:Pavillon bei der Kirche\, Schulstrasse 5\, Heimberg\, 3627\, Schweiz
CATEGORIES:Chlyne,Kinder
END:VEVENT
BEGIN:VEVENT
DTSTART;TZID=Europe/Zurich:20241028T190000
DTEND;TZID=Europe/Zurich:20241028T203000
DTSTAMP:20260422T031500
CREATED:20240826T081549Z
LAST-MODIFIED:20240826T081549Z
UID:10000233-1730142000-1730147400@kirche-heimberg.ch
SUMMARY:Sprachkaffee Deutsch
DESCRIPTION:Sie lernen Deutsch\, Ihnen fehlt aber die Möglichkeit\, die Sprache anzuwenden. Im Sprachkaffee bieten wir Ihnen die Gelegenheit\, Ihr Deutsch zu üben und zu verbessern. Bei Kaffee oder Tee sprechen wir in lockerer Atmosphäre über verschiedene Themen\, angepasst auf jedes Sprachniveau.\nSind Sie interessiert? Dann sind Sie herzlich eingeladen. \nDas Angebot ist gratis und kann ohne Anmeldung besucht werden. \nFragen: Susanne Geiser\, Tel. 079 769 40 60
URL:https://kirche-heimberg.ch/event/sprachkaffee-deutsch-14/
LOCATION:Pavillon bei der Kirche\, Schulstrasse 5\, Heimberg\, 3627\, Schweiz
CATEGORIES:Diverses,Erwachsene,Kirchgemeinde,Sprachkaffee
END:VEVENT
BEGIN:VEVENT
DTSTART;TZID=Europe/Zurich:20241027T093000
DTEND;TZID=Europe/Zurich:20241027T110000
DTSTAMP:20260422T031500
CREATED:20241014T122957Z
LAST-MODIFIED:20241014T123500Z
UID:10000240-1730021400-1730026800@kirche-heimberg.ch
SUMMARY:KUW I- Abendmahl
DESCRIPTION:mit Regula Berger mit Schüler/innen der 3.Klasse mit Abendmahl \nMusik: Corinna Bühler\, Orgel
URL:https://kirche-heimberg.ch/event/kuw-i-abendmahl-3/
LOCATION:Kirche Heimberg\, Schulstrasse 5\, Heimberg\, 3627\, Schweiz
CATEGORIES:Erwachsene,Gottesdienst
END:VEVENT
BEGIN:VEVENT
DTSTART;TZID=Europe/Zurich:20241024T190000
DTEND;TZID=Europe/Zurich:20241024T210000
DTSTAMP:20260422T031500
CREATED:20240904T125724Z
LAST-MODIFIED:20240904T153548Z
UID:10000236-1729796400-1729803600@kirche-heimberg.ch
SUMMARY:Das Leben\, das Universum ...und was ist mit Gott ?
DESCRIPTION:Was ist Leben und wie ist es entstanden?\nWoher kommt das Universum und hat es ein Ende?\nLassen sich Wissenschaft und Glauben in Einklang bringen\,\nwenn es um die grossen Fragen geht?\nDazu trägt vor unser Pfarrer Dr. Andreas Losch.\nEr ist an den Universitäten Bern und Zürich tätig.\nDonnerstag\, 24. Oktober\, 19:00 Uhr\nAula Heimberg \n  \n  \nPlakat Leben Universum Gott
URL:https://kirche-heimberg.ch/event/das-leben-das-universum-und-was-ist-mit-gott/
LOCATION:Aula Heimberg\, Schulstrasse 14\, Heimberg\, 3627\, Schweiz
CATEGORIES:Erwachsene
ATTACH;FMTTYPE=image/jpeg:https://kirche-heimberg.ch/wp-content/uploads/2024/09/Plakat-Leben-Universum-Gott.jpg
END:VEVENT
BEGIN:VEVENT
DTSTART;TZID=Europe/Zurich:20241021T193000
DTEND;TZID=Europe/Zurich:20241021T213000
DTSTAMP:20260422T031500
CREATED:20241016T105729Z
LAST-MODIFIED:20241021T141155Z
UID:10000242-1729539000-1729546200@kirche-heimberg.ch
SUMMARY:Kino Abend
DESCRIPTION:
URL:https://kirche-heimberg.ch/event/kino-abend/
LOCATION:Kirchgemeindehaus Kaliforni (KGH)\, Lerchenweg 14\, Heimberg\, 3613\, Schweiz
CATEGORIES:Erwachsene,Kirchenkino,Kulturelles
ATTACH;FMTTYPE=image/jpeg:https://kirche-heimberg.ch/wp-content/uploads/2024/10/Kirchenkino.jpg
ORGANIZER;CN="Kirchgemeinde Heimberg":MAILTO:losch@kirche-heimberg.ch
END:VEVENT
BEGIN:VEVENT
DTSTART;TZID=Europe/Zurich:20241020T103000
DTEND;TZID=Europe/Zurich:20241020T130000
DTSTAMP:20260422T031500
CREATED:20240417T100918Z
LAST-MODIFIED:20240911T073250Z
UID:10000191-1729420200-1729429200@kirche-heimberg.ch
SUMMARY:Erntedank Gottesdienst
DESCRIPTION:Erntedank Gottesdienst mit Kinderprogramm \nmit Pfr. Andreas Losch \nMusik: Raphael Becker\, Orgel; Kirchenchor \nAnschliessend sind alle zum Suppen Essen eingeladen
URL:https://kirche-heimberg.ch/event/erntedank-gottesdienst/
LOCATION:Kirche Heimberg\, Schulstrasse 5\, Heimberg\, 3627\, Schweiz
CATEGORIES:Gottesdienst
ATTACH;FMTTYPE=image/jpeg:https://kirche-heimberg.ch/wp-content/uploads/2024/09/20221023_083403-scaled.jpg
END:VEVENT
BEGIN:VEVENT
DTSTART;TZID=Europe/Zurich:20241018T170000
DTEND;TZID=Europe/Zurich:20241018T200000
DTSTAMP:20260422T031500
CREATED:20241014T100839Z
LAST-MODIFIED:20241014T102040Z
UID:10000239-1729270800-1729281600@kirche-heimberg.ch
SUMMARY:Kinderznacht und Filmabend – 7 bis 12 Jahre
DESCRIPTION:Kinderznacht und Filmabend – 7 bis 12 Jahre \nFreitag\, 18. Oktober\, 17 bis 20 Uhr\, Kirchgemeindehaus Kaliforni. \nSpielbus\, Gemeinsam Pizza essen und viel lachen \nAuch die Eltern sind herzlich eingeladen. \nWir freuen uns auf dich! \nAuskunft: bei Regula Berger\, Tel. 079 383 95 52 oder berger@kirche-heimberg.ch.
URL:https://kirche-heimberg.ch/event/kinderznacht-und-filmabend-7-bis-12-jahre/
LOCATION:Kirchgemeindehaus Kaliforni (KGH)\, Lerchenweg 14\, Heimberg\, 3613\, Schweiz
CATEGORIES:Erwachsene,Gemeinsam essen,Kinder
END:VEVENT
BEGIN:VEVENT
DTSTART;TZID=Europe/Zurich:20241018T100000
DTEND;TZID=Europe/Zurich:20241018T110000
DTSTAMP:20260422T031500
CREATED:20231227T141444Z
LAST-MODIFIED:20231227T141444Z
UID:10000117-1729245600-1729249200@kirche-heimberg.ch
SUMMARY:Altersheimpredigt
DESCRIPTION:mit Pfr. Michael Albe\nMusik: Flötengruppe
URL:https://kirche-heimberg.ch/event/altersheimpredigt-18/
LOCATION:Wohnheim Riedacker\, Riedackerstrasse 12\, 3627 Heimberg\, Schweiz
CATEGORIES:Gottesdienst
END:VEVENT
BEGIN:VEVENT
DTSTART;TZID=Europe/Zurich:20241016T093000
DTEND;TZID=Europe/Zurich:20241016T103000
DTSTAMP:20260422T031500
CREATED:20231227T140230Z
LAST-MODIFIED:20240110T143232Z
UID:10000099-1729071000-1729074600@kirche-heimberg.ch
SUMMARY:Singe mit de Chlyne
DESCRIPTION:In der ersten halben Stunde singen\, tanzen und musizieren wir zusammen mit dem kleinen Maulwurf.\nIm Anschluss haben wir Zeit für ein feines Znüni und gemeinsames Spielen. \nEin Angebot für Kinder von 0 bis 6 Jahren und ihre Eltern\, Geschwister\, Grosseltern\, Gotte\, Götti … \nPfrn. Yvonne Witschi\, Tel. 033 437 74 27.
URL:https://kirche-heimberg.ch/event/singe-mit-de-chlyne-19/
LOCATION:Kirchgemeindehaus Kaliforni (KGH)\, Lerchenweg 14\, Heimberg\, 3613\, Schweiz
CATEGORIES:Chlyne,Kinder
END:VEVENT
BEGIN:VEVENT
DTSTART;TZID=Europe/Zurich:20241014T190000
DTEND;TZID=Europe/Zurich:20241014T203000
DTSTAMP:20260422T031500
CREATED:20240826T081039Z
LAST-MODIFIED:20240826T081046Z
UID:10000231-1728932400-1728937800@kirche-heimberg.ch
SUMMARY:Sprachkaffee Deutsch
DESCRIPTION:Sie lernen Deutsch\, Ihnen fehlt aber die Möglichkeit\, die Sprache anzuwenden. Im Sprachkaffee bieten wir Ihnen die Gelegenheit\, Ihr Deutsch zu üben und zu verbessern. Bei Kaffee oder Tee sprechen wir in lockerer Atmosphäre über verschiedene Themen\, angepasst auf jedes Sprachniveau.\nSind Sie interessiert? Dann sind Sie herzlich eingeladen. \nDas Angebot ist gratis und kann ohne Anmeldung besucht werden. \nFragen: Susanne Geiser\, Tel. 079 769 40 60
URL:https://kirche-heimberg.ch/event/sprachkaffee-deutsch-12/
LOCATION:Pavillon bei der Kirche\, Schulstrasse 5\, Heimberg\, 3627\, Schweiz
CATEGORIES:Diverses,Erwachsene,Kirchgemeinde,Sprachkaffee
END:VEVENT
BEGIN:VEVENT
DTSTART;TZID=Europe/Zurich:20241013T190000
DTEND;TZID=Europe/Zurich:20241013T200000
DTSTAMP:20260422T031500
CREATED:20240417T100501Z
LAST-MODIFIED:20240417T100501Z
UID:10000190-1728846000-1728849600@kirche-heimberg.ch
SUMMARY:Abendgottesdienst
DESCRIPTION:Abendgottesdienst \nmit Pfr. Michael Albe \nMusik: Flötengruppe
URL:https://kirche-heimberg.ch/event/abendgottesdienst-9/
LOCATION:Kirchgemeindehaus Kaliforni (KGH)\, Lerchenweg 14\, Heimberg\, 3613\, Schweiz
CATEGORIES:Gottesdienst
END:VEVENT
BEGIN:VEVENT
DTSTART;TZID=Europe/Zurich:20241008T200000
DTEND;TZID=Europe/Zurich:20241008T210000
DTSTAMP:20260422T031500
CREATED:20231227T141855Z
LAST-MODIFIED:20231227T141855Z
UID:10000126-1728417600-1728421200@kirche-heimberg.ch
SUMMARY:Andacht zu Gewalt und Krieg in der Welt
DESCRIPTION:mit Pfr. Michael Albe
URL:https://kirche-heimberg.ch/event/andacht-zu-gewalt-und-krieg-in-der-welt-10/
LOCATION:Kirche Heimberg\, Schulstrasse 5\, Heimberg\, 3627\, Schweiz
CATEGORIES:Gottesdienst
END:VEVENT
BEGIN:VEVENT
DTSTART;TZID=Europe/Zurich:20241006T093000
DTEND;TZID=Europe/Zurich:20241006T110000
DTSTAMP:20260422T031500
CREATED:20240417T112137Z
LAST-MODIFIED:20240508T135613Z
UID:10000200-1728207000-1728212400@kirche-heimberg.ch
SUMMARY:Gottesdienst
DESCRIPTION:Gottesdienst \nmit Pfr. Michael Albe \nMusik: Corinna Bühler\, Orgel
URL:https://kirche-heimberg.ch/event/gottesdienst-7/
LOCATION:Kirche Heimberg\, Schulstrasse 5\, Heimberg\, 3627\, Schweiz
CATEGORIES:Gottesdienst
END:VEVENT
BEGIN:VEVENT
DTSTART;TZID=Europe/Zurich:20240930T080000
DTEND;TZID=Europe/Zurich:20241002T170000
DTSTAMP:20260422T031500
CREATED:20240813T140442Z
LAST-MODIFIED:20240821T121734Z
UID:10000227-1727683200-1727888400@kirche-heimberg.ch
SUMMARY:Holzbauwelt
DESCRIPTION:Gemeinsam tauchen wir in 80’000 Holzklötze der HolzBauWelt ein und bauen meterhohe Türme\, Tore\, Häuser und Stadtmauern. Der Fantasie sind keine Grenzen gesetzt! In gemeinsamer spielerischer Arbeit werden kreative\, einzigartige Bau- und Kunstwerke errichtet. In den Baupausen werden spannende Geschichten mit Bauerlebnissen der Bibel erzählt. Am Mittag essen und spielen wir zusammen. \nZu diesen kreativen Bautagen sind alle „Baumeister“ im Alter von 6 – 12 Jahren herzlich willkommen. \nAnmeldeschluss: 15. September \nKontakt und Anmeldung: \nKatechetin/Prädikantin Regula Berger\, Parkweg 2\, 3123 Belp Telefon 079 383 985 52 E-Mail: regula.berger@kirche-heimberg.ch \nHolzbauwelt
URL:https://kirche-heimberg.ch/event/holzbauwelt/
LOCATION:Kirche Heimberg\, Schulstrasse 5\, Heimberg\, 3627\, Schweiz
CATEGORIES:Gemeinsam essen,Kinder
ATTACH;FMTTYPE=image/png:https://kirche-heimberg.ch/wp-content/uploads/2024/08/Holzbauwelt.png
END:VEVENT
BEGIN:VEVENT
DTSTART;TZID=Europe/Zurich:20240929T190000
DTEND;TZID=Europe/Zurich:20240929T210000
DTSTAMP:20260422T031500
CREATED:20240417T095803Z
LAST-MODIFIED:20240508T135613Z
UID:10000189-1727636400-1727643600@kirche-heimberg.ch
SUMMARY:Abendgottesdienst
DESCRIPTION:Abendgottesdienst mit Apéro \nMusik: Drittmusiker Lateinamerika
URL:https://kirche-heimberg.ch/event/abendgottesdienst-8/
LOCATION:Kirche Heimberg\, Schulstrasse 5\, Heimberg\, 3627\, Schweiz
CATEGORIES:Gottesdienst
END:VEVENT
BEGIN:VEVENT
DTSTART;TZID=Europe/Zurich:20240922T093000
DTEND;TZID=Europe/Zurich:20240922T110000
DTSTAMP:20260422T031500
CREATED:20240417T111918Z
LAST-MODIFIED:20240508T135613Z
UID:10000199-1726997400-1727002800@kirche-heimberg.ch
SUMMARY:Gottesdienst
DESCRIPTION:Gottesdienst \nmit Pfr. Michael Albe \nMusik: Raphael Becker\, Orgel
URL:https://kirche-heimberg.ch/event/gottesdienst-6/
LOCATION:Kirche Heimberg\, Schulstrasse 5\, Heimberg\, 3627\, Schweiz
CATEGORIES:Gottesdienst
END:VEVENT
BEGIN:VEVENT
DTSTART;TZID=Europe/Zurich:20240918T080000
DTEND;TZID=Europe/Zurich:20240918T170000
DTSTAMP:20260422T031500
CREATED:20240905T054116Z
LAST-MODIFIED:20240905T054127Z
UID:10000237-1726646400-1726678800@kirche-heimberg.ch
SUMMARY:Einladung zur Frühaufsteher-Tour im Jura
DESCRIPTION:Wanderung Balmberg Farneren Gruppe 1
URL:https://kirche-heimberg.ch/event/einladung-zur-fruehaufsteher-tour-im-jura/
LOCATION:Kirche Heimberg\, Schulstrasse 5\, Heimberg\, 3627\, Schweiz
CATEGORIES:Senioren,Senioren-Wandergruppe
END:VEVENT
BEGIN:VEVENT
DTSTART;TZID=Europe/Zurich:20240915T093000
DTEND;TZID=Europe/Zurich:20240915T110000
DTSTAMP:20260422T031500
CREATED:20240417T111619Z
LAST-MODIFIED:20240913T062958Z
UID:10000198-1726392600-1726398000@kirche-heimberg.ch
SUMMARY:Bettags-Gottesdienst
DESCRIPTION:mit Pfr. Michael Albe \nmit Abendmahl \nMusik:  Jodlerklub Heimberg \nCorinna Bühler\, Orgel
URL:https://kirche-heimberg.ch/event/bettags-gottesdienst/
LOCATION:Kirche Heimberg\, Schulstrasse 5\, Heimberg\, 3627\, Schweiz
CATEGORIES:Gottesdienst
END:VEVENT
BEGIN:VEVENT
DTSTART;TZID=Europe/Zurich:20240913T100000
DTEND;TZID=Europe/Zurich:20240913T110000
DTSTAMP:20260422T031500
CREATED:20231227T141431Z
LAST-MODIFIED:20231227T141431Z
UID:10000116-1726221600-1726225200@kirche-heimberg.ch
SUMMARY:Altersheimpredigt
DESCRIPTION:mit Pfr. Michael Albe\nMusik: Flötengruppe
URL:https://kirche-heimberg.ch/event/altersheimpredigt-17/
LOCATION:Wohnheim Riedacker\, Riedackerstrasse 12\, 3627 Heimberg\, Schweiz
CATEGORIES:Gottesdienst
END:VEVENT
END:VCALENDAR