BEGIN:VCALENDAR
VERSION:2.0
PRODID:-//Reformierte Kirchgemeinde Heimberg - ECPv6.15.20//NONSGML v1.0//EN
CALSCALE:GREGORIAN
METHOD:PUBLISH
X-WR-CALNAME:Reformierte Kirchgemeinde Heimberg
X-ORIGINAL-URL:https://kirche-heimberg.ch
X-WR-CALDESC:Veranstaltungen für Reformierte Kirchgemeinde Heimberg
REFRESH-INTERVAL;VALUE=DURATION:PT1H
X-Robots-Tag:noindex
X-PUBLISHED-TTL:PT1H
BEGIN:VTIMEZONE
TZID:Europe/Zurich
BEGIN:DAYLIGHT
TZOFFSETFROM:+0100
TZOFFSETTO:+0200
TZNAME:CEST
DTSTART:20230326T010000
END:DAYLIGHT
BEGIN:STANDARD
TZOFFSETFROM:+0200
TZOFFSETTO:+0100
TZNAME:CET
DTSTART:20231029T010000
END:STANDARD
BEGIN:DAYLIGHT
TZOFFSETFROM:+0100
TZOFFSETTO:+0200
TZNAME:CEST
DTSTART:20240331T010000
END:DAYLIGHT
BEGIN:STANDARD
TZOFFSETFROM:+0200
TZOFFSETTO:+0100
TZNAME:CET
DTSTART:20241027T010000
END:STANDARD
BEGIN:DAYLIGHT
TZOFFSETFROM:+0100
TZOFFSETTO:+0200
TZNAME:CEST
DTSTART:20250330T010000
END:DAYLIGHT
BEGIN:STANDARD
TZOFFSETFROM:+0200
TZOFFSETTO:+0100
TZNAME:CET
DTSTART:20251026T010000
END:STANDARD
END:VTIMEZONE
BEGIN:VEVENT
DTSTART;TZID=Europe/Zurich:20240416T140000
DTEND;TZID=Europe/Zurich:20240416T160000
DTSTAMP:20260422T135334
CREATED:20231227T133250Z
LAST-MODIFIED:20240103T134102Z
UID:10000077-1713276000-1713283200@kirche-heimberg.ch
SUMMARY:Seniorennachmittag
DESCRIPTION:Geschichten eines Dorfpfarrers\nmit Herbert Held\n \n 
URL:https://kirche-heimberg.ch/event/seniorennachmittag-11/
LOCATION:Aula Heimberg\, Schulstrasse 14\, Heimberg\, 3627\, Schweiz
CATEGORIES:Senioren,Senioren-Nachmittage
END:VEVENT
BEGIN:VEVENT
DTSTART;TZID=Europe/Zurich:20240416T190000
DTEND;TZID=Europe/Zurich:20240416T203000
DTSTAMP:20260422T135334
CREATED:20231227T145519Z
LAST-MODIFIED:20240110T133617Z
UID:10000145-1713294000-1713299400@kirche-heimberg.ch
SUMMARY:Am Glauben zweifeln - im Zweifel glauben
DESCRIPTION:Grundfragen des Glaubens. Fünf Abende in der Passions- und Osterzeit mit Pfr. Michael Albe. \nThemen:\n06. Februar:  Spuren des Religiösen\n27. Februar:  Beten zwischen Verstummen und Reden\n12. März:       Schuld und Vergebung\n28. März:      Leben mit Tod und Sterben\n16. April:       Auferstehung zum Leben \n 
URL:https://kirche-heimberg.ch/event/am-glauben-zweifeln-im-zweifel-glauben-5/
LOCATION:Kirchgemeindehaus Kaliforni (KGH)\, Lerchenweg 14\, Heimberg\, 3613\, Schweiz
CATEGORIES:Erwachsene,Glaubenskurs,Kirchgemeinde
END:VEVENT
END:VCALENDAR