BEGIN:VCALENDAR
VERSION:2.0
PRODID:-//Reformierte Kirchgemeinde Heimberg - ECPv6.15.20//NONSGML v1.0//EN
CALSCALE:GREGORIAN
METHOD:PUBLISH
X-WR-CALNAME:Reformierte Kirchgemeinde Heimberg
X-ORIGINAL-URL:https://kirche-heimberg.ch
X-WR-CALDESC:Veranstaltungen für Reformierte Kirchgemeinde Heimberg
REFRESH-INTERVAL;VALUE=DURATION:PT1H
X-Robots-Tag:noindex
X-PUBLISHED-TTL:PT1H
BEGIN:VTIMEZONE
TZID:Europe/Zurich
BEGIN:DAYLIGHT
TZOFFSETFROM:+0100
TZOFFSETTO:+0200
TZNAME:CEST
DTSTART:20230326T010000
END:DAYLIGHT
BEGIN:STANDARD
TZOFFSETFROM:+0200
TZOFFSETTO:+0100
TZNAME:CET
DTSTART:20231029T010000
END:STANDARD
BEGIN:DAYLIGHT
TZOFFSETFROM:+0100
TZOFFSETTO:+0200
TZNAME:CEST
DTSTART:20240331T010000
END:DAYLIGHT
BEGIN:STANDARD
TZOFFSETFROM:+0200
TZOFFSETTO:+0100
TZNAME:CET
DTSTART:20241027T010000
END:STANDARD
BEGIN:DAYLIGHT
TZOFFSETFROM:+0100
TZOFFSETTO:+0200
TZNAME:CEST
DTSTART:20250330T010000
END:DAYLIGHT
BEGIN:STANDARD
TZOFFSETFROM:+0200
TZOFFSETTO:+0100
TZNAME:CET
DTSTART:20251026T010000
END:STANDARD
END:VTIMEZONE
BEGIN:VEVENT
DTSTART;TZID=Europe/Zurich:20241126T140000
DTEND;TZID=Europe/Zurich:20241126T170000
DTSTAMP:20260421T222250
CREATED:20241105T152342Z
LAST-MODIFIED:20241112T103055Z
UID:10000260-1732629600-1732640400@kirche-heimberg.ch
SUMMARY:Einladung zur Jahrezusammenkunft
DESCRIPTION:Jahresschluss WAGR \nZum Abschluss des Wander- und Spazierjahres laden wir zu einem Nachmittag im\nKirchgemeindehaus Oberdorf\, Pfarrhausweg 20\, 3612 Steffisburg ein.
URL:https://kirche-heimberg.ch/event/einladung-zur-jahrezusammenkunft/
LOCATION:Auswärts
CATEGORIES:Erwachsene,Senioren-Nachmittage,Senioren-Wandergruppe
END:VEVENT
BEGIN:VEVENT
DTSTART;TZID=Europe/Zurich:20241126T140000
DTEND;TZID=Europe/Zurich:20241126T170000
DTSTAMP:20260421T222250
CREATED:20241111T112044Z
LAST-MODIFIED:20241111T112401Z
UID:10000262-1732629600-1732640400@kirche-heimberg.ch
SUMMARY:Adventsfeier Senioren
DESCRIPTION:Adventsfeier \n14 Uhr Kirchgemeindehaus Kaliforni
URL:https://kirche-heimberg.ch/event/adventsfeier-senioren/
LOCATION:Kirchgemeindehaus Kaliforni (KGH)\, Lerchenweg 14\, Heimberg\, 3613\, Schweiz
CATEGORIES:Senioren,Senioren-Nachmittage
END:VEVENT
BEGIN:VEVENT
DTSTART;TZID=Europe/Zurich:20241126T200000
DTEND;TZID=Europe/Zurich:20241126T220000
DTSTAMP:20260421T222250
CREATED:20241016T110633Z
LAST-MODIFIED:20241016T110633Z
UID:10000243-1732651200-1732658400@kirche-heimberg.ch
SUMMARY:Kirchgemeindeversammlung
DESCRIPTION:KGV 26.11.2024 \nOrdentliche Kirchgemeindeversammlung\nDienstag\, 26. November 2024\, 20 Uhr\, Kirche Heimberg \n  \n  \n 
URL:https://kirche-heimberg.ch/event/kirchgemeindeversammlung/
LOCATION:Kirche Heimberg\, Schulstrasse 5\, Heimberg\, 3627\, Schweiz
CATEGORIES:Erwachsene,Kirchgemeinde
END:VEVENT
END:VCALENDAR