BEGIN:VCALENDAR
VERSION:2.0
PRODID:-//Reformierte Kirchgemeinde Heimberg - ECPv6.15.20//NONSGML v1.0//EN
CALSCALE:GREGORIAN
METHOD:PUBLISH
X-ORIGINAL-URL:https://kirche-heimberg.ch
X-WR-CALDESC:Veranstaltungen für Reformierte Kirchgemeinde Heimberg
REFRESH-INTERVAL;VALUE=DURATION:PT1H
X-Robots-Tag:noindex
X-PUBLISHED-TTL:PT1H
BEGIN:VTIMEZONE
TZID:Europe/Zurich
BEGIN:DAYLIGHT
TZOFFSETFROM:+0100
TZOFFSETTO:+0200
TZNAME:CEST
DTSTART:20230326T010000
END:DAYLIGHT
BEGIN:STANDARD
TZOFFSETFROM:+0200
TZOFFSETTO:+0100
TZNAME:CET
DTSTART:20231029T010000
END:STANDARD
BEGIN:DAYLIGHT
TZOFFSETFROM:+0100
TZOFFSETTO:+0200
TZNAME:CEST
DTSTART:20240331T010000
END:DAYLIGHT
BEGIN:STANDARD
TZOFFSETFROM:+0200
TZOFFSETTO:+0100
TZNAME:CET
DTSTART:20241027T010000
END:STANDARD
BEGIN:DAYLIGHT
TZOFFSETFROM:+0100
TZOFFSETTO:+0200
TZNAME:CEST
DTSTART:20250330T010000
END:DAYLIGHT
BEGIN:STANDARD
TZOFFSETFROM:+0200
TZOFFSETTO:+0100
TZNAME:CET
DTSTART:20251026T010000
END:STANDARD
END:VTIMEZONE
BEGIN:VEVENT
DTSTART;TZID=Europe/Zurich:20241211T093000
DTEND;TZID=Europe/Zurich:20241211T103000
DTSTAMP:20260422T015847
CREATED:20231227T140401Z
LAST-MODIFIED:20240110T142638Z
UID:10000103-1733909400-1733913000@kirche-heimberg.ch
SUMMARY:Singe mit de Chlyne
DESCRIPTION:In der ersten halben Stunde singen\, tanzen und musizieren wir zusammen mit dem kleinen Maulwurf.\nIm Anschluss haben wir Zeit für ein feines Znüni und gemeinsames Spielen. \nEin Angebot für Kinder von 0 bis 6 Jahren und ihre Eltern\, Geschwister\, Grosseltern\, Gotte\, Götti … \nPfrn. Yvonne Witschi\, Tel. 033 437 74 27.
URL:https://kirche-heimberg.ch/event/singe-mit-de-chlyne-23/
LOCATION:Kirchgemeindehaus Kaliforni (KGH)\, Lerchenweg 14\, Heimberg\, 3613\, Schweiz
CATEGORIES:Chlyne,Kinder
END:VEVENT
END:VCALENDAR