BEGIN:VCALENDAR
VERSION:2.0
PRODID:-//Reformierte Kirchgemeinde Heimberg - ECPv6.15.20//NONSGML v1.0//EN
CALSCALE:GREGORIAN
METHOD:PUBLISH
X-WR-CALNAME:Reformierte Kirchgemeinde Heimberg
X-ORIGINAL-URL:https://kirche-heimberg.ch
X-WR-CALDESC:Veranstaltungen für Reformierte Kirchgemeinde Heimberg
REFRESH-INTERVAL;VALUE=DURATION:PT1H
X-Robots-Tag:noindex
X-PUBLISHED-TTL:PT1H
BEGIN:VTIMEZONE
TZID:Europe/Zurich
BEGIN:DAYLIGHT
TZOFFSETFROM:+0100
TZOFFSETTO:+0200
TZNAME:CEST
DTSTART:20240331T010000
END:DAYLIGHT
BEGIN:STANDARD
TZOFFSETFROM:+0200
TZOFFSETTO:+0100
TZNAME:CET
DTSTART:20241027T010000
END:STANDARD
BEGIN:DAYLIGHT
TZOFFSETFROM:+0100
TZOFFSETTO:+0200
TZNAME:CEST
DTSTART:20250330T010000
END:DAYLIGHT
BEGIN:STANDARD
TZOFFSETFROM:+0200
TZOFFSETTO:+0100
TZNAME:CET
DTSTART:20251026T010000
END:STANDARD
BEGIN:DAYLIGHT
TZOFFSETFROM:+0100
TZOFFSETTO:+0200
TZNAME:CEST
DTSTART:20260329T010000
END:DAYLIGHT
BEGIN:STANDARD
TZOFFSETFROM:+0200
TZOFFSETTO:+0100
TZNAME:CET
DTSTART:20261025T010000
END:STANDARD
END:VTIMEZONE
BEGIN:VEVENT
DTSTART;TZID=Europe/Zurich:20250119T093000
DTEND;TZID=Europe/Zurich:20250119T110000
DTSTAMP:20260421T184431
CREATED:20241223T101915Z
LAST-MODIFIED:20241223T101915Z
UID:10000276-1737279000-1737284400@kirche-heimberg.ch
SUMMARY:Gottesdienst Bibelübergabe KUW II
DESCRIPTION:Gottesdienst mit Kat. Regula Berger \nMusik: Corinna Bühler
URL:https://kirche-heimberg.ch/event/gottesdienst-bibeluebergabe-kuw-ii/
LOCATION:Kirche Heimberg\, Schulstrasse 5\, Heimberg\, 3627\, Schweiz
CATEGORIES:Gottesdienst,Jugend,Kinder,KUW
END:VEVENT
BEGIN:VEVENT
DTSTART;TZID=Europe/Zurich:20250119T170000
DTEND;TZID=Europe/Zurich:20250119T183000
DTSTAMP:20260421T184431
CREATED:20241223T102546Z
LAST-MODIFIED:20250114T142426Z
UID:10000277-1737306000-1737311400@kirche-heimberg.ch
SUMMARY:Abendgottesdienst mit Konfirmanden
DESCRIPTION:Gottesdienst mit Kat. Regula Berger \nMusik:Ruth Blaser \nAnschliessend Apéro
URL:https://kirche-heimberg.ch/event/abendgottesdienst-mit-konfirmanden/
LOCATION:Kirche Heimberg\, Schulstrasse 5\, Heimberg\, 3627\, Schweiz
CATEGORIES:Gottesdienst,Jugend
END:VEVENT
END:VCALENDAR