BEGIN:VCALENDAR
VERSION:2.0
PRODID:-//Reformierte Kirchgemeinde Heimberg - ECPv6.15.20//NONSGML v1.0//EN
CALSCALE:GREGORIAN
METHOD:PUBLISH
X-ORIGINAL-URL:https://kirche-heimberg.ch
X-WR-CALDESC:Veranstaltungen für Reformierte Kirchgemeinde Heimberg
REFRESH-INTERVAL;VALUE=DURATION:PT1H
X-Robots-Tag:noindex
X-PUBLISHED-TTL:PT1H
BEGIN:VTIMEZONE
TZID:Europe/Zurich
BEGIN:DAYLIGHT
TZOFFSETFROM:+0100
TZOFFSETTO:+0200
TZNAME:CEST
DTSTART:20240331T010000
END:DAYLIGHT
BEGIN:STANDARD
TZOFFSETFROM:+0200
TZOFFSETTO:+0100
TZNAME:CET
DTSTART:20241027T010000
END:STANDARD
BEGIN:DAYLIGHT
TZOFFSETFROM:+0100
TZOFFSETTO:+0200
TZNAME:CEST
DTSTART:20250330T010000
END:DAYLIGHT
BEGIN:STANDARD
TZOFFSETFROM:+0200
TZOFFSETTO:+0100
TZNAME:CET
DTSTART:20251026T010000
END:STANDARD
BEGIN:DAYLIGHT
TZOFFSETFROM:+0100
TZOFFSETTO:+0200
TZNAME:CEST
DTSTART:20260329T010000
END:DAYLIGHT
BEGIN:STANDARD
TZOFFSETFROM:+0200
TZOFFSETTO:+0100
TZNAME:CET
DTSTART:20261025T010000
END:STANDARD
END:VTIMEZONE
BEGIN:VEVENT
DTSTART;TZID=Europe/Zurich:20250216T080000
DTEND;TZID=Europe/Zurich:20250221T170000
DTSTAMP:20260421T173611
CREATED:20241217T125735Z
LAST-MODIFIED:20241217T125735Z
UID:10000272-1739692800-1740157200@kirche-heimberg.ch
SUMMARY:Winterlager ab der 4. Klasse
DESCRIPTION:16. bis 21. Februar 2025\nHasliberg\nEin Angebot für Kinder und Jugendliche ab der 4. Klasse \nWinterlager_Flyer_2025
URL:https://kirche-heimberg.ch/event/winterlager-ab-der-4-klasse/
LOCATION:Kirche Heimberg\, Schulstrasse 5\, Heimberg\, 3627\, Schweiz
CATEGORIES:Jugend,Kinder
END:VEVENT
BEGIN:VEVENT
DTSTART;TZID=Europe/Zurich:20250218T140000
DTEND;TZID=Europe/Zurich:20250218T170000
DTSTAMP:20260421T173611
CREATED:20250120T144223Z
LAST-MODIFIED:20250120T144455Z
UID:10000304-1739887200-1739898000@kirche-heimberg.ch
SUMMARY:Seniorennachmittage
DESCRIPTION:Dienstag\, 18. Februar\, 14 Uhr\, Kirchgemeindehaus Kaliforni \nEinblicke in die Stiftung Uetendorf Berg \nmit Markus Brönnimann \nAuskunft und Anmeldung bei: Susanne Geiser\, Leiterin Altersarbeit\, Tel. 079 769 40 60. \n 
URL:https://kirche-heimberg.ch/event/seniorennachmittage-2/
LOCATION:Kirchgemeindehaus Kaliforni (KGH)\, Lerchenweg 14\, Heimberg\, 3613\, Schweiz
CATEGORIES:Erwachsene,Senioren-Nachmittage
END:VEVENT
END:VCALENDAR