BEGIN:VCALENDAR
VERSION:2.0
PRODID:-//Reformierte Kirchgemeinde Heimberg - ECPv6.15.20//NONSGML v1.0//EN
CALSCALE:GREGORIAN
METHOD:PUBLISH
X-WR-CALNAME:Reformierte Kirchgemeinde Heimberg
X-ORIGINAL-URL:https://kirche-heimberg.ch
X-WR-CALDESC:Veranstaltungen für Reformierte Kirchgemeinde Heimberg
REFRESH-INTERVAL;VALUE=DURATION:PT1H
X-Robots-Tag:noindex
X-PUBLISHED-TTL:PT1H
BEGIN:VTIMEZONE
TZID:Europe/Zurich
BEGIN:DAYLIGHT
TZOFFSETFROM:+0100
TZOFFSETTO:+0200
TZNAME:CEST
DTSTART:20240331T010000
END:DAYLIGHT
BEGIN:STANDARD
TZOFFSETFROM:+0200
TZOFFSETTO:+0100
TZNAME:CET
DTSTART:20241027T010000
END:STANDARD
BEGIN:DAYLIGHT
TZOFFSETFROM:+0100
TZOFFSETTO:+0200
TZNAME:CEST
DTSTART:20250330T010000
END:DAYLIGHT
BEGIN:STANDARD
TZOFFSETFROM:+0200
TZOFFSETTO:+0100
TZNAME:CET
DTSTART:20251026T010000
END:STANDARD
BEGIN:DAYLIGHT
TZOFFSETFROM:+0100
TZOFFSETTO:+0200
TZNAME:CEST
DTSTART:20260329T010000
END:DAYLIGHT
BEGIN:STANDARD
TZOFFSETFROM:+0200
TZOFFSETTO:+0100
TZNAME:CET
DTSTART:20261025T010000
END:STANDARD
END:VTIMEZONE
BEGIN:VEVENT
DTSTART;TZID=Europe/Zurich:20250305T093000
DTEND;TZID=Europe/Zurich:20250305T113000
DTSTAMP:20260421T124329
CREATED:20250212T111928Z
LAST-MODIFIED:20250212T124812Z
UID:10000316-1741167000-1741174200@kirche-heimberg.ch
SUMMARY:Singe mit de Chlyne
DESCRIPTION:
URL:https://kirche-heimberg.ch/event/singe-mit-de-chlyne-24/
LOCATION:Kirchgemeindehaus Kaliforni (KGH)\, Lerchenweg 14\, Heimberg\, 3613\, Schweiz
CATEGORIES:Chlyne,Kinder
END:VEVENT
BEGIN:VEVENT
DTSTART;TZID=Europe/Zurich:20250305T140000
DTEND;TZID=Europe/Zurich:20250305T170000
DTSTAMP:20260421T124329
CREATED:20250303T074208Z
LAST-MODIFIED:20250303T074225Z
UID:10000331-1741183200-1741194000@kirche-heimberg.ch
SUMMARY:Seniorennamittag
DESCRIPTION:Begegnung zwischen Jung und Alt \nKtechetin Regula Berger und KUW-Klasse \nMittwoch\, 5. März 14 Uhr Aula
URL:https://kirche-heimberg.ch/event/seniorennamittag/
LOCATION:Kirche Heimberg\, Schulstrasse 5\, Heimberg\, 3627\, Schweiz
CATEGORIES:Chlyne,Erwachsene,Jugend,Kinder
END:VEVENT
BEGIN:VEVENT
DTSTART;TZID=Europe/Zurich:20250305T193000
DTEND;TZID=Europe/Zurich:20250305T210000
DTSTAMP:20260421T124329
CREATED:20250131T070503Z
LAST-MODIFIED:20250131T070503Z
UID:10000311-1741203000-1741208400@kirche-heimberg.ch
SUMMARY:Kirchenchor
DESCRIPTION:Mi\, 5. März\, 19.30 bis 21.00 \nKirchenchor Probe Kirche Heimberg
URL:https://kirche-heimberg.ch/event/kirchenchor-2/
LOCATION:Kirche Heimberg\, Schulstrasse 5\, Heimberg\, 3627\, Schweiz
CATEGORIES:Kirchgemeinde
END:VEVENT
END:VCALENDAR