BEGIN:VCALENDAR
VERSION:2.0
PRODID:-//Reformierte Kirchgemeinde Heimberg - ECPv6.15.20//NONSGML v1.0//EN
CALSCALE:GREGORIAN
METHOD:PUBLISH
X-ORIGINAL-URL:https://kirche-heimberg.ch
X-WR-CALDESC:Veranstaltungen für Reformierte Kirchgemeinde Heimberg
REFRESH-INTERVAL;VALUE=DURATION:PT1H
X-Robots-Tag:noindex
X-PUBLISHED-TTL:PT1H
BEGIN:VTIMEZONE
TZID:Europe/Zurich
BEGIN:DAYLIGHT
TZOFFSETFROM:+0100
TZOFFSETTO:+0200
TZNAME:CEST
DTSTART:20240331T010000
END:DAYLIGHT
BEGIN:STANDARD
TZOFFSETFROM:+0200
TZOFFSETTO:+0100
TZNAME:CET
DTSTART:20241027T010000
END:STANDARD
BEGIN:DAYLIGHT
TZOFFSETFROM:+0100
TZOFFSETTO:+0200
TZNAME:CEST
DTSTART:20250330T010000
END:DAYLIGHT
BEGIN:STANDARD
TZOFFSETFROM:+0200
TZOFFSETTO:+0100
TZNAME:CET
DTSTART:20251026T010000
END:STANDARD
BEGIN:DAYLIGHT
TZOFFSETFROM:+0100
TZOFFSETTO:+0200
TZNAME:CEST
DTSTART:20260329T010000
END:DAYLIGHT
BEGIN:STANDARD
TZOFFSETFROM:+0200
TZOFFSETTO:+0100
TZNAME:CET
DTSTART:20261025T010000
END:STANDARD
END:VTIMEZONE
BEGIN:VEVENT
DTSTART;TZID=Europe/Zurich:20250401T193000
DTEND;TZID=Europe/Zurich:20250401T203000
DTSTAMP:20260421T120253
CREATED:20250303T084045Z
LAST-MODIFIED:20250328T154149Z
UID:10000337-1743535800-1743539400@kirche-heimberg.ch
SUMMARY:Taizé Andacht
DESCRIPTION:Dienstag\, 1. April\, 19:30 Uhr im Kirchgemeindehaus Kaliforni
URL:https://kirche-heimberg.ch/event/taize-andacht-2/
LOCATION:Kirchgemeindehaus Kaliforni (KGH)\, Lerchenweg 14\, Heimberg\, 3613\, Schweiz
CATEGORIES:Erwachsene,Gottesdienst,Kirchgemeinde
ATTACH;FMTTYPE=image/jpeg:https://kirche-heimberg.ch/wp-content/uploads/2025/03/Taize-April-.jpg
END:VEVENT
END:VCALENDAR