BEGIN:VCALENDAR
VERSION:2.0
PRODID:-//Reformierte Kirchgemeinde Heimberg - ECPv6.15.20//NONSGML v1.0//EN
CALSCALE:GREGORIAN
METHOD:PUBLISH
X-ORIGINAL-URL:https://kirche-heimberg.ch
X-WR-CALDESC:Veranstaltungen für Reformierte Kirchgemeinde Heimberg
REFRESH-INTERVAL;VALUE=DURATION:PT1H
X-Robots-Tag:noindex
X-PUBLISHED-TTL:PT1H
BEGIN:VTIMEZONE
TZID:Europe/Zurich
BEGIN:DAYLIGHT
TZOFFSETFROM:+0100
TZOFFSETTO:+0200
TZNAME:CEST
DTSTART:20240331T010000
END:DAYLIGHT
BEGIN:STANDARD
TZOFFSETFROM:+0200
TZOFFSETTO:+0100
TZNAME:CET
DTSTART:20241027T010000
END:STANDARD
BEGIN:DAYLIGHT
TZOFFSETFROM:+0100
TZOFFSETTO:+0200
TZNAME:CEST
DTSTART:20250330T010000
END:DAYLIGHT
BEGIN:STANDARD
TZOFFSETFROM:+0200
TZOFFSETTO:+0100
TZNAME:CET
DTSTART:20251026T010000
END:STANDARD
BEGIN:DAYLIGHT
TZOFFSETFROM:+0100
TZOFFSETTO:+0200
TZNAME:CEST
DTSTART:20260329T010000
END:DAYLIGHT
BEGIN:STANDARD
TZOFFSETFROM:+0200
TZOFFSETTO:+0100
TZNAME:CET
DTSTART:20261025T010000
END:STANDARD
END:VTIMEZONE
BEGIN:VEVENT
DTSTART;TZID=Europe/Zurich:20250423T093000
DTEND;TZID=Europe/Zurich:20250423T110000
DTSTAMP:20260421T140754
CREATED:20250217T201243Z
LAST-MODIFIED:20250217T201243Z
UID:10000321-1745400600-1745406000@kirche-heimberg.ch
SUMMARY:Singe mit de Chlyne
DESCRIPTION:
URL:https://kirche-heimberg.ch/event/singe-mit-de-chlyne-27/
LOCATION:Pavillon bei der Kirche\, Schulstrasse 5\, Heimberg\, 3627\, Schweiz
CATEGORIES:Chlyne,Kinder
END:VEVENT
BEGIN:VEVENT
DTSTART;TZID=Europe/Zurich:20250423T193000
DTEND;TZID=Europe/Zurich:20250423T210000
DTSTAMP:20260421T140754
CREATED:20250402T122430Z
LAST-MODIFIED:20250402T122430Z
UID:10000873-1745436600-1745442000@kirche-heimberg.ch
SUMMARY:Kirchenchor
DESCRIPTION:Mitwirkung am Karfreitag: 18. April\, 9.30 Uhr\, Kirche \nProben in der Kirche: Mittwoch\, 2.\, 16.\, 23.\, 30. April\,19.30 Uhr \nWir suchen Sängerinnen und Sänger für unser Sommerkonzert am 21./22. Juni. \nWenn Sie uns bei diesem Projekt mit Ihrer Stimme unterstützen möchten\, sind Sie herzlich willkommen! \nAuskunft: Rosmarie Zosso\, Tel. 033 437 36 74
URL:https://kirche-heimberg.ch/event/kirchenchor-5/2025-04-23/
LOCATION:Kirche Heimberg\, Schulstrasse 5\, Heimberg\, 3627\, Schweiz
CATEGORIES:Kirchgemeinde,Kulturelles
END:VEVENT
END:VCALENDAR