BEGIN:VCALENDAR
VERSION:2.0
PRODID:-//Reformierte Kirchgemeinde Heimberg - ECPv6.15.20//NONSGML v1.0//EN
CALSCALE:GREGORIAN
METHOD:PUBLISH
X-WR-CALNAME:Reformierte Kirchgemeinde Heimberg
X-ORIGINAL-URL:https://kirche-heimberg.ch
X-WR-CALDESC:Veranstaltungen für Reformierte Kirchgemeinde Heimberg
REFRESH-INTERVAL;VALUE=DURATION:PT1H
X-Robots-Tag:noindex
X-PUBLISHED-TTL:PT1H
BEGIN:VTIMEZONE
TZID:Europe/Zurich
BEGIN:DAYLIGHT
TZOFFSETFROM:+0100
TZOFFSETTO:+0200
TZNAME:CEST
DTSTART:20230326T010000
END:DAYLIGHT
BEGIN:STANDARD
TZOFFSETFROM:+0200
TZOFFSETTO:+0100
TZNAME:CET
DTSTART:20231029T010000
END:STANDARD
BEGIN:DAYLIGHT
TZOFFSETFROM:+0100
TZOFFSETTO:+0200
TZNAME:CEST
DTSTART:20240331T010000
END:DAYLIGHT
BEGIN:STANDARD
TZOFFSETFROM:+0200
TZOFFSETTO:+0100
TZNAME:CET
DTSTART:20241027T010000
END:STANDARD
BEGIN:DAYLIGHT
TZOFFSETFROM:+0100
TZOFFSETTO:+0200
TZNAME:CEST
DTSTART:20250330T010000
END:DAYLIGHT
BEGIN:STANDARD
TZOFFSETFROM:+0200
TZOFFSETTO:+0100
TZNAME:CET
DTSTART:20251026T010000
END:STANDARD
END:VTIMEZONE
BEGIN:VEVENT
DTSTART;TZID=Europe/Zurich:20240903T200000
DTEND;TZID=Europe/Zurich:20240903T210000
DTSTAMP:20260421T124837
CREATED:20231227T141837Z
LAST-MODIFIED:20231227T141837Z
UID:10000125-1725393600-1725397200@kirche-heimberg.ch
SUMMARY:Andacht zu Gewalt und Krieg in der Welt
DESCRIPTION:mit Pfr. Michael Albe
URL:https://kirche-heimberg.ch/event/andacht-zu-gewalt-und-krieg-in-der-welt-9/
LOCATION:Kirche Heimberg\, Schulstrasse 5\, Heimberg\, 3627\, Schweiz
CATEGORIES:Gottesdienst
END:VEVENT
BEGIN:VEVENT
DTSTART;TZID=Europe/Zurich:20240828T083000
DTEND;TZID=Europe/Zurich:20240828T160000
DTSTAMP:20260421T124837
CREATED:20240813T073529Z
LAST-MODIFIED:20240813T073529Z
UID:10000224-1724833800-1724860800@kirche-heimberg.ch
SUMMARY:Senioren Wandergruppe "Einladung zur Griesalp"
DESCRIPTION:Einladung zur Griesalp – Wanderung vom Mittwoch\, 28. August 2024 \n Wanderung Griesalp Gruppe 2 August
URL:https://kirche-heimberg.ch/event/senioren-wandergruppe-einladung-zur-griesalp/
LOCATION:Kirche Heimberg\, Schulstrasse 5\, Heimberg\, 3627\, Schweiz
CATEGORIES:Senioren,Senioren-Nachmittage,Senioren-Wandergruppe
END:VEVENT
BEGIN:VEVENT
DTSTART;TZID=Europe/Zurich:20240828T083000
DTEND;TZID=Europe/Zurich:20240828T143000
DTSTAMP:20260421T124837
CREATED:20240813T073007Z
LAST-MODIFIED:20240813T082807Z
UID:10000226-1724833800-1724855400@kirche-heimberg.ch
SUMMARY:Senioren Wandergruppe "Vo Chäsitz dürs Moos zur Aare"
DESCRIPTION:Einladung zur Wanderung vom Mittwoch\, 28. August 2024\n„Vo Chäsitz dürs Moos zur Aare“ \nWanderung Chäsitz Gruppe 3 August
URL:https://kirche-heimberg.ch/event/senioren-wandergruppe-vo-chaesitz-duers-moos-zur-aare/
LOCATION:Kirche Heimberg\, Schulstrasse 5\, Heimberg\, 3627\, Schweiz
CATEGORIES:Kirchgemeinde,Senioren,Senioren-Wandergruppe
END:VEVENT
BEGIN:VEVENT
DTSTART;TZID=Europe/Zurich:20240828T080000
DTEND;TZID=Europe/Zurich:20240828T180000
DTSTAMP:20260421T124837
CREATED:20240813T073823Z
LAST-MODIFIED:20240905T054522Z
UID:10000225-1724832000-1724868000@kirche-heimberg.ch
SUMMARY:Wanderung Balmberg
DESCRIPTION:Einladung zur Frühaufsteher-Tour im Jura vom Mittwoch\, 18. September 2024 \nWanderung Balmberg Farneren Gruppe 1
URL:https://kirche-heimberg.ch/event/senioren-wandergruppe-salwideli/
LOCATION:Kirche Heimberg\, Schulstrasse 5\, Heimberg\, 3627\, Schweiz
CATEGORIES:Senioren,Senioren-Nachmittage,Senioren-Wandergruppe
END:VEVENT
BEGIN:VEVENT
DTSTART;TZID=Europe/Zurich:20240818T093000
DTEND;TZID=Europe/Zurich:20240818T120000
DTSTAMP:20260421T124837
CREATED:20240417T095521Z
LAST-MODIFIED:20240814T110317Z
UID:10000188-1723973400-1723982400@kirche-heimberg.ch
SUMMARY:Gottesdienst mit Kinderprogramm
DESCRIPTION:Gottesdienst unter freiem Himmel mit Kinderprogramm und Apéro \nmit Pfr. Michael Albe und der Christlichen Gemeinde Heimberg \nMusik: Jugendmusik
URL:https://kirche-heimberg.ch/event/gottesdienst-mit-kinderprogramm/
LOCATION:Kirche Heimberg\, Schulstrasse 5\, Heimberg\, 3627\, Schweiz
CATEGORIES:Gottesdienst
END:VEVENT
BEGIN:VEVENT
DTSTART;TZID=Europe/Zurich:20240811T093000
DTEND;TZID=Europe/Zurich:20240811T120000
DTSTAMP:20260421T124837
CREATED:20240624T105409Z
LAST-MODIFIED:20240624T105728Z
UID:10000218-1723368600-1723377600@kirche-heimberg.ch
SUMMARY:Gottesdienst zum Schulanfang mit Taufen
DESCRIPTION:Sonntag 11. August\, 9.30 Uhr\, Kirche mit Pfrn. Yvonne Witschi und Ruth Blaser (Musik)\, anschliessend Apéro \nFyler Schulanfangsgottesdienst \n 
URL:https://kirche-heimberg.ch/event/gottesdienst-zum-schulanfang-mit-taufen/
LOCATION:Kirche Heimberg\, Schulstrasse 5\, Heimberg\, 3627\, Schweiz
CATEGORIES:Gottesdienst,Jugend,Kinder
END:VEVENT
BEGIN:VEVENT
DTSTART;TZID=Europe/Zurich:20240804T093000
DTEND;TZID=Europe/Zurich:20240804T110000
DTSTAMP:20260421T124837
CREATED:20240417T110606Z
LAST-MODIFIED:20240508T135658Z
UID:10000195-1722763800-1722769200@kirche-heimberg.ch
SUMMARY:Gottesdienst
DESCRIPTION:Gottesdienst \nmit Pfr. Andreas Losch \nMusik: Corinna Bühler\, Orgel
URL:https://kirche-heimberg.ch/event/gottesdienst-3/
LOCATION:Kirche Heimberg\, Schulstrasse 5\, Heimberg\, 3627\, Schweiz
CATEGORIES:Gottesdienst
END:VEVENT
BEGIN:VEVENT
DTSTART;TZID=Europe/Zurich:20240728T190000
DTEND;TZID=Europe/Zurich:20240728T210000
DTSTAMP:20260421T124837
CREATED:20240417T094542Z
LAST-MODIFIED:20240615T061253Z
UID:10000186-1722193200-1722200400@kirche-heimberg.ch
SUMMARY:Abendgottesdienst mit Apéro
DESCRIPTION:Abendgottesdienst „Echt Kunst“ mit Apéro \nmit Pfr. Andreas Losch \nJazzgottesdienst\nmit dem Philosophen Hans-Dieter Mutschler \nWenn es echte Kunst gibt\, dann auch unechte. Dagegen spricht\, dass Kunst kontinuierlich in «Nichtkunst» übergeht: Kitsch\, Reklame\, Design\, Karikatur usw. Auf dieser schiefen Ebene zwischen Beethoven und Schlagermusik rangiert sich auch der Jazz ein. Und was hat das mit dem Glauben zu tun? Braucht der die Kunst und wenn ja ‘welche’? Muss man Bachs Matthäuspassion hören\, um ein frommer Christ zu sein? \nFlyer
URL:https://kirche-heimberg.ch/event/abendgottesdienst-mit-apero/
LOCATION:Kirche Heimberg\, Schulstrasse 5\, Heimberg\, 3627\, Schweiz
CATEGORIES:Gottesdienst
ATTACH;FMTTYPE=image/png:https://kirche-heimberg.ch/wp-content/uploads/2024/04/Screenshot-2024-06-15-081152.png
END:VEVENT
BEGIN:VEVENT
DTSTART;TZID=Europe/Zurich:20240721T093000
DTEND;TZID=Europe/Zurich:20240721T110000
DTSTAMP:20260421T124837
CREATED:20240417T110449Z
LAST-MODIFIED:20240508T135658Z
UID:10000194-1721554200-1721559600@kirche-heimberg.ch
SUMMARY:Gottesdienst
DESCRIPTION:Gottesdienst \nmit Pfr. Michael Albe \nMusik: Corinna Bühler\, Orgel
URL:https://kirche-heimberg.ch/event/gottesdienst-2/
LOCATION:Kirche Heimberg\, Schulstrasse 5\, Heimberg\, 3627\, Schweiz
CATEGORIES:Gottesdienst
END:VEVENT
BEGIN:VEVENT
DTSTART;TZID=Europe/Zurich:20240707T093000
DTEND;TZID=Europe/Zurich:20240707T110000
DTSTAMP:20260421T124837
CREATED:20240417T110246Z
LAST-MODIFIED:20240508T135658Z
UID:10000193-1720344600-1720350000@kirche-heimberg.ch
SUMMARY:Gottesdienst
DESCRIPTION:Gottesdienst \nmit Pfr. Michael Albe \nMusik: Raphael Becker\, Orgel
URL:https://kirche-heimberg.ch/event/gottesdienst/
LOCATION:Kirche Heimberg\, Schulstrasse 5\, Heimberg\, 3627\, Schweiz
CATEGORIES:Gottesdienst
END:VEVENT
BEGIN:VEVENT
DTSTART;TZID=Europe/Zurich:20240703T085000
DTEND;TZID=Europe/Zurich:20240703T170000
DTSTAMP:20260421T124837
CREATED:20240625T113856Z
LAST-MODIFIED:20240625T113856Z
UID:10000221-1719996600-1720026000@kirche-heimberg.ch
SUMMARY:Wanderung Simme
DESCRIPTION:Wanderung Simme Gruppe 3
URL:https://kirche-heimberg.ch/event/wanderung-simme/
LOCATION:Kirche Heimberg\, Schulstrasse 5\, Heimberg\, 3627\, Schweiz
CATEGORIES:Senioren-Wandergruppe
END:VEVENT
BEGIN:VEVENT
DTSTART;TZID=Europe/Zurich:20240703T084500
DTEND;TZID=Europe/Zurich:20240703T170000
DTSTAMP:20260421T124837
CREATED:20240625T113518Z
LAST-MODIFIED:20240625T113518Z
UID:10000219-1719996300-1720026000@kirche-heimberg.ch
SUMMARY:Wanderung Lötschental
DESCRIPTION:Wanderung Lötschental Gruppe 1
URL:https://kirche-heimberg.ch/event/wanderung-loetschental/
LOCATION:Kirche Heimberg\, Schulstrasse 5\, Heimberg\, 3627\, Schweiz
CATEGORIES:Senioren-Wandergruppe
END:VEVENT
BEGIN:VEVENT
DTSTART;TZID=Europe/Zurich:20240703T070500
DTEND;TZID=Europe/Zurich:20240703T170000
DTSTAMP:20260421T124837
CREATED:20240625T113648Z
LAST-MODIFIED:20240625T113717Z
UID:10000220-1719990300-1720026000@kirche-heimberg.ch
SUMMARY:Wanderung Kernswald
DESCRIPTION: Wanderung Kernswald Gruppe 2
URL:https://kirche-heimberg.ch/event/wanderung-kernswald/
LOCATION:Kirche Heimberg\, Schulstrasse 5\, Heimberg\, 3627\, Schweiz
CATEGORIES:Senioren-Wandergruppe
END:VEVENT
BEGIN:VEVENT
DTSTART;TZID=Europe/Zurich:20240702T200000
DTEND;TZID=Europe/Zurich:20240702T210000
DTSTAMP:20260421T124837
CREATED:20231227T141822Z
LAST-MODIFIED:20231227T141822Z
UID:10000124-1719950400-1719954000@kirche-heimberg.ch
SUMMARY:Andacht zu Gewalt und Krieg in der Welt
DESCRIPTION:mit Pfr. Michael Albe
URL:https://kirche-heimberg.ch/event/andacht-zu-gewalt-und-krieg-in-der-welt-8/
LOCATION:Kirche Heimberg\, Schulstrasse 5\, Heimberg\, 3627\, Schweiz
CATEGORIES:Gottesdienst
END:VEVENT
BEGIN:VEVENT
DTSTART;TZID=Europe/Zurich:20240630T190000
DTEND;TZID=Europe/Zurich:20240630T200000
DTSTAMP:20260421T124837
CREATED:20240417T093657Z
LAST-MODIFIED:20240508T135658Z
UID:10000185-1719774000-1719777600@kirche-heimberg.ch
SUMMARY:Abendgottesdienst
DESCRIPTION:Abendgottesdienst \nmit Pfr. Andreas Losch \nMusik: Ruth Blaser\, Orgel
URL:https://kirche-heimberg.ch/event/abendgottesdienst-7/
LOCATION:Kirche Heimberg\, Schulstrasse 5\, Heimberg\, 3627\, Schweiz
CATEGORIES:Gottesdienst
END:VEVENT
BEGIN:VEVENT
DTSTART;TZID=Europe/Zurich:20240623T190000
DTEND;TZID=Europe/Zurich:20240623T210000
DTSTAMP:20260421T124837
CREATED:20240424T141552Z
LAST-MODIFIED:20240615T061755Z
UID:10000215-1719169200-1719176400@kirche-heimberg.ch
SUMMARY:Sommerkonzert Kirchenchor
DESCRIPTION:Flyer Sommerkonzert 2024
URL:https://kirche-heimberg.ch/event/sommerkonzert-kirchenchor-2/
LOCATION:Kirche Heimberg\, Schulstrasse 5\, Heimberg\, 3627\, Schweiz
CATEGORIES:Kulturelles
ATTACH;FMTTYPE=image/png:https://kirche-heimberg.ch/wp-content/uploads/2024/04/Sommerkonzert24.png
END:VEVENT
BEGIN:VEVENT
DTSTART;TZID=Europe/Zurich:20240622T170000
DTEND;TZID=Europe/Zurich:20240623T120000
DTSTAMP:20260421T124837
CREATED:20240422T120609Z
LAST-MODIFIED:20240422T120757Z
UID:10000212-1719075600-1719144000@kirche-heimberg.ch
SUMMARY:enterTrainings- Ausbildung für junge Leitende
DESCRIPTION:Samstag\, 22. Juni\, 17 Uhr bis Sonntag\, 23. Juni\, 12 Uhr im Kirchgemeindehaus Kaliforni. \n  \nenterTrainings Flyer \n 
URL:https://kirche-heimberg.ch/event/entertrainings-ausbildung-fuer-junge-leitende/
LOCATION:Kirche Heimberg\, Schulstrasse 5\, Heimberg\, 3627\, Schweiz
END:VEVENT
BEGIN:VEVENT
DTSTART;VALUE=DATE:20240620
DTEND;VALUE=DATE:20240621
DTSTAMP:20260421T124837
CREATED:20240517T091739Z
LAST-MODIFIED:20240615T061342Z
UID:10000217-1718841600-1718927999@kirche-heimberg.ch
SUMMARY:Tagesausflug Seleger Moor
DESCRIPTION:Anmeldung bis 6. Juni an Susanne Geiser \nTel. 079 769 40 60 \n 
URL:https://kirche-heimberg.ch/event/tagesausflug-seleger-moor/
LOCATION:Kirche Heimberg\, Schulstrasse 5\, Heimberg\, 3627\, Schweiz
CATEGORIES:Senioren,Senioren-Nachmittage
END:VEVENT
BEGIN:VEVENT
DTSTART;TZID=Europe/Zurich:20240616T093000
DTEND;TZID=Europe/Zurich:20240616T110000
DTSTAMP:20260421T124837
CREATED:20240405T133000Z
LAST-MODIFIED:20240508T135658Z
UID:10000181-1718530200-1718535600@kirche-heimberg.ch
SUMMARY:Morgengottesdienst
DESCRIPTION:mit Pfr. Andreas Losch\nmit Taufe\nMusik: Jugendmusik \n 
URL:https://kirche-heimberg.ch/event/morgengottesdienst-12/
LOCATION:Kirche Heimberg\, Schulstrasse 5\, Heimberg\, 3627\, Schweiz
CATEGORIES:Gottesdienst
END:VEVENT
BEGIN:VEVENT
DTSTART;TZID=Europe/Zurich:20240604T200000
DTEND;TZID=Europe/Zurich:20240604T210000
DTSTAMP:20260421T124837
CREATED:20231227T141808Z
LAST-MODIFIED:20231227T141808Z
UID:10000123-1717531200-1717534800@kirche-heimberg.ch
SUMMARY:Andacht zu Gewalt und Krieg in der Welt
DESCRIPTION:mit Pfr. Michael Albe
URL:https://kirche-heimberg.ch/event/andacht-zu-gewalt-und-krieg-in-der-welt-7/
LOCATION:Kirche Heimberg\, Schulstrasse 5\, Heimberg\, 3627\, Schweiz
CATEGORIES:Gottesdienst
END:VEVENT
BEGIN:VEVENT
DTSTART;TZID=Europe/Zurich:20240602T093000
DTEND;TZID=Europe/Zurich:20240602T110000
DTSTAMP:20260421T124837
CREATED:20240405T132335Z
LAST-MODIFIED:20240405T132335Z
UID:10000179-1717320600-1717326000@kirche-heimberg.ch
SUMMARY:Morgengottesdienst
DESCRIPTION:mit Pfr. Michael Albe\nMusik: Corinna Bühler\, Orgel
URL:https://kirche-heimberg.ch/event/morgengottesdienst-10/
LOCATION:Kirche Heimberg\, Schulstrasse 5\, Heimberg\, 3627\, Schweiz
CATEGORIES:Gottesdienst
END:VEVENT
BEGIN:VEVENT
DTSTART;TZID=Europe/Zurich:20240526T093000
DTEND;TZID=Europe/Zurich:20240526T110000
DTSTAMP:20260421T124837
CREATED:20240405T132017Z
LAST-MODIFIED:20240405T132211Z
UID:10000178-1716715800-1716721200@kirche-heimberg.ch
SUMMARY:Konfirmations-Gottesdienst
DESCRIPTION:mit Katechetin/Prädikantin Regula Berger\nMusik: Corinna Bühler\, Orgel
URL:https://kirche-heimberg.ch/event/konfirmation/
LOCATION:Kirche Heimberg\, Schulstrasse 5\, Heimberg\, 3627\, Schweiz
CATEGORIES:Gottesdienst
END:VEVENT
BEGIN:VEVENT
DTSTART;TZID=Europe/Zurich:20240519T093000
DTEND;TZID=Europe/Zurich:20240519T110000
DTSTAMP:20260421T124837
CREATED:20240405T131756Z
LAST-MODIFIED:20240405T131756Z
UID:10000177-1716111000-1716116400@kirche-heimberg.ch
SUMMARY:Pfingst-Gottesdienst
DESCRIPTION:mit Pfr. Andreas Losch\nMusik: Raphael Becker\, Orgel
URL:https://kirche-heimberg.ch/event/pfingst-gottesdienst/
LOCATION:Kirche Heimberg\, Schulstrasse 5\, Heimberg\, 3627\, Schweiz
CATEGORIES:Gottesdienst
END:VEVENT
BEGIN:VEVENT
DTSTART;TZID=Europe/Zurich:20240509T093000
DTEND;TZID=Europe/Zurich:20240509T110000
DTSTAMP:20260421T124837
CREATED:20240116T132632Z
LAST-MODIFIED:20240116T133032Z
UID:10000163-1715247000-1715252400@kirche-heimberg.ch
SUMMARY:Auffahrts-Gottesdienst
DESCRIPTION:mit Pfr. Michael Albe\nMusik: Raphael Becker\, Orgel
URL:https://kirche-heimberg.ch/event/auffahrts-gottesdienst/
LOCATION:Kirche Heimberg\, Schulstrasse 5\, Heimberg\, 3627\, Schweiz
CATEGORIES:Gottesdienst
END:VEVENT
BEGIN:VEVENT
DTSTART;TZID=Europe/Zurich:20240507T200000
DTEND;TZID=Europe/Zurich:20240507T210000
DTSTAMP:20260421T124837
CREATED:20231227T141756Z
LAST-MODIFIED:20231227T141756Z
UID:10000122-1715112000-1715115600@kirche-heimberg.ch
SUMMARY:Andacht zu Gewalt und Krieg in der Welt
DESCRIPTION:mit Pfr. Michael Albe
URL:https://kirche-heimberg.ch/event/andacht-zu-gewalt-und-krieg-in-der-welt-6/
LOCATION:Kirche Heimberg\, Schulstrasse 5\, Heimberg\, 3627\, Schweiz
CATEGORIES:Gottesdienst
END:VEVENT
BEGIN:VEVENT
DTSTART;TZID=Europe/Zurich:20240505T093000
DTEND;TZID=Europe/Zurich:20240505T110000
DTSTAMP:20260421T124837
CREATED:20240116T132535Z
LAST-MODIFIED:20240116T132945Z
UID:10000162-1714901400-1714906800@kirche-heimberg.ch
SUMMARY:Konfirmations-Gottesdienst
DESCRIPTION:mit Pfr. Andreas Losch\nKonfirmation und Taufe\nMusik: Ruth Blaser\, Orgel
URL:https://kirche-heimberg.ch/event/konfirmations-gottesdienst-2/
LOCATION:Kirche Heimberg\, Schulstrasse 5\, Heimberg\, 3627\, Schweiz
CATEGORIES:Gottesdienst
END:VEVENT
BEGIN:VEVENT
DTSTART;TZID=Europe/Zurich:20240428T190000
DTEND;TZID=Europe/Zurich:20240428T200000
DTSTAMP:20260421T124837
CREATED:20240116T132422Z
LAST-MODIFIED:20240320T152315Z
UID:10000161-1714330800-1714334400@kirche-heimberg.ch
SUMMARY:Abendgottesdienst
DESCRIPTION:mit Pfr. Michael Albe\nMusik: Ruth Blaser\, Orgel
URL:https://kirche-heimberg.ch/event/abendgottesdienst-5/
LOCATION:Kirche Heimberg\, Schulstrasse 5\, Heimberg\, 3627\, Schweiz
CATEGORIES:Gottesdienst
END:VEVENT
BEGIN:VEVENT
DTSTART;TZID=Europe/Zurich:20240422T080000
DTEND;TZID=Europe/Zurich:20240422T170000
DTSTAMP:20260421T124837
CREATED:20240422T121602Z
LAST-MODIFIED:20240422T122020Z
UID:10000214-1713772800-1713805200@kirche-heimberg.ch
SUMMARY:Seniorenferientage- Reisedaten
DESCRIPTION:Die Reise findet vom Freitag\, 6. bis Montag\, 9. September statt. \nInfos Folgen
URL:https://kirche-heimberg.ch/event/seniorenferientage-reisedaten/
LOCATION:Kirche Heimberg\, Schulstrasse 5\, Heimberg\, 3627\, Schweiz
END:VEVENT
BEGIN:VEVENT
DTSTART;TZID=Europe/Zurich:20240421T093000
DTEND;TZID=Europe/Zurich:20240421T110000
DTSTAMP:20260421T124837
CREATED:20240116T132331Z
LAST-MODIFIED:20240116T134144Z
UID:10000160-1713691800-1713697200@kirche-heimberg.ch
SUMMARY:Morgengottesdienst
DESCRIPTION:mit Pfr. Michael Albe\nMusik: Corinna Bühler\, Orgel\nAnschliessend Kirchenkaffee
URL:https://kirche-heimberg.ch/event/morgengottesdienst-9/
LOCATION:Kirche Heimberg\, Schulstrasse 5\, Heimberg\, 3627\, Schweiz
CATEGORIES:Gottesdienst
END:VEVENT
BEGIN:VEVENT
DTSTART;TZID=Europe/Zurich:20240407T093000
DTEND;TZID=Europe/Zurich:20240407T110000
DTSTAMP:20260421T124837
CREATED:20240116T132204Z
LAST-MODIFIED:20240320T151705Z
UID:10000158-1712482200-1712487600@kirche-heimberg.ch
SUMMARY:Morgengottesdienst
DESCRIPTION:mit Pfr. Andreas Losch\nGottesdienst mit Taufe\nMusik: Raphael Becker\, Orgel\nAnschliessend Kirchenkaffee
URL:https://kirche-heimberg.ch/event/morgengottesdienst-7/
LOCATION:Kirche Heimberg\, Schulstrasse 5\, Heimberg\, 3627\, Schweiz
CATEGORIES:Gottesdienst
END:VEVENT
END:VCALENDAR