BEGIN:VCALENDAR
VERSION:2.0
PRODID:-//Reformierte Kirchgemeinde Heimberg - ECPv6.15.20//NONSGML v1.0//EN
CALSCALE:GREGORIAN
METHOD:PUBLISH
X-WR-CALNAME:Reformierte Kirchgemeinde Heimberg
X-ORIGINAL-URL:https://kirche-heimberg.ch
X-WR-CALDESC:Veranstaltungen für Reformierte Kirchgemeinde Heimberg
REFRESH-INTERVAL;VALUE=DURATION:PT1H
X-Robots-Tag:noindex
X-PUBLISHED-TTL:PT1H
BEGIN:VTIMEZONE
TZID:Europe/Zurich
BEGIN:DAYLIGHT
TZOFFSETFROM:+0100
TZOFFSETTO:+0200
TZNAME:CEST
DTSTART:20220327T010000
END:DAYLIGHT
BEGIN:STANDARD
TZOFFSETFROM:+0200
TZOFFSETTO:+0100
TZNAME:CET
DTSTART:20221030T010000
END:STANDARD
BEGIN:DAYLIGHT
TZOFFSETFROM:+0100
TZOFFSETTO:+0200
TZNAME:CEST
DTSTART:20230326T010000
END:DAYLIGHT
BEGIN:STANDARD
TZOFFSETFROM:+0200
TZOFFSETTO:+0100
TZNAME:CET
DTSTART:20231029T010000
END:STANDARD
BEGIN:DAYLIGHT
TZOFFSETFROM:+0100
TZOFFSETTO:+0200
TZNAME:CEST
DTSTART:20240331T010000
END:DAYLIGHT
BEGIN:STANDARD
TZOFFSETFROM:+0200
TZOFFSETTO:+0100
TZNAME:CET
DTSTART:20241027T010000
END:STANDARD
BEGIN:DAYLIGHT
TZOFFSETFROM:+0100
TZOFFSETTO:+0200
TZNAME:CEST
DTSTART:20250330T010000
END:DAYLIGHT
BEGIN:STANDARD
TZOFFSETFROM:+0200
TZOFFSETTO:+0100
TZNAME:CET
DTSTART:20251026T010000
END:STANDARD
END:VTIMEZONE
BEGIN:VEVENT
DTSTART;TZID=Europe/Zurich:20240507T200000
DTEND;TZID=Europe/Zurich:20240507T210000
DTSTAMP:20260421T152712
CREATED:20231227T141756Z
LAST-MODIFIED:20231227T141756Z
UID:10000122-1715112000-1715115600@kirche-heimberg.ch
SUMMARY:Andacht zu Gewalt und Krieg in der Welt
DESCRIPTION:mit Pfr. Michael Albe
URL:https://kirche-heimberg.ch/event/andacht-zu-gewalt-und-krieg-in-der-welt-6/
LOCATION:Kirche Heimberg\, Schulstrasse 5\, Heimberg\, 3627\, Schweiz
CATEGORIES:Gottesdienst
END:VEVENT
BEGIN:VEVENT
DTSTART;TZID=Europe/Zurich:20240505T093000
DTEND;TZID=Europe/Zurich:20240505T110000
DTSTAMP:20260421T152712
CREATED:20240116T132535Z
LAST-MODIFIED:20240116T132945Z
UID:10000162-1714901400-1714906800@kirche-heimberg.ch
SUMMARY:Konfirmations-Gottesdienst
DESCRIPTION:mit Pfr. Andreas Losch\nKonfirmation und Taufe\nMusik: Ruth Blaser\, Orgel
URL:https://kirche-heimberg.ch/event/konfirmations-gottesdienst-2/
LOCATION:Kirche Heimberg\, Schulstrasse 5\, Heimberg\, 3627\, Schweiz
CATEGORIES:Gottesdienst
END:VEVENT
BEGIN:VEVENT
DTSTART;TZID=Europe/Zurich:20240428T190000
DTEND;TZID=Europe/Zurich:20240428T200000
DTSTAMP:20260421T152712
CREATED:20240116T132422Z
LAST-MODIFIED:20240320T152315Z
UID:10000161-1714330800-1714334400@kirche-heimberg.ch
SUMMARY:Abendgottesdienst
DESCRIPTION:mit Pfr. Michael Albe\nMusik: Ruth Blaser\, Orgel
URL:https://kirche-heimberg.ch/event/abendgottesdienst-5/
LOCATION:Kirche Heimberg\, Schulstrasse 5\, Heimberg\, 3627\, Schweiz
CATEGORIES:Gottesdienst
END:VEVENT
BEGIN:VEVENT
DTSTART;TZID=Europe/Zurich:20240422T080000
DTEND;TZID=Europe/Zurich:20240422T170000
DTSTAMP:20260421T152712
CREATED:20240422T121602Z
LAST-MODIFIED:20240422T122020Z
UID:10000214-1713772800-1713805200@kirche-heimberg.ch
SUMMARY:Seniorenferientage- Reisedaten
DESCRIPTION:Die Reise findet vom Freitag\, 6. bis Montag\, 9. September statt. \nInfos Folgen
URL:https://kirche-heimberg.ch/event/seniorenferientage-reisedaten/
LOCATION:Kirche Heimberg\, Schulstrasse 5\, Heimberg\, 3627\, Schweiz
END:VEVENT
BEGIN:VEVENT
DTSTART;TZID=Europe/Zurich:20240421T093000
DTEND;TZID=Europe/Zurich:20240421T110000
DTSTAMP:20260421T152712
CREATED:20240116T132331Z
LAST-MODIFIED:20240116T134144Z
UID:10000160-1713691800-1713697200@kirche-heimberg.ch
SUMMARY:Morgengottesdienst
DESCRIPTION:mit Pfr. Michael Albe\nMusik: Corinna Bühler\, Orgel\nAnschliessend Kirchenkaffee
URL:https://kirche-heimberg.ch/event/morgengottesdienst-9/
LOCATION:Kirche Heimberg\, Schulstrasse 5\, Heimberg\, 3627\, Schweiz
CATEGORIES:Gottesdienst
END:VEVENT
BEGIN:VEVENT
DTSTART;TZID=Europe/Zurich:20240407T093000
DTEND;TZID=Europe/Zurich:20240407T110000
DTSTAMP:20260421T152712
CREATED:20240116T132204Z
LAST-MODIFIED:20240320T151705Z
UID:10000158-1712482200-1712487600@kirche-heimberg.ch
SUMMARY:Morgengottesdienst
DESCRIPTION:mit Pfr. Andreas Losch\nGottesdienst mit Taufe\nMusik: Raphael Becker\, Orgel\nAnschliessend Kirchenkaffee
URL:https://kirche-heimberg.ch/event/morgengottesdienst-7/
LOCATION:Kirche Heimberg\, Schulstrasse 5\, Heimberg\, 3627\, Schweiz
CATEGORIES:Gottesdienst
END:VEVENT
BEGIN:VEVENT
DTSTART;TZID=Europe/Zurich:20240402T200000
DTEND;TZID=Europe/Zurich:20240402T210000
DTSTAMP:20260421T152712
CREATED:20231227T141741Z
LAST-MODIFIED:20231227T141741Z
UID:10000121-1712088000-1712091600@kirche-heimberg.ch
SUMMARY:Andacht zu Gewalt und Krieg in der Welt
DESCRIPTION:mit Pfr. Michael Albe
URL:https://kirche-heimberg.ch/event/andacht-zu-gewalt-und-krieg-in-der-welt-5/
LOCATION:Kirche Heimberg\, Schulstrasse 5\, Heimberg\, 3627\, Schweiz
CATEGORIES:Gottesdienst
END:VEVENT
BEGIN:VEVENT
DTSTART;TZID=Europe/Zurich:20240331T093000
DTEND;TZID=Europe/Zurich:20240331T113000
DTSTAMP:20260421T152712
CREATED:20240116T132045Z
LAST-MODIFIED:20240311T172134Z
UID:10000157-1711877400-1711884600@kirche-heimberg.ch
SUMMARY:Ostersonntag
DESCRIPTION:Osterfest für Familien: Kinderschminken\, Basteln\, Ostereiersuche\, Wettbewerb und vieles mehr. \nPfrn. Yvonne Witschi\nMusik: Corinna Bühler\, Orgel \nFlyer Osterfest 2024
URL:https://kirche-heimberg.ch/event/ostersonntag/
LOCATION:Kirche Heimberg\, Schulstrasse 5\, Heimberg\, 3627\, Schweiz
CATEGORIES:Gottesdienst
ATTACH;FMTTYPE=image/png:https://kirche-heimberg.ch/wp-content/uploads/2024/01/Screenshot-2024-03-11-182057.png
END:VEVENT
BEGIN:VEVENT
DTSTART;TZID=Europe/Zurich:20240329T093000
DTEND;TZID=Europe/Zurich:20240329T110000
DTSTAMP:20260421T152712
CREATED:20240116T131742Z
LAST-MODIFIED:20240116T131742Z
UID:10000155-1711704600-1711710000@kirche-heimberg.ch
SUMMARY:Karfreitag
DESCRIPTION:Gottesdienst mit Abendmahl\nmit Pfr. Andreas Losch\nMusik: Ruth Blaser\, Orgel
URL:https://kirche-heimberg.ch/event/karfreitag/
LOCATION:Kirche Heimberg\, Schulstrasse 5\, Heimberg\, 3627\, Schweiz
CATEGORIES:Gottesdienst
END:VEVENT
BEGIN:VEVENT
DTSTART;TZID=Europe/Zurich:20240324T093000
DTEND;TZID=Europe/Zurich:20240324T110000
DTSTAMP:20260421T152712
CREATED:20240116T130856Z
LAST-MODIFIED:20240311T171512Z
UID:10000153-1711272600-1711278000@kirche-heimberg.ch
SUMMARY:Palmsonntag - Goldene Konfirmation
DESCRIPTION:mit Abendmahl\nmit Pfr. Michael Albe\nMusik: Ruth Blaser\, Orgel\nAnschliessend Apéro \n 
URL:https://kirche-heimberg.ch/event/morgengottesdienst-5/
LOCATION:Kirche Heimberg\, Schulstrasse 5\, Heimberg\, 3627\, Schweiz
CATEGORIES:Gottesdienst
ATTACH;FMTTYPE=image/jpeg:https://kirche-heimberg.ch/wp-content/uploads/2024/01/thumbnail_Kruege-goldene-Konfirmation.jpg
END:VEVENT
BEGIN:VEVENT
DTSTART;TZID=Europe/Zurich:20240317T093000
DTEND;TZID=Europe/Zurich:20240317T110000
DTSTAMP:20260421T152712
CREATED:20240116T131616Z
LAST-MODIFIED:20240116T131616Z
UID:10000154-1710667800-1710673200@kirche-heimberg.ch
SUMMARY:Morgengottesdienst
DESCRIPTION:mit Pfr. Michael Albe\nMusik: Raphael Becker\, Orgel\nAnschliessend Kirchenkaffee
URL:https://kirche-heimberg.ch/event/morgengottesdienst-6/
LOCATION:Kirche Heimberg\, Schulstrasse 5\, Heimberg\, 3627\, Schweiz
CATEGORIES:Gottesdienst
END:VEVENT
BEGIN:VEVENT
DTSTART;TZID=Europe/Zurich:20240316T100000
DTEND;TZID=Europe/Zurich:20240316T104500
DTSTAMP:20260421T152712
CREATED:20240221T151516Z
LAST-MODIFIED:20240221T151516Z
UID:10000170-1710583200-1710585900@kirche-heimberg.ch
SUMMARY:Fyre mit de Chlyne
DESCRIPTION:We dr Esel verzeut …\nAb 9.30 Uhr gemütliches Ankommen bei Tee\, Kaffee und kleinen Leckereien. \nFeier mit biblischer Geschichte\, Liedern\, Kerzen und Gebet. \nEin Angebot für Kinder von 3 bis 7 Jahren und ihre Eltern\, Geschwister\, Grosseltern\, Gotte\, Götti … \nPfrn. Yvonne Witschi\, Tel. 033 437 74 27.
URL:https://kirche-heimberg.ch/event/fyre-mit-de-chlyne-2/
LOCATION:Kirche Heimberg\, Schulstrasse 5\, Heimberg\, 3627\, Schweiz
CATEGORIES:Chlyne,Kinder
END:VEVENT
BEGIN:VEVENT
DTSTART;TZID=Europe/Zurich:20240310T170000
DTEND;TZID=Europe/Zurich:20240310T180000
DTSTAMP:20260421T152712
CREATED:20240116T130104Z
LAST-MODIFIED:20240116T130104Z
UID:10000152-1710090000-1710093600@kirche-heimberg.ch
SUMMARY:Abendgottesdienst
DESCRIPTION:mit Pfr. Michael Albe\nMusik: Flötengruppe \n 
URL:https://kirche-heimberg.ch/event/abendgottesdienst-4/
LOCATION:Kirche Heimberg\, Schulstrasse 5\, Heimberg\, 3627\, Schweiz
CATEGORIES:Gottesdienst
END:VEVENT
BEGIN:VEVENT
DTSTART;TZID=Europe/Zurich:20240307T193000
DTEND;TZID=Europe/Zurich:20240307T210000
DTSTAMP:20260421T152712
CREATED:20240225T142334Z
LAST-MODIFIED:20240225T142334Z
UID:10000171-1709839800-1709845200@kirche-heimberg.ch
SUMMARY:Da bin ich dabei
DESCRIPTION:Ein Abend für Freiwillige in unserer Gemeinde und alle\, die sich für ein Engagement interessieren \nElias Rüegsegger (29) und Heidi Bühler-Naef (70) erzählen was bei der Freiwilligenarbeit wichtig ist und wie «UND Generationentandem» diese anbietet. Wir hören Ideen\, sich in Heimberg zu engagieren. Der anschliessende Apéro lädt zum Austausch ein. \nDonnerstag\, 7. März 19:30 Uhr in der Kirche\nKommen Sie einfach vorbei!\nWeitere Informationen bei Susanne Geiser\, Verantwortliche Diakonie\, Tel. 033 437 00 17 \nFreiwilligenabend
URL:https://kirche-heimberg.ch/event/da-bin-ich-dabei/
LOCATION:Kirche Heimberg\, Schulstrasse 5\, Heimberg\, 3627\, Schweiz
CATEGORIES:Erwachsene,Kirchgemeinde,Senioren
ATTACH;FMTTYPE=image/png:https://kirche-heimberg.ch/wp-content/uploads/2024/02/ruegseggerbuehler.png
END:VEVENT
BEGIN:VEVENT
DTSTART;TZID=Europe/Zurich:20240305T200000
DTEND;TZID=Europe/Zurich:20240305T210000
DTSTAMP:20260421T152712
CREATED:20231227T141727Z
LAST-MODIFIED:20231227T141727Z
UID:10000120-1709668800-1709672400@kirche-heimberg.ch
SUMMARY:Andacht zu Gewalt und Krieg in der Welt
DESCRIPTION:mit Pfr. Michael Albe
URL:https://kirche-heimberg.ch/event/andacht-zu-gewalt-und-krieg-in-der-welt-4/
LOCATION:Kirche Heimberg\, Schulstrasse 5\, Heimberg\, 3627\, Schweiz
CATEGORIES:Gottesdienst
END:VEVENT
BEGIN:VEVENT
DTSTART;TZID=Europe/Zurich:20240303T093000
DTEND;TZID=Europe/Zurich:20240303T110000
DTSTAMP:20260421T152712
CREATED:20240116T125916Z
LAST-MODIFIED:20240116T125916Z
UID:10000150-1709458200-1709463600@kirche-heimberg.ch
SUMMARY:KUW I-Gottesdienst
DESCRIPTION:mit Regula Berger und Schüler/-innen der 2. Klassen\nThema: Taufe\nMusik: Corinna Bühler\, Orgel\nAnschliessend Kirchenkaffee \n 
URL:https://kirche-heimberg.ch/event/kuw-i-gottesdienst/
LOCATION:Kirche Heimberg\, Schulstrasse 5\, Heimberg\, 3627\, Schweiz
CATEGORIES:Gottesdienst
END:VEVENT
BEGIN:VEVENT
DTSTART;TZID=Europe/Zurich:20240301T193000
DTEND;TZID=Europe/Zurich:20240301T210000
DTSTAMP:20260421T152712
CREATED:20240116T125632Z
LAST-MODIFIED:20240221T074449Z
UID:10000149-1709321400-1709326800@kirche-heimberg.ch
SUMMARY:Weltgebetstag
DESCRIPTION:Liturgie aus Palästina zum Thema: „… durch das Band des Friedens“\nMusik: Raphael Becker \nWELTGEBETSTAG 2024
URL:https://kirche-heimberg.ch/event/weltgebetstag/
LOCATION:Kirche Heimberg\, Schulstrasse 5\, Heimberg\, 3627\, Schweiz
CATEGORIES:Gottesdienst
ATTACH;FMTTYPE=image/jpeg:https://kirche-heimberg.ch/wp-content/uploads/2024/01/WELTGEBETSTAG-2024-4-1.jpg
END:VEVENT
BEGIN:VEVENT
DTSTART;TZID=Europe/Zurich:20240229T121500
DTEND;TZID=Europe/Zurich:20240229T140000
DTSTAMP:20260421T152712
CREATED:20231126T212829Z
LAST-MODIFIED:20231126T212829Z
UID:10000055-1709208900-1709215200@kirche-heimberg.ch
SUMMARY:Suppenzmittag für Jung und Alt
DESCRIPTION:Anstelle des Suppenzmittags im Rahmen der Seniorennachmittage lädt die Kirchgemeinde während der Wintermonate Jung und Alt zu einer feinen Suppe in der Kirche ein. \nDie Suppe ist gratis – Kollekte jeweils zugunsten eines Hilfswerks. \nAnmeldung bis Mittwochmittag bei: Susanne Geiser\, Leiterin Altersarbeit\, Tel. 079 769 40 60\, susanne.geiser@kirche-heimberg.ch
URL:https://kirche-heimberg.ch/event/suppenzmittag-fuer-jung-und-alt-2/
LOCATION:Kirche Heimberg\, Schulstrasse 5\, Heimberg\, 3627\, Schweiz
CATEGORIES:Diverses,Gemeinsam essen
END:VEVENT
BEGIN:VEVENT
DTSTART;TZID=Europe/Zurich:20240225T170000
DTEND;TZID=Europe/Zurich:20240225T180000
DTSTAMP:20260421T152712
CREATED:20240116T125133Z
LAST-MODIFIED:20240221T073738Z
UID:10000148-1708880400-1708884000@kirche-heimberg.ch
SUMMARY:Abendgottesdienst
DESCRIPTION:mit Pfr. Andreas Losch und unter Mitwirkung der Konfirmandinnen und Konfirmanden. Thema: « Nächstenliebe».\nMusik: Ruth Blaser\, Orgel \nAnschl. Apéro \n 
URL:https://kirche-heimberg.ch/event/abendgottesdienst-3/
LOCATION:Kirche Heimberg\, Schulstrasse 5\, Heimberg\, 3627\, Schweiz
CATEGORIES:Gottesdienst
END:VEVENT
BEGIN:VEVENT
DTSTART;TZID=Europe/Zurich:20240218T093000
DTEND;TZID=Europe/Zurich:20240218T103000
DTSTAMP:20260421T152712
CREATED:20240116T125020Z
LAST-MODIFIED:20240128T095301Z
UID:10000147-1708248600-1708252200@kirche-heimberg.ch
SUMMARY:Morgengottesdienst
DESCRIPTION:mit Pfr. Andreas Losch\nMusik: Klezmer PauWau\nAnschliessend Apéro \nMusik zwischen Melancholie und Fröhlichkeit als berührende Sprache der Seele. \nFlyer
URL:https://kirche-heimberg.ch/event/morgengottesdienst-4/
LOCATION:Kirche Heimberg\, Schulstrasse 5\, Heimberg\, 3627\, Schweiz
CATEGORIES:Gottesdienst,Kulturelles
ATTACH;FMTTYPE=image/jpeg:https://kirche-heimberg.ch/wp-content/uploads/2024/01/Pauwau.jpg
END:VEVENT
BEGIN:VEVENT
DTSTART;TZID=Europe/Zurich:20240204T093000
DTEND;TZID=Europe/Zurich:20240204T103000
DTSTAMP:20260421T152712
CREATED:20231227T124105Z
LAST-MODIFIED:20231227T130950Z
UID:10000069-1707039000-1707042600@kirche-heimberg.ch
SUMMARY:Kirchensonntag
DESCRIPTION:zum Thema „Hoffnung – Kraftquelle in unsicheren Zeiten“.\nMusik: Raphael Becker\, Orgel und Kirchenchor.\nSeparates Kinderprogramm
URL:https://kirche-heimberg.ch/event/kirchensonntag-2/
LOCATION:Kirche Heimberg\, Schulstrasse 5\, Heimberg\, 3627\, Schweiz
CATEGORIES:Gottesdienst
END:VEVENT
BEGIN:VEVENT
DTSTART;TZID=Europe/Zurich:20240128T093000
DTEND;TZID=Europe/Zurich:20240128T110000
DTSTAMP:20260421T152712
CREATED:20231227T123715Z
LAST-MODIFIED:20240111T200848Z
UID:10000067-1706434200-1706439600@kirche-heimberg.ch
SUMMARY:Gottesdienst für Chly u Gross
DESCRIPTION:mit Pfrn. Yvonne Witschi. Thema: „Wie sieht ein Walfisch von innen aus? Und wie riecht es da?“.\nAbgabe der gläsernen Tauftauben.\nKrabbelbereich für die ganz Kleinen.\nAnschliessend Apéro \nFlyer Familiengottesdienst
URL:https://kirche-heimberg.ch/event/gottesdienst-fuer-chly-u-gross/
LOCATION:Kirche Heimberg\, Schulstrasse 5\, Heimberg\, 3627\, Schweiz
CATEGORIES:Chlyne,Gottesdienst
ATTACH;FMTTYPE=image/png:https://kirche-heimberg.ch/wp-content/uploads/2024/01/GDChlyGross.png
END:VEVENT
BEGIN:VEVENT
DTSTART;TZID=Europe/Zurich:20240121T170000
DTEND;TZID=Europe/Zurich:20240121T180000
DTSTAMP:20260421T152712
CREATED:20231227T123413Z
LAST-MODIFIED:20231227T130850Z
UID:10000066-1705856400-1705860000@kirche-heimberg.ch
SUMMARY:Abendgottesdienst
DESCRIPTION:mit Pfr. Andreas Losch.\nMitwirkung: Flötengruppe
URL:https://kirche-heimberg.ch/event/abendgottesdienst-2/
LOCATION:Kirche Heimberg\, Schulstrasse 5\, Heimberg\, 3627\, Schweiz
CATEGORIES:Gottesdienst
END:VEVENT
BEGIN:VEVENT
DTSTART;TZID=Europe/Zurich:20240118T121500
DTEND;TZID=Europe/Zurich:20240118T140000
DTSTAMP:20260421T152712
CREATED:20231126T212333Z
LAST-MODIFIED:20231126T212333Z
UID:10000050-1705580100-1705586400@kirche-heimberg.ch
SUMMARY:Suppenzmittag für Jung und Alt
DESCRIPTION:Anstelle des Suppenzmittags im Rahmen der Seniorennachmittage lädt die Kirchgemeinde während der Wintermonate Jung und Alt zu einer feinen Suppe in der Kirche ein. \nDie Suppe ist gratis – Kollekte jeweils zugunsten eines Hilfswerks. \nAnmeldung bis Mittwochmittag bei: Susanne Geiser\, Leiterin Altersarbeit\, Tel. 079 769 40 60\, susanne.geiser@kirche-heimberg.ch
URL:https://kirche-heimberg.ch/event/suppenzmittag-fuer-jung-und-alt/
LOCATION:Kirche Heimberg\, Schulstrasse 5\, Heimberg\, 3627\, Schweiz
CATEGORIES:Diverses,Gemeinsam essen
END:VEVENT
BEGIN:VEVENT
DTSTART;TZID=Europe/Zurich:20240109T200000
DTEND;TZID=Europe/Zurich:20240109T210000
DTSTAMP:20260421T152712
CREATED:20231227T122406Z
LAST-MODIFIED:20231227T122406Z
UID:10000064-1704830400-1704834000@kirche-heimberg.ch
SUMMARY:Andacht zu Gewalt und Krieg in der Welt
DESCRIPTION:mit Pfr. Michael Albe
URL:https://kirche-heimberg.ch/event/andacht-zu-gewalt-und-krieg-in-der-welt/
LOCATION:Kirche Heimberg\, Schulstrasse 5\, Heimberg\, 3627\, Schweiz
CATEGORIES:Gottesdienst
END:VEVENT
BEGIN:VEVENT
DTSTART;TZID=Europe/Zurich:20240107T093000
DTEND;TZID=Europe/Zurich:20240107T140000
DTSTAMP:20260421T152712
CREATED:20231227T122141Z
LAST-MODIFIED:20240103T125553Z
UID:10000062-1704619800-1704636000@kirche-heimberg.ch
SUMMARY:Amtseinsetzungsfeier
DESCRIPTION:von Pfrn. Yvonne Witschi durch Pfrn. Mirja Zimmermann (Sumiswald).\nMusik: Kirchenchor und Raphael Becker\, Orgel.\nKinderhütedienst während des Gottesdienstes. \nAnschliessend Apéro und Mittagessen in der Aula.
URL:https://kirche-heimberg.ch/event/amtseinsetzungsfeier/
LOCATION:Kirche Heimberg\, Schulstrasse 5\, Heimberg\, 3627\, Schweiz
CATEGORIES:Gottesdienst
END:VEVENT
BEGIN:VEVENT
DTSTART;TZID=Europe/Zurich:20231231T093000
DTEND;TZID=Europe/Zurich:20231231T103000
DTSTAMP:20260421T152713
CREATED:20231126T202604Z
LAST-MODIFIED:20231126T222132Z
UID:10000040-1704015000-1704018600@kirche-heimberg.ch
SUMMARY:Silvester
DESCRIPTION:mit Pfr. Andreas Losch\nMusik: Raphael Becker\, Orgel
URL:https://kirche-heimberg.ch/event/silvester/
LOCATION:Kirche Heimberg\, Schulstrasse 5\, Heimberg\, 3627\, Schweiz
CATEGORIES:Gottesdienst
END:VEVENT
BEGIN:VEVENT
DTSTART;TZID=Europe/Zurich:20231224T223000
DTEND;TZID=Europe/Zurich:20231224T233000
DTSTAMP:20260421T152713
CREATED:20231126T202217Z
LAST-MODIFIED:20231126T202217Z
UID:10000038-1703457000-1703460600@kirche-heimberg.ch
SUMMARY:Christnachtsfeier
DESCRIPTION:mit Pfr. Andreas Losch\nMusik: C. Bühler\, Orgel; Th. Fehlbaum\, Altblockflöte
URL:https://kirche-heimberg.ch/event/christnachtsfeier/
LOCATION:Kirche Heimberg\, Schulstrasse 5\, Heimberg\, 3627\, Schweiz
CATEGORIES:Gottesdienst
END:VEVENT
BEGIN:VEVENT
DTSTART;TZID=Europe/Zurich:20231224T160000
DTEND;TZID=Europe/Zurich:20231224T170000
DTSTAMP:20260421T152713
CREATED:20231126T202129Z
LAST-MODIFIED:20231126T202129Z
UID:10000037-1703433600-1703437200@kirche-heimberg.ch
SUMMARY:Mitmach-Weihnachtsfeier für Chli u Gross
DESCRIPTION:mit Pfrn. Yvonne Witschi und Team
URL:https://kirche-heimberg.ch/event/mitmach-weihnachtsfeier-fuer-chli-u-gross/
LOCATION:Kirche Heimberg\, Schulstrasse 5\, Heimberg\, 3627\, Schweiz
CATEGORIES:Gottesdienst
END:VEVENT
BEGIN:VEVENT
DTSTART;TZID=Europe/Zurich:20231219T170000
DTEND;TZID=Europe/Zurich:20231219T180000
DTSTAMP:20260421T152713
CREATED:20231126T211859Z
LAST-MODIFIED:20231126T211859Z
UID:10000047-1703005200-1703008800@kirche-heimberg.ch
SUMMARY:Friedenslicht
DESCRIPTION:Friedenslicht\nOffizielle Ankunft in der Schweiz: Sonntag\, 17. Dezember\, ab 17 Uhr. \nDas Friedenslicht kann zum zweiten Mal in Heimberg in der Kirche abgeholt werden: Montag\, 18.12.\, 9 bis 10 Uhr; Dienstag\, 19.12.\, 17 bis 18 Uhr und täglich vor der Eingangstür der Kirche. \nInformationen zum Friedenslicht: www.friedenslicht.ch \n 
URL:https://kirche-heimberg.ch/event/friedenslicht-2/
LOCATION:Kirche Heimberg\, Schulstrasse 5\, Heimberg\, 3627\, Schweiz
CATEGORIES:Spiritualität
END:VEVENT
END:VCALENDAR